Workbook
Name \: #REF!
Name \0: #REF!
Name \a: #REF!
Name \b: [1]SID_NI_5!#REF!
Name \c: [1]SID_NI_5!#REF!
Name \e: #REF!
Name \fagf: #REF!
Name \I: #REF!
Name \p: [1]SID_NI_5!#REF!
Name \q: #REF!
Name \S: [2]COMPOS1!#REF!
Name \y: #N/A
Name ___\i: #REF!
Name ___\i: #REF!
Name ____________________________________PL1: #REF!
Name ___________________________________PL1: #REF!
Name __________________________________PL1: #REF!
Name _________________________________PL1: #REF!
Name ________________________________PL1: #REF!
Name _______________________________PL1: #REF!
Name ______________________________PL1: #REF!
Name _____________________________PL1: #REF!
Name ____________________________PL1: #REF!
Name ___________________________PL1: #REF!
Name __________________________PL1: #REF!
Name _________________________PL1: #REF!
Name _________________________tt1: #N/A
Name ________________________PL1: #REF!
Name ________________________tt1: #N/A
Name _______________________PL1: #REF!
Name _______________________tt1: #N/A
Name ______________________CAP20: #REF!
Name ______________________PL1: #REF!
Name ______________________TB10: #REF!
Name ______________________TCB5: #REF!
Name ______________________tcc4: #REF!
Name ______________________tt1: #N/A
Name _____________________CAP20: #REF!
Name _____________________PL1: #REF!
Name _____________________TB10: #REF!
Name _____________________TCB5: #REF!
Name _____________________tcc4: #REF!
Name _____________________tt1: #N/A
Name ____________________PL1: #REF!
Name ____________________tcc4: #REF!
Name ____________________tt1: #N/A
Name ___________________CAP20: #REF!
Name ___________________PL1: #REF!
Name ___________________TB10: #REF!
Name ___________________TCB5: #REF!
Name ___________________tcc4: #REF!
Name ___________________tt1: #N/A
Name __________________CAP20: #REF!
Name __________________PL1: #REF!
Name __________________TB10: #REF!
Name __________________TCB5: #REF!
Name __________________tcc4: #REF!
Name __________________tt1: #N/A
Name _________________CAP20: #REF!
Name _________________PL1: #REF!

Sheet ORÇAMENTO
E2: Ministério da Integração e do Desenvolvimento Regional
E3: Companhia de Desenvolvimento dos Vales do São Francisco e do Parnaíba
E4: 1ª Superintendência Regional
B5: OBRA: | C5: EXECUÇÃO DAS OBRAS E SERVIÇOS DE CONSTRUÇÃO DE PONTES E GALERIAS, INCLUINDO A CONCLUSÃO DE ESTRUTURAS JÁ INICIADAS, LOCALIZADAS NA ÁREA DA BARRAGEM DE APROVEITAMENTO MÚLTIPLO JEQUITAÍ I, NO MUNICÍPIO DE FRANCISCO DUMONT, NO ESTADO DE MINAS GERAIS - ITEM 1: PONTES A e B | J5: BDI-SERVIÇO % | L5: =BDI!C17 -> 0.2614
B6: DATA: | C6: 46082 | J6: BDI - FORN. % | L6: =BDI!C62 -> 0.15
B7: PLANILHA DE ORÇAMENTAÇÃO
B8: ITEM | C8: CÓDIGO | D8: FONTE | E8: DISCRIMINAÇÃO | F8: TIPO | G8: UNID. | H8: QUANT. | I8: VR.UNIT.S/BDI | J8: PR. UNIT.C/BDI | K8: C. TOT.S/BDI | L8: P. TOT.C/BDI
A9: A | B9: 1 | E9: MOBILIZAÇÃO E SERVIÇOS PRELIMINARES | L9: =ROUND(H9*J9,2) -> 0
A10: A1 | B10: 1.1 | E10: CANTEIRO DE OBRAS
A11: 1 | B11: 1.1.1 | C11: CA0001 | D11: CODEVASF | E11: ADMINISTRAÇÃO LOCAL E MANUTENÇÃO DO CANTEIRO DE OBRAS | F11: SERV | G11: unid. | H11: 1 | I11: =VLOOKUP(A11,CPU!A:P,11,0) -> 475629.65 | J11: =TRUNC(IF(F11="SERV",I11*(1+$L$5),$L$6*I11),2) -> 599959.24 | K11: =TRUNC(H11*I11,2) -> 475629.65 | L11: =TRUNC(H11*J11,2) -> 599959.24
A12: 2 | B12: 1.1.2 | C12: CA0002 | D12: CODEVASF | E12: MOBILIZAÇÃO E DESMOBILIZAÇÃO DE PESSOAL E EQUIPAMENTOS AUTOPROPELIDOS | F12: SERV | G12: unid. | H12: 1 | I12: =VLOOKUP(A12,CPU!A:P,11,0) -> 14376.92 | J12: =TRUNC(IF(F12="SERV",I12*(1+$L$5),$L$6*I12),2) -> 18135.04 | K12: =TRUNC(H12*I12,2) -> 14376.92 | L12: =TRUNC(H12*J12,2) -> 18135.04
A13: 2.5 | B13: 1.1.3 | C13: CA0003 | D13: CODEVASF | E13: MOBILIZAÇÃO E DESMOBILIZAÇÃO DE GUINDASTES ESPECIAIS PARA LANÇAMENTO DAS VIGAS PRÉ-MOLDADAS | F13: SERV | G13: unid. | H13: 4 | I13: =VLOOKUP(A13,CPU!A:P,11,0) -> 60800.17 | J13: =TRUNC(IF(F13="SERV",I13*(1+$L$5),$L$6*I13),2) -> 76693.33 | K13: =TRUNC(H13*I13,2) -> 243200.68 | L13: =TRUNC(H13*J13,2) -> 306773.32
A14: 3 | B14: 1.1.4 | C14: CA0004 | D14: CODEVASF | E14: EXECUÇÃO DE CANTEIRO DE OBRA EM CHAPA DE MADEIRA COMPENSADA, INCLUSIVE MOBILIÁRIO E EQUIPAMENTOS | F14: SERV | G14: unid. | H14: 1 | I14: =VLOOKUP(A14,CPU!A:P,11,0) -> 62450.2 | J14: =TRUNC(IF(F14="SERV",I14*(1+$L$5),$L$6*I14),2) -> 78774.68 | K14: =TRUNC(H14*I14,2) -> 62450.2 | L14: =TRUNC(H14*J14,2) -> 78774.68
A15: 4 | B15: 1.1.5 | C15: 103689 | D15: SINAPI | E15: PLACA DE OBRA EM CHAPA DE ACO GALVANIZADO | F15: SERV | G15: m² | H15: 9 | I15: =VLOOKUP(A15,CPU!A:P,11,0) -> 509.57 | J15: =TRUNC(IF(F15="SERV",I15*(1+$L$5),$L$6*I15),2) -> 642.77 | K15: =TRUNC(H15*I15,2) -> 4586.13 | L15: =TRUNC(H15*J15,2) -> 5784.93
A16: 2.6 | B16: 1.1.6 | C16: CA0005 | D16: CODEVASF | E16: CAMINHONETE COM MOTOR A DIESEL, POTÊNCIA 180 CV, CABINE DUPLA, 4X4 - PARA USO DA FISCALIZAÇÃO | F16: SERV | G16: mês | H16: 10 | I16: =VLOOKUP(A16,CPU!A:P,11,0) -> 4448.05 | J16: =TRUNC(IF(F16="SERV",I16*(1+$L$5),$L$6*I16),2) -> 5610.77 | K16: =TRUNC(H16*I16,2) -> 44480.5 | L16: =TRUNC(H16*J16,2) -> 56107.7
A17: A2 | B17: 1.2 | E17: TRANSPORTE DE EQUIPAMENTOS
A18: 5 | B18: 1.2.1 | C18: 5914640 | D18: SICRO | E18: TRANSPORTE DE EQUIPAMENTOS COM CAVALO MECÂNICO COM SEMI-REBOQUE, CAPACIDADE DE 30T - RODOVIA PAVIMENTADA | F18: SERV | G18: txkm | H18: 20000 | I18: =VLOOKUP(A18,CPU!A:P,11,0) -> 0.58 | J18: =TRUNC(IF(F18="SERV",I18*(1+$L$5),$L$6*I18),2) -> 0.73 | K18: =TRUNC(H18*I18,2) -> 11600 | L18: =TRUNC(H18*J18,2) -> 14600
A19: 6 | B19: 1.2.2 | C19: 5914639 | D19: SICRO | E19: TRANSPORTE DE EQUIPAMENTOS COM CAVALO MECÂNICO COM SEMI-REBOQUE, CAPACIDADE DE 30T - RODOVIA EM REVESTIMENTO PRIMÁRIO | F19: SERV | G19: txkm | H19: 2500 | I19: =VLOOKUP(A19,CPU!A:P,11,0) -> 0.72 | J19: =TRUNC(IF(F19="SERV",I19*(1+$L$5),$L$6*I19),2) -> 0.9 | K19: =TRUNC(H19*I19,2) -> 1800 | L19: =TRUNC(H19*J19,2) -> 2250
A20: A3 | B20: 1.3 | E20: SERVIÇOS PRELIMINARES
A21: 7 | B21: 1.3.1 | C21: 1600966 | D21: SICRO | E21: REMOÇÃO DE CERCAS E MOURÕES, DE FORMA MANUAL, SEM REAPROVEITAMENTO | F21: SERV | G21: m | H21: 960 | I21: =VLOOKUP(A21,CPU!A:P,11,0) -> 0.75 | J21: =TRUNC(IF(F21="SERV",I21*(1+$L$5),$L$6*I21),2) -> 0.94 | K21: =TRUNC(H21*I21,2) -> 720 | L21: =TRUNC(H21*J21,2) -> 902.4
A22: 8 | B22: 1.3.2 | C22: 98529 | D22: SINAPI | E22: CORTE RASO E RECORTE DE ÁRVORE COM DIÂMETRO DE TRONCO MAIOR OU IGUAL A 0,20 M E MENOR QUE 0,40 | F22: SERV | G22: unid. | H22: 200 | I22: =VLOOKUP(A22,CPU!A:P,11,0) -> 81.16 | J22: =TRUNC(IF(F22="SERV",I22*(1+$L$5),$L$6*I22),2) -> 102.37 | K22: =TRUNC(H22*I22,2) -> 16232 | L22: =TRUNC(H22*J22,2) -> 20474
A23: 9 | B23: 1.3.3 | C23: 98530 | D23: SINAPI | E23: CORTE RASO E RECORTE DE ÁRVORE COM DIÂMETRO DE TRONCO MAIOR OU IGUAL A 0,40 M E MENOR QUE 0,60 | F23: SERV | G23: unid. | H23: 100 | I23: =VLOOKUP(A23,CPU!A:P,11,0) -> 159.29 | J23: =TRUNC(IF(F23="SERV",I23*(1+$L$5),$L$6*I23),2) -> 200.92 | K23: =TRUNC(H23*I23,2) -> 15929 | L23: =TRUNC(H23*J23,2) -> 20092
A24: 10 | B24: 1.3.4 | C24: 98531 | D24: SINAPI | E24: CORTE RASO E RECORTE DE ÁRVORE COM DIÂMETRO DE TRONCO MAIOR OU IGUAL A 0,60 M | F24: SERV | G24: unid. | H24: 30 | I24: =VLOOKUP(A24,CPU!A:P,11,0) -> 424.5 | J24: =TRUNC(IF(F24="SERV",I24*(1+$L$5),$L$6*I24),2) -> 535.46 | K24: =TRUNC(H24*I24,2) -> 12735 | L24: =TRUNC(H24*J24,2) -> 16063.8
A25: 11 | B25: 1.3.5 | C25: 5502985 | D25: SICRO | E25: LIMPEZA MECANIZADA DE CAMADA VEGETAL, VEGETAÇÃO E PEQUENAS ÁRVORES (DIÂMETRO DE TRONCO MENOR QUE 0,20 M), COM TRATOR DE ESTEIRAS | F25: SERV | G25: m² | H25: 12000 | I25: =VLOOKUP(A25,CPU!A:P,11,0) -> 0.77 | J25: =TRUNC(IF(F25="SERV",I25*(1+$L$5),$L$6*I25),2) -> 0.97 | K25: =TRUNC(H25*I25,2) -> 9240 | L25: =TRUNC(H25*J25,2) -> 11640
A26: 41 | B26: 1.3.6 | C26: 5914351 | D26: SICRO | E26: CARGA, MANOBRA E DESCARGA DE AGREGADOS, ROCHA OU SOLOS EM CAMINHÃO BASCULANTE | F26: SERV | G26: ton | H26: 4000 | I26: =VLOOKUP(A26,CPU!A:P,11,0) -> 2.92 | J26: =TRUNC(IF(F26="SERV",I26*(1+$L$5),$L$6*I26),2) -> 3.68 | K26: =TRUNC(H26*I26,2) -> 11680 | L26: =TRUNC(H26*J26,2) -> 14720
A27: 83 | B27: 1.3.7 | C27: 5915320 | D27: SICRO | E27: TRANSPORTE COM CAMINHÃO BASCULANTE - RODOVIA EM REVESTIMENTO PRIMÁRIO | F27: SERV | G27: txkm | H27: 37000 | I27: =VLOOKUP(A27,CPU!A:P,11,0) -> 0.75 | J27: =TRUNC(IF(F27="SERV",I27*(1+$L$5),$L$6*I27),2) -> 0.94 | K27: =TRUNC(H27*I27,2) -> 27750 | L27: =TRUNC(H27*J27,2) -> 34780
A28: 82 | B28: 1.3.8 | C28: 5915321 | D28: SICRO | E28: TRANSPORTE COM CAMINHÃO BASCULANTE - RODOVIA PAVIMENTADA | F28: SERV | G28: txkm | H28: 15000 | I28: =VLOOKUP(A28,CPU!A:P,11,0) -> 0.68 | J28: =TRUNC(IF(F28="SERV",I28*(1+$L$5),$L$6*I28),2) -> 0.85 | K28: =TRUNC(H28*I28,2) -> 10200 | L28: =TRUNC(H28*J28,2) -> 12750
A29: 14 | B29: 1.3.9 | C29: 4413942 | D29: SICRO | E29: ESPALHAMENTO DE MATERIAL EM BOTA FORA | F29: SERV | G29: m³ | H29: 2500 | I29: =VLOOKUP(A29,CPU!A:P,11,0) -> 2.75 | J29: =TRUNC(IF(F29="SERV",I29*(1+$L$5),$L$6*I29),2) -> 3.46 | K29: =TRUNC(H29*I29,2) -> 6875 | L29: =TRUNC(H29*J29,2) -> 8650
A30: 12 | B30: 1.3.10 | C30: CA0011 | D30: CPU | E30: AQUISIÇÃO DE PEDRA DE MÃO COMERCIAL, PARA ENROCAMENTO, GABIÃO E DISSIPADORES - EXCLUSIVE TRANSPORTE | F30: SERV | G30: m³ | H30: 75 | I30: =VLOOKUP(A30,CPU!A:P,11,0) -> 165.48 | J30: =TRUNC(IF(F30="SERV",I30*(1+$L$5),$L$6*I30),2) -> 208.73 | K30: =TRUNC(H30*I30,2) -> 12411 | L30: =TRUNC(H30*J30,2) -> 15654.75
A31: 16 | B31: 1.3.11 | C31: CA0006 | D31: CPU | E31: SERVIÇOS TOPOGRÁFICOS PARA PAVIMENTAÇÃO E OEA, INCLUSIVE LEVANTAMENTO PLANIALTIMÉTRICO CADASTRAL, GERAÇÃO DE NOTAS DE SERVIÇO, SEÇÕES TRANSVERSAIS E GREIDE, ESTAQUEAMENTO E ACOMPANHAMENTO EXECUTIVO | F31: SERV | G31: m² | H31: 6200 | I31: =VLOOKUP(A31,CPU!A:P,11,0) -> 0.4 | J31: =TRUNC(IF(F31="SERV",I31*(1+$L$5),$L$6*I31),2) -> 0.5 | K31: =TRUNC(H31*I31,2) -> 2480 | L31: =TRUNC(H31*J31,2) -> 3100
A32: A4 | B32: 1.4 | E32: PLANO DE RIGGING
A33: 17 | B33: 1.4.1 | C33: CA0010 | D33: CPU | E33: ELABORAÇÃO DO PLANO DE RIGGING - POR ESTRUTURA | F33: SERV | G33: unid. | H33: 2 | I33: =VLOOKUP(A33,CPU!A:P,11,0) -> 2542.55 | J33: =TRUNC(IF(F33="SERV",I33*(1+$L$5),$L$6*I33),2) -> 3207.17 | K33: =TRUNC(H33*I33,2) -> 5085.1 | L33: =TRUNC(H33*J33,2) -> 6414.34
A34: 11 | B34: 1.4.2 | C34: 5502985 | D34: SICRO | E34: LIMPEZA MECANIZADA DE CAMADA VEGETAL, VEGETAÇÃO E PEQUENAS ÁRVORES (DIÂMETRO DE TRONCO MENOR QUE 0,20 M), COM TRATOR DE ESTEIRAS | F34: SERV | G34: m² | H34: 1800 | I34: =VLOOKUP(A34,CPU!A:P,11,0) -> 0.77 | J34: =TRUNC(IF(F34="SERV",I34*(1+$L$5),$L$6*I34),2) -> 0.97 | K34: =TRUNC(H34*I34,2) -> 1386 | L34: =TRUNC(H34*J34,2) -> 1746
A35: 70 | B35: 1.4.3 | C35: 5501906 | D35: SICRO | E35: ESCAVAÇÃO, CARGA E TRANSPORTE DE MATERIAL DE 1A CATEGORIA - DMT DE 1.000 A 1.200M - CAMINHO DE SERVIÇO EM REVESTIMENTO PRIMÁRIO | F35: SERV | G35: m³ | H35: 700 | I35: =VLOOKUP(A35,CPU!A:P,11,0) -> 12.46 | J35: =TRUNC(IF(F35="SERV",I35*(1+$L$5),$L$6*I35),2) -> 15.71 | K35: =TRUNC(H35*I35,2) -> 8722 | L35: =TRUNC(H35*J35,2) -> 10997
A36: 41 | B36: 1.4.4 | C36: 5914351 | D36: SICRO | E36: CARGA, MANOBRA E DESCARGA DE AGREGADOS, ROCHA OU SOLOS EM CAMINHÃO BASCULANTE | F36: SERV | G36: ton | H36: 900 | I36: =VLOOKUP(A36,CPU!A:P,11,0) -> 2.92 | J36: =TRUNC(IF(F36="SERV",I36*(1+$L$5),$L$6*I36),2) -> 3.68 | K36: =TRUNC(H36*I36,2) -> 2628 | L36: =TRUNC(H36*J36,2) -> 3312
A37: 83 | B37: 1.4.5 | C37: 5915320 | D37: SICRO | E37: TRANSPORTE COM CAMINHÃO BASCULANTE - RODOVIA EM REVESTIMENTO PRIMÁRIO | F37: SERV | G37: txkm | H37: 12000 | I37: =VLOOKUP(A37,CPU!A:P,11,0) -> 0.75 | J37: =TRUNC(IF(F37="SERV",I37*(1+$L$5),$L$6*I37),2) -> 0.94 | K37: =TRUNC(H37*I37,2) -> 9000 | L37: =TRUNC(H37*J37,2) -> 11280
A38: 72 | B38: 1.4.6 | C38: 4011227 | D38: SICRO | E38: SUB-BASE DE SOLO ESTABILIZADO GRANULOMETRICAMENTE SEM MISTURA COM MATERIAL DE JAZIDA - 100% PROCTOR INTERMEDIÁRIO | F38: SERV | G38: m³ | H38: 340 | I38: =VLOOKUP(A38,CPU!A:P,11,0) -> 15.35 | J38: =TRUNC(IF(F38="SERV",I38*(1+$L$5),$L$6*I38),2) -> 19.36 | K38: =TRUNC(H38*I38,2) -> 5219 | L38: =TRUNC(H38*J38,2) -> 6582.4
A39: 73 | B39: 1.4.7 | C39: 4011219 | D39: SICRO | E39: BASE DE SOLO ESTABILIZADO GRANULOMETRICAMENTE SEM MISTURA COM MATERIAL DE JAZIDA - 100% PROCTOR MODIFICADO | F39: SERV | G39: m³ | H39: 340 | I39: =VLOOKUP(A39,CPU!A:P,11,0) -> 16.77 | J39: =TRUNC(IF(F39="SERV",I39*(1+$L$5),$L$6*I39),2) -> 21.15 | K39: =TRUNC(H39*I39,2) -> 5701.8 | L39: =TRUNC(H39*J39,2) -> 7191
A40: 132 | B40: 1.4.8 | C40: 4011211 | D40: SICRO | E40: REFORÇO DO SUBLEITO COM MATERIAL DE JAZIDA - 100% PROCTOR INTERMEDIÁRIO | F40: SERV | G40: m³ | H40: 900 | I40: =VLOOKUP(A40,CPU!A:P,11,0) -> 15.35 | J40: =TRUNC(IF(F40="SERV",I40*(1+$L$5),$L$6*I40),2) -> 19.36 | K40: =TRUNC(H40*I40,2) -> 13815 | L40: =TRUNC(H40*J40,2) -> 17424
A41: 14 | B41: 1.4.9 | C41: 4413942 | D41: SICRO | E41: ESPALHAMENTO DE MATERIAL EM BOTA FORA | F41: SERV | G41: m³ | H41: 540 | I41: =VLOOKUP(A41,CPU!A:P,11,0) -> 2.75 | J41: =TRUNC(IF(F41="SERV",I41*(1+$L$5),$L$6*I41),2) -> 3.46 | K41: =TRUNC(H41*I41,2) -> 1485 | L41: =TRUNC(H41*J41,2) -> 1868.4
...

Sheet CPU
A1: 1 | B1: 1ª/GRD | K1: =J42 -> 475629.65
B2: OBRA: | C2: EXECUÇÃO DAS OBRAS E SERVIÇOS DE CONSTRUÇÃO DE PONTES E GALERIAS, INCLUINDO A CONCLUSÃO DE ESTRUTURAS JÁ INICIADAS, LOCALIZADAS NA ÁREA DA BARRAGEM DE APROVEITAMENTO MÚLTIPLO JEQUITAÍ I, NO MUNICÍPIO DE FRANCISCO DUMONT, NO ESTADO DE MINAS GERAIS - ITEM 1: PONTES A e B
B3: Custo Unitário de Referência | E3: Minas Gerais
E4: Abril/2025 | H4: Produção da equipe | I4: 1 | J4: =VLOOKUP(A1,ORÇAMENTO!A:L,7,0) -> unid.
B5: CA0001 | C5: ADMINISTRAÇÃO LOCAL E MANUTENÇÃO DO CANTEIRO DE OBRAS | I5: Valores em reais (R$)
B6: A - EQUIPAMENTOS | D6: Quantidade | E6: Utilização | G6: Custo Horário | J6: Custo
E7: Operativa | F7: Improdutiva | G7: Produtivo | H7: Improdutivo | J7: Horário Total
B8: 92138 | C8: Caminhonete a diesel, cabine dupla, 4x4 | D8: 1408 | E8: 0.25 | F8: 0.75 | G8: 100.83 | H8: 49.73 | J8: =D8*(E8*G8+F8*H8) -> 88007.04
B9: E9125 | C9: Veículo tipo van furgão com capacidade de 1,38 t - 100 kW | D9: 704 | E9: 0.12 | F9: 0.88 | G9: 87.3357 | H9: 47.8998 | J9: =D9*(E9*G9+F9*H9) -> 37053.004
H10: Custo horário total de equipamentos | J10: =SUM(J8:J9) -> 125060.04
B11: B - MÃO DE OBRA | D11: Quantidade | E11: Unidade | G11: Custo Horário | H11: Custo Horário Total
B12: P9812 | C12: Engenheiro - mensalista | D12: 1.9997865 | E12: mês | G12: 26982.613 | J12: =D12*G12 -> 53959.465
B13: P9876 | C13: Técnico de segurança do trabalho - mensalista | D13: 8 | E13: mês | G13: 8251.9033 | J13: =D13*G13 -> 66015.226
B14: P9840 | C14: Encarregado geral - mensalista | D14: 4 | E14: mês | G14: 13706.442 | J14: =D14*G14 -> 54825.767
B15: P9811 | C15: Encarregado especializado - mensalista | D15: 8 | E15: mês | G15: 9586.3796 | J15: =D15*G15 -> 76691.037
B16: P9806 | C16: Auxiliar administrativo - mensalista | D16: 8 | E16: mês | G16: 4706.5969 | J16: =D16*G16 -> 37652.775
B17: P9858 | C17: Laboratorista - mensalista | D17: 4 | E17: mês | G17: 6549.5189 | J17: =D17*G17 -> 26198.076
B18: P9833 | C18: Auxiliar de laboratório - mensalista | D18: 4 | E18: mês | G18: 6450.1136 | J18: =D18*G18 -> 25800.454
D19: Custo horário total de mão de obra | J19: =SUM(J12:J18) -> 341142.8
D20: Custo horário total de execução | J20: =J10+J19 -> 466202.84
D21: Custo unitário de execução | J21: =J20/I4 -> 466202.84
H22: Custo do FIC | J22: 0
H23: Custo do FIT | J23: 0
B24: C - MATERIAL | D24: Quantidade | E24: Unidade | G24: Preço Unitário | H24: Custo Unitário
B25: - | C25: 0 | E25: - | G25: 0 | J25: =D25*G25 -> 0
B26: - | C26: 0 | E26: - | G26: 0 | J26: =D26*G26 -> 0
D27: Custo unitário total de material | J27: =SUM(J25:J26) -> 0
B28: D - ATIVIDADES AUXILIARES | D28: Quantidade | E28: Unidade | G28: Custo Unitário | H28: Custo Unitário
B29: B8957 | C29: Cesta das instalações - Laboretório de Solos e Concreto (simplificado - ensaios in situ e amostras) | D29: 4 | E29: mês | G29: 842.15167 | J29: =D29*G29 -> 3368.6067
B30: SBC 008823 | C30: Ensaio de resistência a compressão simples - concreto | D30: 60 | E30: unid. | G30: 100.97 | J30: =D30*G30 -> 6058.2
D31: Custo total de atividades auxiliares | J31: =SUM(J29:J30) -> 9426.8067
H32: Subtotal | J32: =J21+J27+J31+J22+J23 -> 475629.65
B33: E - TEMPO FIXO | D33: Código | E33: Quantidade | F33: Unidade | H33: Custo Unitário | I33: Custo Unitário
B34: - | C34: 0 | D34: - | F34: 0 | H34: 0 | J34: =ROUNDDOWN(E34*H34,4) -> 0
B35: - | C35: 0 | D35: - | F35: 0 | H35: 0 | J35: =ROUNDDOWN(E35*H35,4) -> 0
D36: Custo unitário total de tempo fixo | J36: =SUM(J34:J35) -> 0
B37: F - MOMENTO DE TRANSPORTE | D37: Quantidade | E37: Unidade | F37: DMT | J37: Custo Unitário
F38: LN | G38: RP | H38: P
B39: - | C39: 0 | E39: tkm
B40: - | C40: 0 | E40: tkm
...

Sheet AUX-VEIC
A5: Composição de Preços de Locação de Veículo tipo pick-up
B6: Data de atualização: | C6: 46064
A7: CODEVASF
A8: OBS: Preço sem BDI e sem motorista BDI=
A9: Veículo tipo pick-up, cabine dupla - 2.0 16V 4x4 diesel Aut.
B10: Custo Mensal (R$): | C10: 4448.0572
B11: Custo Diária (R$): | C11: 202.18442
B12: Custo Horário (R$): | C12: 25.273052
A13: A | B13: Depreciação mensal do equipamento
A14: A1 | B14: Preço de Aquisição | C14: 209327.5
A15: A2 | B15: Tempo previsto de vida útil (meses) | C15: 36
A16: A3 | B16: Previsão de recup. Na venda do bem usado | C16: 0.7
A17: A4 | B17: Custo mensal [A1-(A3xA1)]/A2 | C17: 1744.3958
A18: B | B18: Juros pelo Capital empregado
A19: B1 | B19: Taxa mensal de Juros * | C19: 0.011641575
A20: B2 | B20: Juros s/depreciação/aluguel (B1xA4) | C20: 20.307515
A21: C | B21: Conservação e manutenção ** | C21: 0.75
A22: C1 | B22: Taxa de gastos s/a deprec. Inc. seguros (%) | C22: 0.75
A23: C2 | B23: Incidência mensal (C1xA4) | C23: 1308.2969
A24: D | B24: Combustível
A25: D1 | B25: Média mensal de quilômetro por veículo | C25: 2000
A26: D2 | B26: Preço do litro de combustível | C26: 6.12
A27: D3 | B27: Quilômetros rodados com um litro combustivel | C27: 10
A28: D4 | B28: Combustivel (D1/D3)*D2 | C28: 1224
A29: E | B29: Lubrificantes
A30: E1 | B30: Quilometragem do Contrato (D1*12) | C30: 72000
A31: E2 | B31: Franquia por troca de óleo (km) | C31: 10000
A32: E3 | B32: Preço do litro de óleo | C32: 38.935
A33: E4 | B33: Quantidade de litros de óleo por troca | C33: 5
A34: E5 | B34: Quantidade de dias do Contrato | C34: 1095
A35: E6 | B35: Lubrificantes E = (E1*E3*E4*30)/E2*E5 | C35: 38.401644
A36: F | B36: Pneus
A37: F1 | B37: Quilometragem do Contrato | C37: 72000
A38: F2 | B38: Vida do Pneu em quilômetros | C38: 45000
A39: F3 | B39: Quantidade de pneus | C39: 5
A40: F4 | B40: Preço do Pneu | C40: 513.99
A41: F5 | B41: Quantidade de dias do contrato | C41: 1095
A42: F6 | B42: Pneus = (F1*F3*F4*30)/(F2*F5) | C42: 112.65534
A43: G | B43: Motorista
A44: G1 | B44: Salário com encargos sociais | C44: 5276.8743
...

Sheet BDI
A2: OBRA: CONSTRUÇÃO DE PONTES E GALERIAS, INCLUINDO A CONCLUSÃO DE ESTRUTURAS JÁ INICIADAS, LOCALIZADAS NA ÁREA DA BARRAGEM DE APROVEITAMENTO MÚLTIPLO JEQUITAÍ I
A3: LOCAL: Francisco Dumont - MG
A4: DATA BASE: Novembro / 2025
A5: DETALHAMENTO DO BDI - SEM DESONERAÇÃO
A6: EXECUÇÃO DAS OBRAS E SERVIÇOS DE CONSTRUÇÃO DE PONTES E GALERIAS, INCLUINDO A CONCLUSÃO DE ESTRUTURAS JÁ INICIADAS, LOCALIZADAS NA ÁREA DA BARRAGEM DE APROVEITAMENTO MÚLTIPLO JEQUITAÍ I, NO MUNICÍPIO DE FRANCISCO DUMONT, NO ESTADO DE MINAS GERAIS - ITEM 1: PONTES A e B
A7: DESCRIÇÃO DOS SERVIÇOS | B7: PREÇO DE VENDA (%) | C7: CUSTO DIRETO (%)
A8: ADMINISTRAÇÃO CENTRAL | C8: 0.06
A9: DESPESA FINANCEIRAS | B9: 0.0102
A10: SEGUROS E GARANTIAS CONTRATUAIS | B10: 0.0025
A11: RISCOS | B11: 0.005
A12: LUCRO OPERACIONAL | C12: 0.07
A13: PIS | B13: 0.0065
A14: COFINS | B14: 0.03
A15: ISSQN | B15: 0.05
A16: Contribuição Previdenciaria | B16: 0
B17: BDI | C17: 0.2614
A18: Observação: O percentual de ISSQN aqui utilizado consiste apenas em um referencial médio. O valor real do ISSQN a ser adotado deve ser aquele proveniente das alíquotas dos municípios situados na área de influência das obras.
A49: DETALHAMENTO DO BDI DIFERENCIADO - SEM DESONERAÇÃO
A50: EXECUÇÃO DAS OBRAS E SERVIÇOS DE CONSTRUÇÃO DE PONTES E GALERIAS, INCLUINDO A CONCLUSÃO DE ESTRUTURAS JÁ INICIADAS, LOCALIZADAS NA ÁREA DA BARRAGEM DE APROVEITAMENTO MÚLTIPLO JEQUITAÍ I, NO MUNICÍPIO DE FRANCISCO DUMONT, NO ESTADO DE MINAS GERAIS - ITEM 1: PONTES A e B
A52: DESCRIÇÃO DOS SERVIÇOS | B52: PREÇO DE VENDA (%) | C52: CUSTO DIRETO (%)
A53: ADMINISTRAÇÃO CENTRAL | C53: 0.0377
A54: DESPESA FINANCEIRAS | B54: 0.0102
A55: SEGUROS E GARANTIAS CONTRATUAIS | B55: 0.0025
A56: RISCOS | B56: 0.005
A57: LUCRO OPERACIONAL | C57: 0.05
A58: PIS | B58: 0.0065
A59: COFINS | B59: 0.03
A60: ISSQN | B60: 0
A61: Contribuição Previdenciaria | B61: 0
B62: BDI | C62: 0.15
A63: Fonte da composição, valores de referência e fórmula do BDI: Instrução Normativa N° 62/DNIT SEDE

Sheet CRONOG
B1: CRONOGRAMA FÍSICO-FINANCEIRO
B2: OBRA: | C2: EXECUÇÃO DAS OBRAS E SERVIÇOS DE CONSTRUÇÃO DE PONTES E GALERIAS, INCLUINDO A CONCLUSÃO DE ESTRUTURAS JÁ INICIADAS, LOCALIZADAS NA ÁREA DA BARRAGEM DE APROVEITAMENTO MÚLTIPLO JEQUITAÍ I, NO MUNICÍPIO DE FRANCISCO DUMONT, NO ESTADO DE MINAS GERAIS - ITEM 1: PONTES A e B | F2: VALOR: | G2: 5740065.8
F3: PRAZO: | G3: 240 DIAS
B5: ITEM | C5: ETAPAS/DESCRIÇAO | D5: FISICO/ FINANCEIRO | E5: TOTAL ETAPAS | F5: MÊS 1 | G5: MÊS 2 | H5: MÊS 3 | I5: MÊS 4 | J5: MÊS 5 | K5: MÊS 6 | L5: MÊS 7 | M5: MÊS 8 | N5: TOTAL
A6: A | B6: 1 | C6: MOBILIZAÇÃO E SERVIÇOS PRELIMINARES | D6: FISICO | E6: 0.2279 | F6: 0.16075713 | G6: 0.18000996 | H6: 0.24548576 | I6: 0.17921471 | J6: 0.11404573 | K6: 0.073315107 | L6: 0.024438372 | M6: 0.022733246 | N6: 1
D7: FINANCEIRO | E7: 1308027 | F7: 210274.66 | G7: 235457.89 | H7: 321102 | I7: 234417.68 | J7: 149174.89 | K7: 95898.14 | L7: 31966.05 | M7: 29735.7 | N7: 1308027
A8: A1 | B8: 1.1 | C8: CANTEIRO DE OBRAS | D8: FISICO | E8: 0.1856 | F8: 0.1 | G8: 0.13 | H8: 0.27 | I8: 0.22 | J8: 0.14 | K8: 0.09 | L8: 0.03 | M8: 0.02 | N8: 1
D9: FINANCEIRO | E9: 1065534.9 | F9: 106553.49 | G9: 138519.54 | H9: 287694.43 | I9: 234417.68 | J9: 149174.89 | K9: 95898.14 | L9: 31966.05 | M9: 21310.7 | N9: 1065534.9
A10: A2 | B10: 1.2 | C10: TRANSPORTE DE EQUIPAMENTOS | D10: FISICO | E10: 0.0029 | F10: 0.5 | M10: 0.5 | N10: 1
D11: FINANCEIRO | E11: 16850 | F11: 8425 | G11: 0 | H11: 0 | I11: 0 | J11: 0 | K11: 0 | L11: 0 | M11: 8425 | N11: 16850
A12: A3 | B12: 1.3 | C12: SERVIÇOS PRELIMINARES | D12: FISICO | E12: 0.0277 | F12: 0.6 | G12: 0.4 | N12: 1
D13: FINANCEIRO | E13: 158826.95 | F13: 95296.17 | G13: 63530.78 | H13: 0 | I13: 0 | J13: 0 | K13: 0 | L13: 0 | M13: 0 | N13: 158826.95
A14: A4 | B14: 1.4 | C14: PLANO DE RIGGING | D14: FISICO | E14: 0.0116 | G14: 0.5 | H14: 0.5 | N14: 1
D15: FINANCEIRO | E15: 66815.14 | F15: 0 | G15: 33407.57 | H15: 33407.57 | I15: 0 | J15: 0 | K15: 0 | L15: 0 | M15: 0 | N15: 66815.14
A16: B | B16: 2 | C16: PONTE A | D16: FISICO | E16: 0.3703 | F16: 0.069914353 | G16: 0.16057748 | H16: 0.18132626 | I16: 0.15110521 | J16: 0.15463951 | K16: 0.094197428 | L16: 0.12276309 | M16: 0.065476674 | N16: 1
D17: FINANCEIRO | E17: 2125309.1 | F17: 148589.61 | G17: 341276.78 | H17: 385374.34 | I17: 321145.28 | J17: 328656.76 | K17: 200198.65 | L17: 260909.51 | M17: 139158.17 | N17: 2125309.1
A18: B1 | B18: 2.1 | C18: OBRAS DE ARTE CORRENTE E DRENAGEM | D18: FISICO | E18: 0.0405 | J18: 0.25 | K18: 0.25 | L18: 0.25 | M18: 0.25 | N18: 1
D19: FINANCEIRO | E19: 232621.68 | F19: 0 | G19: 0 | H19: 0 | I19: 0 | J19: 58155.42 | K19: 58155.42 | L19: 58155.42 | M19: 58155.42 | N19: 232621.68
A20: B2 | B20: 2.2 | C20: ESTRUTURAS | D20: FISICO | E20: 0.2238 | F20: 0.1 | G20: 0.25 | H20: 0.3 | I20: 0.25 | J20: 0.1 | N20: 1
D21: FINANCEIRO | E21: 1284581.1 | F21: 128458.11 | G21: 321145.28 | H21: 385374.34 | I21: 321145.28 | J21: 128458.11 | K21: 0 | L21: 0 | M21: 0 | N21: 1284581.1
A22: B3 | B22: 2.3 | C22: TERRAPLANAGEM E PAVIMENTAÇÃO ASFÁLTICA | D22: FISICO | E22: 0.0707 | J22: 0.35 | K22: 0.35 | L22: 0.3 | N22: 1
D23: FINANCEIRO | E23: 405837.8 | F23: 0 | G23: 0 | H23: 0 | I23: 0 | J23: 142043.23 | K23: 142043.23 | L23: 121751.34 | M23: 0 | N23: 405837.8
A24: B4 | B24: 2.4 | C24: SINALIZAÇÃO E OBRAS COMPLEMENTARES | D24: FISICO | E24: 0.0282 | L24: 0.5 | M24: 0.5 | N24: 1
D25: FINANCEIRO | E25: 162005.49 | F25: 0 | G25: 0 | H25: 0 | I25: 0 | J25: 0 | K25: 0 | L25: 81002.75 | M25: 81002.75 | N25: 162005.5
A26: B5 | B26: 2.5 | C26: SINALIZAÇÃO DE OBRA | D26: FISICO | E26: 0.007 | F26: 0.5 | G26: 0.5 | N26: 1
D27: FINANCEIRO | E27: 40262.99 | F27: 20131.5 | G27: 20131.5 | H27: 0 | I27: 0 | J27: 0 | K27: 0 | L27: 0 | M27: 0 | N27: 40263
A28: C | B28: 3 | C28: PONTE B | D28: FISICO | E28: 0.2645 | F28: 0.083124934 | G28: 0.19001244 | H28: 0.21377501 | I28: 0.17814584 | J28: 0.14094223 | K28: 0.06968389 | L28: 0.075637539 | M28: 0.048678111 | N28: 1
D29: FINANCEIRO | E29: 1518354.5 | F29: 126213.12 | G29: 288506.25 | H29: 324586.26 | I29: 270488.55 | J29: 214000.27 | K29: 105804.85 | L29: 114844.6 | M29: 73910.63 | N29: 1518354.5
A30: C1 | B30: 3.1 | C30: OBRAS DE ARTE CORRENTE E DRENAGEM | D30: FISICO | E30: 0.0405 | J30: 0.25 | K30: 0.25 | L30: 0.25 | M30: 0.25 | N30: 1
D31: FINANCEIRO | E31: 232194.2 | F31: 0 | G31: 0 | H31: 0 | I31: 0 | J31: 58048.55 | K31: 58048.55 | L31: 58048.55 | M31: 58048.55 | N31: 232194.2
A32: C2 | B32: 3.2 | C32: ESTRUTURAS | D32: FISICO | E32: 0.1885 | F32: 0.1 | G32: 0.25 | H32: 0.3 | I32: 0.25 | J32: 0.1 | N32: 1
D33: FINANCEIRO | E33: 1081954.2 | F33: 108195.42 | G33: 270488.55 | H33: 324586.26 | I33: 270488.55 | J33: 108195.42 | K33: 0 | L33: 0 | M33: 0 | N33: 1081954.2
A34: C3 | B34: 3.3 | C34: TERRAPLANAGEM E PAVIMENTAÇÃO ASFÁLTICA | D34: FISICO | E34: 0.0238 | J34: 0.35 | K34: 0.35 | L34: 0.3 | N34: 1
D35: FINANCEIRO | E35: 136446.58 | F35: 0 | G35: 0 | H35: 0 | I35: 0 | J35: 47756.3 | K35: 47756.3 | L35: 40933.97 | M35: 0 | N35: 136446.57
A36: C4 | B36: 3.4 | C36: SINALIZAÇÃO E OBRAS COMPLEMENTARES | D36: FISICO | E36: 0.0055 | L36: 0.5 | M36: 0.5 | N36: 1
D37: FINANCEIRO | E37: 31724.15 | F37: 0 | G37: 0 | H37: 0 | I37: 0 | J37: 0 | K37: 0 | L37: 15862.08 | M37: 15862.08 | N37: 31724.16
A38: C5 | B38: 3.5 | C38: SINALIZAÇÃO DE OBRA | D38: FISICO | E38: 0.0063 | F38: 0.5 | G38: 0.5 | N38: 1
D39: FINANCEIRO | E39: 36035.39 | F39: 18017.7 | G39: 18017.7 | H39: 0 | I39: 0 | J39: 0 | K39: 0 | L39: 0 | M39: 0 | N39: 36035.4
A40: D | B40: 4 | C40: FORNECIMENTO DE MATERIAIS BETUMINOSOS E MASSA ASFÁLTICA (BDI DIFERENCIADO) | D40: FISICO | E40: 0.1373 | F40: 0 | G40: 0 | H40: 0 | I40: 0 | J40: 0 | K40: 0 | L40: 1 | M40: 0 | N40: 1
D41: FINANCEIRO | E41: 788375.16 | F41: 0 | G41: 0 | H41: 0 | I41: 0 | J41: 0 | K41: 0 | L41: 788375.16 | M41: 0 | N41: 788375.16
...
