Workbook
Name ___\i: #REF!
Name ___\i: #REF!
Name ___\i: #REF!
Name _________aga14: #REF!
Name _________aga14: #REF!
Name _________aga14: #REF!
Name _________aga16: #REF!
Name _________aga16: #REF!
Name _________aga16: #REF!
Name _________asc321: #REF!
Name _________bur3220: #REF!
Name _________cap20: #REF!
Name _________ccr12: #REF!
Name _________cva32: #REF!
Name _________cva50: #REF!
Name _________cva60: #REF!
Name _________cve45100: #REF!
Name _________cve90100: #REF!
Name _________cve9040: #REF!
Name _________djm10: #REF!
Name _________djm15: #REF!
Name _________epl2: #REF!
Name _________epl5: #REF!
Name _________est15: #REF!
Name _________fil1: #REF!
Name _________fil2: #REF!
Name _________fio12: #REF!
Name _________fis5: #REF!
Name _________flf50: #REF!
Name _________flf60: #REF!
Name _________fpd12: #REF!
Name _________fvr10: #REF!
Name _________itu1: #REF!
Name _________jla20: #REF!
Name _________jla32: #REF!
Name _________lpi100: #REF!
Name _________lvg10060: #REF!
Name _________lvp32: #REF!
Name _________lxa1: #REF!
Name _________man50: #REF!
Name _________ope1: #REF!
Name _________ope2: #REF!
Name _________ope3: #REF!
Name _________pne1: #REF!
Name _________pne2: #REF!
Name _________prg1515: #REF!
Name _________prg1827: #REF!
Name _________ptc7: #REF!
Name _________ptm6: #REF!
Name _________qdm3: #REF!
Name _________rcm10: #REF!
Name _________rcm15: #REF!
Name _________rcm20: #REF!
Name _________rcm5: #REF!
Name _________res10: #REF!
Name _________res15: #REF!
Name _________res5: #REF!
Name _________rge32: #REF!
Name _________rgf60: #REF!
Name _________rgp1: #REF!

Sheet 1 - RESUMO
A1: {='[45]2 - ORÇAMENTO'!A1:A1} -> MINISTÉRIO DA INTEGRAÇÃO E DO DESENVOLVIMENTO REGIONAL – MIDR COMPANHIA DE DESENVOLVIMENTO DOS VALES DO SÃO FRANCISCO E DO PARAÍBA - CODEVASF | G1: COSNTRUÇÃO DE REDES DE ABASTECIMENTO DE ÁGUA, COLETA DE ESGOTO E CONSTRUÇÕES CORRELATAS
A2: RESUMO | G2: 1º | H2: 2º | I2: 3º
A3: ='[45]2 - ORÇAMENTO'!A3 -> OBJETO: | B3: {='[45]2 - ORÇAMENTO'!B3:B3} -> ORÇAMENTO PROJETO BÁSICO DO CANAL DO SERTÃO BAIANO (CSB) - ETAPA 2A: PROJETO BÁSICO DO CANAL PRINCIPAL DO PIS - CANAL CP-500/2 | D3: ='[45]2 - ORÇAMENTO'!I3 -> BDI: SERV. | E3: ='[45]2 - ORÇAMENTO'!J3 -> 0.2256 | G3: 4.13 | H3: 7.65 | I3: 10.89
A4: ='[45]2 - ORÇAMENTO'!A4 -> LOCALIDADE: | B4: {='[45]2 - ORÇAMENTO'!B4:B4} -> ESTADO DA BAHIA | D4: ='[45]2 - ORÇAMENTO'!I4 -> BDI: MAT. EQUIP. | E4: ='[45]2 - ORÇAMENTO'!J4 -> 0.13797
A5: ='[45]2 - ORÇAMENTO'!A5 -> REFERÊNCIA: | B5: {='[45]2 - ORÇAMENTO'!B5:B5} -> SICRO3 BA 04/2024, SINAPI BA 07/2024, DNIT 04/2024, AGESUL 06/2024, AGETOP 04/2024, COMPESA 07/2023, CPOS 06/2024, EMBASA 05/2024, EMOP 07/2024, FDE 04/2024, IOPES 06/2024, ORSE 06/2024, SBC 08/2024, SEDOP 05/2024, SEINFRA 028, SETOP 04/2024, SIURB 01/2024, SUDECAP 04/2024 | D5: ='[45]2 - ORÇAMENTO'!I5 -> REVISÃO | E5: ='[45]2 - ORÇAMENTO'!J5 -> 0C
A6: ='[45]2 - ORÇAMENTO'!I6 -> DATA BASE: | B6: ='[45]2 - ORÇAMENTO'!J6 -> 45536 | D6: ='[45]2 - ORÇAMENTO'!A6 -> MODALIDADE: | E6: ='[45]2 - ORÇAMENTO'!B6 -> ONERADO | H6: =D8/D9 -> #DIV/0!
A7: ITEM | B7: UNIDADE | D7: VALOR | E7: %
A8: 1 | B8: =UPPER(VLOOKUP('1 - RESUMO'!A8,[46]Eventograma!$A:$D,2,0)) -> ADMINISTRAÇÃO LOCAL DE OBRAS
B9: SERVIÇOS | D9: =TRUNC(SUM(D10:D20),2) -> 0 | E9: =SUM(E10:E20) -> 0
A10: 2 | B10: ESTUDOS E PROJETOS | D10: =$D$21*E10 -> 0
A11: 3 | B11: MOBILIZAÇÃO E DESMOBILIZAÇÃO | D11: =$D$21*E11 -> 0
A12: 4 | B12: INSTALAÇÃO DA OBRA | D12: =$D$21*E12 -> 0
A13: 5 | B13: ENSECADEIRA PROVISÓRIA | D13: =$D$21*E13 -> 0
A14: 6 | B14: ESTRUTURA DE TOMADA D'ÁGUA DO RC-500 | D14: =$D$21*E14 -> 0
A15: 7 | B15: CANAL PRINCIPAL PIS - CP500-2 | D15: =$D$21*E15 -> 0
A16: 8 | B16: SISTEMA DE DRENAGEM DO SISTEMA ADUTOR | D16: =$D$21*E16 -> 0
A17: 9 | B17: SISTEMA VIÁRIO DO SISTEMA ADUTOR | D17: =$D$21*E17 -> 0
A18: 10 | B18: OBRAS DE ARTES ESPECIAIS | D18: =$D$21*E18 -> 0
A19: 11 | B19: SERVIÇOS COMPLEMENTARES | D19: =$D$21*E19 -> 0
A20: 12 | B20: FINALIZAÇÃO DA OBRA | D20: =$D$21*E20 -> 0
B21: TOTAL | E21: =SUM(E8:E9) -> 0

Sheet 2 - Planilha Sintética OBRA
D1: Obra | E1: Bancos | G1: B.D.I. | I1: Encargos Sociais
D2: Canal do Sertão Baiano_V04 - AGGCT | E2: SINAPI - 06/2026 - Bahia SBC - 07/2026 - Bahia SICRO3 - 04/2026 - Bahia ORSE - 04/2026 - Sergipe SEDOP - 03/2026 - Pará SEINFRA - 028 - Ceará SETOP - 04/2026 - Minas Gerais IOPES - 04/2026 - Espírito Santo SIURB - 01/2026 - São Paulo SIURB INFRA - 01/2026 - São Paulo SUDECAP - 04/2026 - Minas Gerais CPOS/CDHU - 06/2026 - São Paulo FDE - 04/2026 - São Paulo AGESUL - 01/2026 - Mato Grosso do Sul AGETOP CIVIL - 04/2026 - Goiás AGETOP RODOVIARIA - 04/2026 - Goiás EMBASA - 06/2025 - Bahia CAERN - 01/2026 - Rio Grande do Norte EMOP - 06/2026 - Rio de Janeiro SCO - 06/2026 - Rio de Janeiro | G2: 22,56% | I2: Não Desonerado
A3: Orçamento Sintético
A4: Item | B4: Código | C4: Banco | D4: Descrição | E4: Und | F4: Quant. | G4: Valor Unit | H4: Valor Unit com BDI | I4: Total | J4: Peso (%)
A5: 1 | D5: ADMINISTRAÇÃO DE OBRAS
A6: 1.1 | D6: PARCELA FIXA DA ADMINISTRAÇÃO LOCAL
A7: 1.1.1 | D7: GERÊNCIA TÉCNICA GERAL - MÃO DE OBRA
A8: 1.1.1.1 | B8: 93568 | C8: SINAPI | D8: ENGENHEIRO CIVIL DE OBRA SENIOR COM ENCARGOS COMPLEMENTARES | E8: MES | F8: 20
A9: 1.1.1.2 | B9: 93572 | C9: SINAPI | D9: ENCARREGADO GERAL DE OBRAS COM ENCARGOS COMPLEMENTARES | E9: MES | F9: 20
A10: 1.1.1.3 | B10: COMP-01 | C10: Próprio | D10: TÉCNICO DE MEIO AMBIENTE COM ENCARGOS COMPLEMENTARES E ENCARGOS SOCIAIS | E10: mes | F10: 18
A11: 1.1.1.4 | B11: COMP-02 | C11: Próprio | D11: SECRETÁRIA COM ENCARGOS SOCIAIS E COMPLEMENTARES | E11: mes | F11: 19
A12: 1.1.2 | D12: GERÊNCIA TÉCNICA GERAL - VEÍCULOS
A13: 1.1.2.1 | B13: COMP-03 | C13: Próprio | D13: Veículo tipo pick-up, cabine dupla - 2.0 16V 4x4 diesel Aut. sem motorista - CODEVASF | E13: mes | F13: 20
A14: 1.1.2.2 | B14: COMP-04 | C14: Próprio | D14: ÔNIBUS COM CAPACIDADE PARA 80 PASSAGEIROS - 175 KW | E14: mes | F14: 20
A15: 1.1.3 | D15: GERÊNCIA TÉCNICA AUXILIAR - MÃO DE OBRA
A16: 1.1.3.1 | B16: 101390 | C16: SINAPI | D16: AUXILIAR TÉCNICO / ASSISTENTE DE ENGENHARIA COM ENCARGOS COMPLEMENTARES | E16: MES | F16: 40
A17: 1.1.4 | D17: GERÊNCIA ADMINISTRATIVA GERAL - MÃO DE OBRA
A18: 1.1.4.1 | B18: 93572 | C18: SINAPI | D18: CHEFE DO SETOR ADMINISTRATIVO COM ENCARGOS SOCIAIS E COMPLEMENTARES | E18: MES | F18: 19
A19: 1.1.4.2 | B19: 101388 | C19: SINAPI | D19: PORTEIRO COM ENCARGOS SOCIAIS E COMPLEMENTARES | E19: MES | F19: 38
A20: 1.1.4.3 | B20: 101460 | C20: SINAPI | D20: VIGIA DIURNO COM ENCARGOS COMPLEMENTARES | E20: MES | F20: 40
A21: 1.1.5 | D21: GERÊNCIA ADMINISTRATIVA GERAL - VEÍCULOS
A22: 1.1.5.1 | B22: COMP-22 | C22: Próprio | D22: Veículo Leve 1.0 T. Flex 12V 5p - CODEVASF | E22: MES | F22: 19
A23: 1.1.6 | D23: GERÊNCIA ADMINISTRATIVA AUXILIAR - MÃO DE OBRA
A24: 1.1.6.1 | B24: 93566 | C24: SINAPI | D24: AUXILIAR DE ESCRITORIO COM ENCARGOS COMPLEMENTARES | E24: MES | F24: 38
A25: 1.1.6.2 | B25: 101388 | C25: SINAPI | D25: FAXINEIRO COM ENCARGOS SOCIAIS E COMPLEMENTARES | E25: MES | F25: 19
A26: 1.2 | D26: PARCELA VINCULADA DA ADMINISTRAÇÃO LOCAL
A27: 1.2.1 | D27: TERRAPLENAGEM - MÃO DE OBRA
A28: 1.2.1.1 | B28: 93572 | C28: SINAPI | D28: ENCARREGADO GERAL DE OBRAS COM ENCARGOS COMPLEMENTARES | E28: MES | F28: 19
A29: 1.2.2 | D29: TOPOGRAFIA - MÃO DE OBRA
A30: 1.2.2.1 | B30: 94296 | C30: SINAPI | D30: TOPOGRAFO COM ENCARGOS COMPLEMENTARES | E30: MES | F30: 19
A31: 1.2.2.2 | B31: 101389 | C31: SINAPI | D31: AUXILIAR DE TOPÓGRAFO COM ENCARGOS COMPLEMENTARES | E31: MES | F31: 57
A32: 1.2.3 | D32: MEDICINA E SEGURANÇA DO TRABALHO
A33: 1.2.3.1 | B33: 100321 | C33: SINAPI | D33: TÉCNICO EM SEGURANÇA DO TRABALHO COM ENCARGOS COMPLEMENTARES | E33: MES | F33: 40
A34: 1.2.3.2 | B34: 93567 | C34: SINAPI | D34: ENGENHEIRO DE SEGURANÇA DO TRABALHO COM ENCARGOS COMPLEMENTARES E SOCIAIS | E34: MES | F34: 9
A35: 1.2.3.3 | B35: 05.105.0180-A | C35: EMOP | D35: MÉDICO DE SEGURANÇA DO TRABALHO COM ENCARGOS COMPLEMENTARES E SOCIAIS | E35: MES | F35: 9
A36: 1.2.4 | D36: ESPECIALISTAS / CONSULTORES
A37: 1.2.4.1 | B37: 93567 | C37: SINAPI | D37: ENGENHEIRO MECÂNICO DE OBRA PLENO COM ENCARGOS COMPLEMENTARES | E37: MES | F37: 3
A38: 1.2.4.2 | B38: 93567 | C38: SINAPI | D38: ENGENHEIRO ELETRICISTA DE OBRA PLENO COM ENCARGOS COMPLEMENTARES | E38: MES | F38: 3
A39: 1.2.4.3 | B39: 101457 | C39: SINAPI | D39: GEOTECNICO COM ENCARGOS SOCIAIS E COMPLEMENTARES | E39: MES | F39: 18
A40: 1.2.4.4 | B40: 01.050.0707-0 | C40: EMOP | D40: GEÓLOGO COM ENCARGOS SOCIAIS E COMPLEMENTARES | E40: MES | F40: 18
...

Sheet 3 - Planilha Sintética PROJETO
A1: PROPOSTA FINANCEIRA DO PROJETO | K1: CODIGO:
K2: PFP
A3: NOME DA CONSULTORA:
A5: PROJETO: | G5: CONTRATANTE: | K5: BASE:
A6: Elaboração de Projeto Executivo do Canal Principal do PIS - Canal CP-500/2 | G6: CODEVASF (SEDE) | K6: 46204
A7: Base | B7: Cod2 | C7: Cod3 | D7: Código | E7: Categoria / Insumo | F7: Uni | G7: Qde | H7: CUD | I7: PU | J7: FatorK | K7: CT | L7: PT
A8: SICRO | B8: MO3 | C8: P0 | D8: P8061 | E8: Engenheiro coordenador (P8061) | F8: mês | G8: 5
A9: SICRO | B9: MO2 | C9: P1 | D9: P8067 | E9: Engenheiro sênior (P8067) | F9: mês | G9: 10
A10: SICRO | B10: MO1 | C10: P2 | D10: P8066 | E10: Engenheiro pleno (P8066) | F10: mês | G10: 12.5
A11: SICRO | B11: MO1 | C11: P3 | D11: P8065 | E11: Engenheiro júnior (P8065) | F11: mês | G11: 13
A12: SICRO | B12: MO1 | C12: T1 | D12: P8147 | E12: Técnico de projetos/obra (P8147) | F12: mês | G12: 8
A13: SINAPI | B13: MO1 | C13: D | D13: 40807 | E13: Desenhista (40807) | F13: mês | G13: 6
A14: SICRO | B14: EC | C14: ECA | E14: Encargos Comp. e Adicionais | F14: mês | G14: 54.5
A15: CODE | B15: LO | C15: V1 | E15: Diárias | F15: dia | G15: 40
A16: CODE | B16: LO | C16: V2 | E16: Pick-up Cab.dupla 2.8 4x4 Diesel | F16: dia | G16: 20
A17: CODE | B17: EM | C17: M2 | E17: Relatório Final | F17: un | G17: 1
A18: CODE | B18: SU | C18: TOP | E18: Total Serviços Cartográficos | F18: un | G18: 1
A19: CODE | E19: Total Serviços Geoténcos | F19: um | G19: 1
A20: TOTAL DOS CUSTOS DIRETOS
A21: TOTAL DOS ENCARGOS E DISPESAS DIVERSAS
A22: TOTAL DA PROPOSTA A PREÇO GLOBAL
A23: TOTAL DA PROPOSTA A PREÇO UNITÁRIO
A24: TOTAL DA PROPOSTA
A25: OBSERVAÇÃO:
A26: *Encargos Complementares e adicionais já incluem auxílio transporte
A27: Alocar os Insumos MO, com respectivo FatorK, dentro da categoria de vínculo contratual (celetista, autonomo, societario)
A28: Uni - unidade de medição do insumo;
A29: Qde - Quantidade do Insumo (não pode ocorrer alteração pela Licitante)
A30: CUD - Custo Unitário Direto do Insumo (sem encargos, taxas e impostos, valor não pode ser maior que o Orçado pela Codevasf)
A31: CT - Custo Total (sem encargos, taxas e impostos) - CT = Qde x CUD
... A38: A - Profissionais de nível médio de apoio técnico-administrativo

Sheet 4 - Cronograma
A1: ='[45]2 - ORÇAMENTO'!A1 -> MINISTÉRIO DA INTEGRAÇÃO E DO DESENVOLVIMENTO REGIONAL – MIDR COMPANHIA DE DESENVOLVIMENTO DOS VALES DO SÃO FRANCISCO E DO PARAÍBA - CODEVASF
A2: CRONOGRAMA
A3: OBJETO: | B3: ='[45]2 - ORÇAMENTO'!B3 -> ORÇAMENTO PROJETO BÁSICO DO CANAL DO SERTÃO BAIANO (CSB) - ETAPA 2A: PROJETO BÁSICO DO CANAL PRINCIPAL DO PIS - CANAL CP-500/2 | C3: BDI: SERV. | D3: ='[45]2 - ORÇAMENTO'!J3 -> 0.2256
A4: LOCALIDADE: | B4: ='[45]2 - ORÇAMENTO'!B4 -> ESTADO DA BAHIA | C4: BDI: MAT. EQUIP. | D4: ='[45]2 - ORÇAMENTO'!J4 -> 0.13797
A5: TAB. DE REFER. | B5: ='[45]2 - ORÇAMENTO'!B5 -> SICRO3 BA 04/2024, SINAPI BA 07/2024, DNIT 04/2024, AGESUL 06/2024, AGETOP 04/2024, COMPESA 07/2023, CPOS 06/2024, EMBASA 05/2024, EMOP 07/2024, FDE 04/2024, IOPES 06/2024, ORSE 06/2024, SBC 08/2024, SEDOP 05/2024, SEINFRA 028, SETOP 04/2024, SIURB 01/2024, SUDECAP 04/2024 | C5: DATA BASE:
A6: ITEM | B6: ETAPA | D6: TOTAL | E6: 1º MÊS | F6: 2º MÊS | G6: 3º MÊS | H6: 4º MÊS | I6: 5º MÊS | J6: 6º MÊS | K6: 7º MÊS | L6: 8º MÊS | M6: 9º MÊS | N6: 10º MÊS | O6: 11º MÊS | P6: 12º MÊS | Q6: 13º MÊS | R6: 14º MÊS | S6: 15º MÊS | T6: 16º MÊS | U6: 17º MÊS | V6: 18º MÊS | W6: 19º MÊS | X6: 20º MÊS | Y6: 21º MÊS | Z6: 22º MÊS | AA6: 23º MÊS | AB6: 24º MÊS | AC6: 25º MÊS | AD6: 26º MÊS | AE6: 27º MÊS | AF6: 28º MÊS | AG6: TOTAL GERAL
A8: 1 | B8: =VLOOKUP($A8,'1 - RESUMO'!$A:$E,2,0) -> ADMINISTRAÇÃO LOCAL DE OBRAS | D8: =VLOOKUP($A8,'1 - RESUMO'!$A:$E,4,0) -> 0 | E8: =$D$8*E9 -> #DIV/0! | F8: =$D$8*F9 -> #DIV/0! | G8: =$D$8*G9 -> #DIV/0! | H8: =$D$8*H9 -> #DIV/0! | I8: =$D$8*I9 -> #DIV/0! | J8: =$D$8*J9 -> #DIV/0! | K8: =$D$8*K9 -> #DIV/0! | L8: =$D$8*L9 -> #DIV/0! | ... AF8: =$D$8*AF9 -> #DIV/0! | AG8: =SUM(E8:AF8) -> #DIV/0!
D9: =SUM(E9:AF9) -> #DIV/0! | E9: =SUM(E11,E14,E17,E20,E23,E26,E29,E32,E35,E38,E41)/($D$44-$D$8) -> #DIV/0! | F9: =SUM(F11,F14,F17,F20,F23,F26,F29,F32,F35,F38,F41)/($D$44-$D$8) -> #DIV/0! | G9: =SUM(G11,G14,G17,G20,G23,G26,G29,G32,G35,G38,G41)/($D$44-$D$8) -> #DIV/0! | H9: =SUM(H11,H14,H17,H20,H23,H26,H29,H32,H35,H38,H41)/($D$44-$D$8) -> #DIV/0! | I9: =SUM(I11,I14,I17,I20,I23,I26,I29,I32,I35,I38,I41)/($D$44-$D$8) -> #DIV/0! | J9: =SUM(J11,J14,J17,J20,J23,J26,J29,J32,J35,J38,J41)/($D$44-$D$8) -> #DIV/0! | K9: =SUM(K11,K14,K17,K20,K23,K26,K29,K32,K35,K38,K41)/($D$44-$D$8) -> #DIV/0! | L9: =SUM(L11,L14,L17,L20,L23,L26,L29,L32,L35,L38,L41)/($D$44-$D$8) -> #DIV/0! | ... AF9: =SUM(AF11,AF14,AF17,AF20,AF23,AF26,AF29,AF32,AF35,AF38,AF41)/($D$44-$D$8) -> #DIV/0! | AG9: =SUM(E9:AF9) -> #DIV/0!
A11: 2 | B11: =VLOOKUP($A11,'1 - RESUMO'!$A:$E,2,0) -> ESTUDOS E PROJETOS | D11: =VLOOKUP($A11,'1 - RESUMO'!$A:$E,4,0) -> 0 | E11: =$D$11*E12 -> 0 | F11: =$D$11*F12 -> 0 | G11: =$D$11*G12 -> 0 | H11: =$D$11*H12 -> 0 | I11: =$D$11*I12 -> 0 | J11: =$D$11*J12 -> 0 | K11: =$D$11*K12 -> 0 | L11: =$D$11*L12 -> 0 | AG11: =SUM(E11:AF11) -> 0
D12: =SUM(E12:AF12) -> 1 | E12: 0.22 | F12: 0.3 | G12: 0.1 | H12: 0.09 | I12: 0.11 | J12: 0.01 | K12: 0.01 | L12: 0.16 | AG12: =SUM(E12:AF12) -> 1
A14: 3 | B14: =VLOOKUP(A14,'1 - RESUMO'!$A:$E,2,0) -> MOBILIZAÇÃO E DESMOBILIZAÇÃO | D14: =VLOOKUP($A14,'1 - RESUMO'!$A:$E,4,0) -> 0 | M14: =$D$14*M15 -> 0 | AF14: =$D$14*AF15 -> 0 | AG14: =SUM(E14:AF14) -> 0
D15: =SUM(E15:AF15) -> 1 | M15: 0.5 | AF15: 0.5 | AG15: =SUM(E15:AF15) -> 1
A17: 4 | B17: =VLOOKUP(A17,'1 - RESUMO'!$A:$E,2,0) -> INSTALAÇÃO DA OBRA | D17: =VLOOKUP($A17,'1 - RESUMO'!$A:$E,4,0) -> 0 | M17: =$D$17*M18 -> 0 | N17: =$D$17*N18 -> 0 | O17: =$D$17*O18 -> 0 | P17: =$D$17*P18 -> 0 | Q17: =$D$17*Q18 -> 0 | R17: =$D$17*R18 -> 0 | S17: =$D$17*S18 -> 0 | T17: =$D$17*T18 -> 0 | ... AF17: =$D$17*AF18 -> 0 | AG17: =SUM(E17:AF17) -> 0
D18: =SUM(E18:AF18) -> 1 | M18: 0.7 | N18: 0.01 | O18: 0.01 | P18: 0.01 | Q18: 0.01 | R18: 0.01 | S18: 0.01 | T18: 0.01 | U18: 0.01 | V18: 0.01 | W18: 0.01 | X18: 0.01 | Y18: 0.01 | Z18: 0.01 | AA18: 0.01 | AB18: 0.01 | AC18: 0.01 | AD18: 0.01 | AE18: 0.01 | AF18: 0.12 | AG18: =SUM(E18:AF18) -> 1
A20: 5 | B20: =VLOOKUP(A20,'1 - RESUMO'!$A:$E,2,0) -> ENSECADEIRA PROVISÓRIA | D20: =VLOOKUP($A20,'1 - RESUMO'!$A:$E,4,0) -> 0 | O20: =$D$20*O21 -> 0 | P20: =$D$20*P21 -> 0 | Q20: =$D$20*Q21 -> 0 | R20: =$D$20*R21 -> 0 | S20: =$D$20*S21 -> 0 | T20: =$D$20*T21 -> 0 | AG20: =SUM(E20:AF20) -> 0
D21: =SUM(E21:AF21) -> 1 | O21: 0.1 | P21: 0.2 | Q21: 0.2 | R21: 0.2 | S21: 0.2 | T21: 0.1 | AG21: =SUM(E21:AF21) -> 1
A23: 6 | B23: =VLOOKUP(A23,'1 - RESUMO'!$A:$E,2,0) -> ESTRUTURA DE TOMADA D'ÁGUA DO RC-500 | D23: =VLOOKUP($A23,'1 - RESUMO'!$A:$E,4,0) -> 0 | U23: =$D$23*U24 -> 0 | V23: =$D$23*V24 -> 0 | W23: =$D$23*W24 -> 0 | X23: =$D$23*X24 -> 0 | Y23: =$D$23*Y24 -> 0 | Z23: =$D$23*Z24 -> 0 | AG23: =SUM(E23:AF23) -> 0
D24: =SUM(E24:AF24) -> 1 | U24: 0.1 | V24: 0.2 | W24: 0.2 | X24: 0.2 | Y24: 0.2 | Z24: 0.1 | AG24: =SUM(E24:AF24) -> 1
A26: 7 | B26: =VLOOKUP(A26,'1 - RESUMO'!$A:$E,2,0) -> CANAL PRINCIPAL PIS - CP500-2 | D26: =VLOOKUP($A26,'1 - RESUMO'!$A:$E,4,0) -> 0 | N26: =$D$26*N27 -> 0 | O26: =$D$26*O27 -> 0 | P26: =$D$26*P27 -> 0 | Q26: =$D$26*Q27 -> 0 | R26: =$D$26*R27 -> 0 | S26: =$D$26*S27 -> 0 | T26: =$D$26*T27 -> 0 | U26: =$D$26*U27 -> 0 | ... AE26: =$D$26*AE27 -> 0 | AG26: =SUM(E26:AF26) -> 0
D27: =SUM(E27:AF27) -> 1 | N27: 0.055 | O27: 0.055 | P27: 0.055 | Q27: 0.055 | R27: 0.055 | S27: 0.055 | T27: 0.055 | U27: 0.055 | V27: 0.06 | W27: 0.06 | X27: 0.055 | Y27: 0.055 | Z27: 0.055 | AA27: 0.055 | AB27: 0.055 | AC27: 0.055 | AD27: 0.055 | AE27: 0.055 | AG27: =SUM(E27:AF27) -> 1
A29: 8 | B29: =VLOOKUP(A29,'1 - RESUMO'!$A:$E,2,0) -> SISTEMA DE DRENAGEM DO SISTEMA ADUTOR | D29: =VLOOKUP($A29,'1 - RESUMO'!$A:$E,4,0) -> 0 | O29: =$D$29*O30 -> 0 | P29: =$D$29*P30 -> 0 | Q29: =$D$29*Q30 -> 0 | R29: =$D$29*R30 -> 0 | S29: =$D$29*S30 -> 0 | T29: =$D$29*T30 -> 0 | U29: =$D$29*U30 -> 0 | V29: =$D$29*V30 -> 0 | ... AE29: =$D$29*AE30 -> 0 | AG29: =SUM(E29:AF29) -> 0
D30: =SUM(E30:AF30) -> 1 | O30: 0.055 | P30: 0.055 | Q30: 0.055 | R30: 0.055 | S30: 0.055 | T30: 0.055 | U30: 0.055 | V30: 0.075 | W30: 0.08 | X30: 0.075 | Y30: 0.055 | Z30: 0.055 | AA30: 0.055 | AB30: 0.055 | AC30: 0.055 | AD30: 0.055 | AE30: 0.055 | AG30: =SUM(E30:AF30) -> 1
A32: 9 | B32: =VLOOKUP(A32,'1 - RESUMO'!$A:$E,2,0) -> SISTEMA VIÁRIO DO SISTEMA ADUTOR | D32: =VLOOKUP($A32,'1 - RESUMO'!$A:$E,4,0) -> 0 | O32: =$D$32*O33 -> 0 | P32: =$D$32*P33 -> 0 | Q32: =$D$32*Q33 -> 0 | R32: =$D$32*R33 -> 0 | S32: =$D$32*S33 -> 0 | T32: =$D$32*T33 -> 0 | U32: =$D$32*U33 -> 0 | V32: =$D$32*V33 -> 0 | ... Z32: =$D$32*Z33 -> 0 | AG32: =SUM(E32:AF32) -> 0
D33: =SUM(E33:AF33) -> 1 | O33: 0.05 | P33: 0.05 | Q33: 0.1 | R33: 0.1 | S33: 0.1 | T33: 0.1 | U33: 0.1 | V33: 0.1 | W33: 0.1 | X33: 0.1 | Y33: 0.05 | Z33: 0.05 | AG33: =SUM(E33:AF33) -> 1
A35: 10 | B35: =VLOOKUP(A35,'1 - RESUMO'!$A:$E,2,0) -> OBRAS DE ARTES ESPECIAIS | D35: =VLOOKUP($A35,'1 - RESUMO'!$A:$E,4,0) -> 0 | U35: =$D$35*U36 -> 0 | V35: =$D$35*V36 -> 0 | W35: =$D$35*W36 -> 0 | X35: =$D$35*X36 -> 0 | Y35: =$D$35*Y36 -> 0 | Z35: =$D$35*Z36 -> 0 | AA35: =$D$35*AA36 -> 0 | AB35: =$D$35*AB36 -> 0 | ... AD35: =$D$35*AD36 -> 0 | AG35: =SUM(E35:AF35) -> 0
D36: =SUM(E36:AF36) -> 1 | U36: 0.1 | V36: 0.1 | W36: 0.1 | X36: 0.1 | Y36: 0.1 | Z36: 0.1 | AA36: 0.1 | AB36: 0.1 | AC36: 0.1 | AD36: 0.1 | AG36: =SUM(E36:AF36) -> 1
A38: 11 | B38: =VLOOKUP(A38,'1 - RESUMO'!$A:$E,2,0) -> SERVIÇOS COMPLEMENTARES | D38: =VLOOKUP($A38,'1 - RESUMO'!$A:$E,4,0) -> 0 | N38: =N39*$D$38 -> 0 | O38: =O39*$D$38 -> 0 | P38: =P39*$D$38 -> 0 | Q38: =Q39*$D$38 -> 0 | Z38: =Z39*$D$38 -> 0 | AA38: =AA39*$D$38 -> 0 | AB38: =AB39*$D$38 -> 0 | AC38: =AC39*$D$38 -> 0 | AD38: =AD39*$D$38 -> 0 | AE38: =AE39*$D$38 -> 0 | AG38: =SUM(E38:AF38) -> 0
D39: =SUM(E39:AF39) -> 1 | N39: 0.05 | O39: 0.1 | P39: 0.1 | Q39: 0.1 | Z39: 0.1 | AA39: 0.1 | AB39: 0.125 | AC39: 0.125 | AD39: 0.1 | AE39: 0.1 | AG39: =SUM(E39:AF39) -> 1
A41: 12 | B41: =VLOOKUP(A41,'1 - RESUMO'!$A:$E,2,0) -> FINALIZAÇÃO DA OBRA | D41: =VLOOKUP($A41,'1 - RESUMO'!$A:$E,4,0) -> 0 | AC41: =$D$41*AC42 -> 0 | AD41: =$D$41*AD42 -> 0 | AE41: =$D$41*AE42 -> 0 | AF41: =$D$41*AF42 -> 0 | AG41: =SUM(E41:AF41) -> 0
D42: =SUM(E42:AF42) -> 1 | AC42: 0.25 | AD42: 0.25 | AE42: 0.25 | AF42: 0.25 | AG42: =SUM(E42:AF42) -> 1
B44: TOTAL GERAL | D44: ='1 - RESUMO'!D21 -> 0
B45: PORCENTAGEM POR MÊS | E45: =E47/$D$44 -> #DIV/0! | F45: =F47/$D$44 -> #DIV/0! | G45: =G47/$D$44 -> #DIV/0! | H45: =H47/$D$44 -> #DIV/0! | I45: =I47/$D$44 -> #DIV/0! | J45: =J47/$D$44 -> #DIV/0! | K45: =K47/$D$44 -> #DIV/0! | L45: =L47/$D$44 -> #DIV/0! | ... AF45: =AF47/$D$44 -> #DIV/0!
B46: PORCENTAGEM ACUMULADA | E46: =E45 -> #DIV/0! | F46: =E46+F45 -> #DIV/0! | G46: =F46+G45 -> #DIV/0! | H46: =G46+H45 -> #DIV/0! | I46: =H46+I45 -> #DIV/0! | J46: =I46+J45 -> #DIV/0! | K46: =J46+K45 -> #DIV/0! | L46: =K46+L45 -> #DIV/0! | M46: =L46+M45 -> #DIV/0! | ... AF46: =AE46+AF45 -> #DIV/0!
B47: TOTAL POR MÊS | E47: =E26+E29+E23+E20+E32+E35+E38+E41+E17+E14+E11+E8 -> #DIV/0! | F47: =F26+F29+F23+F20+F32+F35+F38+F41+F17+F14+F11+F8 -> #DIV/0! | G47: =G26+G29+G23+G20+G32+G35+G38+G41+G17+G14+G11+G8 -> #DIV/0! | H47: =H26+H29+H23+H20+H32+H35+H38+H41+H17+H14+H11+H8 -> #DIV/0! | I47: =I26+I29+I23+I20+I32+I35+I38+I41+I17+I14+I11+I8 -> #DIV/0! | J47: =J26+J29+J23+J20+J32+J35+J38+J41+J17+J14+J11+J8 -> #DIV/0! | K47: =K26+K29+K23+K20+K32+K35+K38+K41+K17+K14+K11+K8 -> #DIV/0! | L47: =L26+L29+L23+L20+L32+L35+L38+L41+L17+L14+L11+L8 -> #DIV/0! | ... AF47: =AF26+AF29+AF23+AF20+AF32+AF35+AF38+AF41+AF17+AF14+AF11+AF8 -> #DIV/0!
B48: TOTAL ACUMULADO | E48: =E47 -> #DIV/0! | F48: =E48+F47 -> #DIV/0! | G48: =F48+G47 -> #DIV/0! | H48: =G48+H47 -> #DIV/0! | I48: =H48+I47 -> #DIV/0! | J48: =I48+J47 -> #DIV/0! | K48: =J48+K47 -> #DIV/0! | L48: =K48+L47 -> #DIV/0! | M48: =L48+M47 -> #DIV/0! | ... AF48: =AE48+AF47 -> #DIV/0!
