Workbook
Name EscolherTipo: '[1]Apuração BDI'!$E$49:$E$51

Sheet ORÇAMENTO
A1: <---- NUMERAR SERVIÇOS PARA CPU | E1: Ministério do Desenvolvimento Regional
E2: Companhia de Desenvolvimento dos Vales do São Francisco e do Parnaíba
E3: 1ª Superintendência Regional
B5: OBRA: | C5: PAVIMENTAÇÃO ASFÁLTICA EM CBUQ - AVENIDA SETE - JANUÁRIA - MG | J5: BDI Serviços % : | L5: ='BDI SERV'!E26 -> 22
B6: DATA: | C6: AGOSTO / 2026 | J6: BDI Diferenc. Serviços % : | L6: ='BDI FORN'!D31 -> 15
B7: PRAZO DE EXECUÇÃO: 180 DIAS | J7: BDI Fornecimentos % : | L7: ='BDI FORN'!D31 -> 15
B8: PLANILHA DE ORÇAMENTAÇÃO
B9: ITEM | C9: CÓDIGO | D9: FONTE | E9: DISCRIMINAÇÃO | F9: TIPO | G9: UNID. | H9: QUANT. | I9: VR.UNIT.S/BDI | J9: PR. UNIT.C/BDI | K9: C. TOT.S/BDI | L9: P. TOT.C/BDI
A10: A | B10: 1 | E10: SERVIÇOS PRELIMINARES | K10: =SUM(K11:K16) -> 169686.09 | L10: =SUM(L11:L16) -> 206920.93
A11: 1 | B11: 1.1 | C11: CPU.1 | D11: CODEVASF | E11: MOBILIZAÇÃO E DESMOBILIZAÇÃO | F11: SERV | G11: GL | H11: 1 | I11: =VLOOKUP(A11,'CPU-SERV'!A:K,11,0) -> 19340.07 | J11: {=TRUNC(_xlfn.IFS(F11="SERV",I11*(1+$L$5/100),F11="SERV DIF",I11*(1+$L$6/100),F11="FORN",I11*(1+$L$7/100)),2)} -> 23594.88 | K11: =TRUNC(H11*I11,2) -> 19340.07 | L11: =TRUNC(H11*J11,2) -> 23594.88
A12: 2 | B12: 1.2 | C12: CPU.2 | D12: CODEVASF | E12: ADMINISTRAÇÃO LOCAL | F12: SERV | G12: GL | H12: 1 | I12: =VLOOKUP(A12,'CPU-SERV'!A:K,11,0) -> 96668.23 | J12: {=TRUNC(_xlfn.IFS(F12="SERV",I12*(1+$L$5/100),F12="SERV DIF",I12*(1+$L$6/100),F12="FORN",I12*(1+$L$7/100)),2)} -> 117935.24 | K12: =TRUNC(H12*I12,2) -> 96668.23 | L12: =TRUNC(H12*J12,2) -> 117935.24
A13: 3 | B13: 1.3 | C13: CPU.3 | D13: CODEVASF | E13: CANTEIRO DE OBRAS | F13: SERV | G13: GL | H13: 1 | I13: =VLOOKUP(A13,'CPU-SERV'!A:K,11,0) -> 13826.85 | J13: {=TRUNC(_xlfn.IFS(F13="SERV",I13*(1+$L$5/100),F13="SERV DIF",I13*(1+$L$6/100),F13="FORN",I13*(1+$L$7/100)),2)} -> 16868.75 | K13: =TRUNC(H13*I13,2) -> 13826.85 | L13: =TRUNC(H13*J13,2) -> 16868.75
A14: 4 | B14: 1.4 | C14: 103689 | D14: SINAPI | E14: PLACA DE OBRA EM CHAPA DE AÇO GALVANIZADO | F14: SERV | G14: M2 | H14: 2 | I14: =VLOOKUP(A14,'CPU-SERV'!A:K,11,0) -> 434.59 | J14: {=TRUNC(_xlfn.IFS(F14="SERV",I14*(1+$L$5/100),F14="SERV DIF",I14*(1+$L$6/100),F14="FORN",I14*(1+$L$7/100)),2)} -> 530.19 | K14: =TRUNC(H14*I14,2) -> 869.18 | L14: =TRUNC(H14*J14,2) -> 1060.38
A15: 5 | B15: 1.5 | C15: CPU.4 | D15: SICRO | E15: VEÍCULO PARA A FISCALIZAÇÃO, MÁXIMO 02 ANOS DE USO OU 50.000KM, PREFERENCIALMENTE NA COR BRANCA, COM IDENTIFICAÇÃO CONFORME ESPECIFICAÇÕES DA CODEVASF, INCLUSIVE COMBUSTÍVEL, MANUTENÇÃO, SEGURO E IMPOSTOS - CONFORME ESPECIFICAÇÕES | F15: SERV | G15: MÊS | H15: 8 | I15: =VLOOKUP(A15,'CPU-SERV'!A:K,11,0) -> 4272.72 | J15: {=TRUNC(_xlfn.IFS(F15="SERV",I15*(1+$L$5/100),F15="SERV DIF",I15*(1+$L$6/100),F15="FORN",I15*(1+$L$7/100)),2)} -> 5212.71 | K15: =TRUNC(H15*I15,2) -> 34181.76 | L15: =TRUNC(H15*J15,2) -> 41701.68
A16: 6 | B16: 1.6 | C16: 78472 | D16: SINAPI | E16: SERVIÇOS TOPOGRÁFICOS PARA PAVIMENTAÇÃO, INCLUSIVE LEVANTAMENTO PLANIALTIMÉTRICO CADASTRAL, GERAÇÃO DE NOTAS DE SERVIÇO, SEÇÕES TRANSVERSAIS E GREIDE, ESTAQUEAMENTO E ACOMPANHAMENTO EXECUTIVO | F16: SERV | G16: M2 | H16: 12000 | I16: =VLOOKUP(A16,'CPU-SERV'!A:K,11,0) -> 0.4 | J16: {=TRUNC(_xlfn.IFS(F16="SERV",I16*(1+$L$5/100),F16="SERV DIF",I16*(1+$L$6/100),F16="FORN",I16*(1+$L$7/100)),2)} -> 0.48 | K16: =TRUNC(H16*I16,2) -> 4800 | L16: =TRUNC(H16*J16,2) -> 5760
A17: B | B17: 2 | E17: TERRAPLANAGEM E PAVIMENTAÇÃO | K17: =SUM(K18:K23) -> 491933 | L17: =SUM(L18:L23) -> 600087
A18: 7 | B18: 2.1 | C18: 5502140 | D18: SICRO | E18: ESCAVAÇÃO, CARGA E TRANSPORTE DE MATERIAL DE 1ª CATEGORIA - DMT 1.000 A 1.200M, CAMINHO DE SERVIÇO EM REVESTIMENTO PRIMÁRIO | F18: SERV | G18: M3 | H18: 1800 | I18: =VLOOKUP(A18,'CPU-SERV'!A:K,11,0) -> 7.29 | J18: {=TRUNC(_xlfn.IFS(F18="SERV",I18*(1+$L$5/100),F18="SERV DIF",I18*(1+$L$6/100),F18="FORN",I18*(1+$L$7/100)),2)} -> 8.89 | K18: =TRUNC(H18*I18,2) -> 13122 | L18: =TRUNC(H18*J18,2) -> 16002
A19: 9 | B19: 2.2 | C19: 4011209 | D19: SICRO | E19: REGULARIZAÇÃO DO SUBLEITO | F19: SERV | G19: M2 | H19: 12000 | I19: =VLOOKUP(A19,'CPU-SERV'!A:K,11,0) -> 1.83 | J19: {=TRUNC(_xlfn.IFS(F19="SERV",I19*(1+$L$5/100),F19="SERV DIF",I19*(1+$L$6/100),F19="FORN",I19*(1+$L$7/100)),2)} -> 2.23 | K19: =TRUNC(H19*I19,2) -> 21960 | L19: =TRUNC(H19*J19,2) -> 26760
A20: 10 | B20: 2.3 | C20: 4011276a | D20: SICRO | E20: EXECUÇÃO E COMPACTAÇÃO DE BASE E OU SUB BASE PARA PAVIMENTAÇÃO DE BICA CORRIDA COM BRITA COMERCIAL - 100% PROCTOR MODIFICADO | F20: SERV | G20: M3 | H20: 1800 | I20: =VLOOKUP(A20,'CPU-SERV'!A:K,11,0) -> 114.06 | J20: {=TRUNC(_xlfn.IFS(F20="SERV",I20*(1+$L$5/100),F20="SERV DIF",I20*(1+$L$6/100),F20="FORN",I20*(1+$L$7/100)),2)} -> 139.15 | K20: =TRUNC(H20*I20,2) -> 205308 | L20: =TRUNC(H20*J20,2) -> 250470
A21: 12 | B21: 2.4 | C21: 4011352 | D21: SICRO | E21: IMPRIMAÇÃO COM EMULSÃO ASFÁLTICA (EAI) | F21: SERV | G21: M2 | H21: 12000 | I21: =VLOOKUP(A21,'CPU-SERV'!A:K,11,0) -> 0.6 | J21: {=TRUNC(_xlfn.IFS(F21="SERV",I21*(1+$L$5/100),F21="SERV DIF",I21*(1+$L$6/100),F21="FORN",I21*(1+$L$7/100)),2)} -> 0.73 | K21: =TRUNC(H21*I21,2) -> 7200 | L21: =TRUNC(H21*J21,2) -> 8760
A22: 13 | B22: 2.5 | C22: 4011353 | D22: SICRO | E22: PINTURA DE LIGAÇÃO COM EMULSÃO ASFÁLTICA RR-1C | F22: SERV | G22: M2 | H22: 10800 | I22: =VLOOKUP(A22,'CPU-SERV'!A:K,11,0) -> 0.41 | J22: {=TRUNC(_xlfn.IFS(F22="SERV",I22*(1+$L$5/100),F22="SERV DIF",I22*(1+$L$6/100),F22="FORN",I22*(1+$L$7/100)),2)} -> 0.5 | K22: =TRUNC(H22*I22,2) -> 4428 | L22: =TRUNC(H22*J22,2) -> 5400
A23: 14 | B23: 2.6 | C23: 4011463 | D23: SICRO | E23: EXECUÇÃO DE PAVIMENTO COM APLICAÇÃO DE CONCRETO ASFÁLTICO USINADO A QUENTE (CBUQ), CAMADA DE ROLAMENTO - EXCLUSIVE TRANSPORTE | F23: SERV | G23: T | H23: 1300 | I23: =VLOOKUP(A23,'CPU-SERV'!A:K,11,0) -> 184.55 | J23: {=TRUNC(_xlfn.IFS(F23="SERV",I23*(1+$L$5/100),F23="SERV DIF",I23*(1+$L$6/100),F23="FORN",I23*(1+$L$7/100)),2)} -> 225.15 | K23: =TRUNC(H23*I23,2) -> 239915 | L23: =TRUNC(H23*J23,2) -> 292695
A24: C | B24: 3 | E24: TRANSPORTE DE MATERIAIS | K24: =SUM(K25:K29) -> 294446 | L24: =SUM(L25:L29) -> 355698
A25: 15 | B25: 3.1 | C25: 5915321 | D25: SICRO | E25: TRANSPORTE COM CAMINHÃO BASCULANTE, EM RODOVIA PAVIMENTADA | F25: SERV | G25: TXKM | H25: 260000 | I25: =VLOOKUP(A25,'CPU-SERV'!A:K,11,0) -> 0.68 | J25: {=TRUNC(_xlfn.IFS(F25="SERV",I25*(1+$L$5/100),F25="SERV DIF",I25*(1+$L$6/100),F25="FORN",I25*(1+$L$7/100)),2)} -> 0.82 | K25: =TRUNC(H25*I25,2) -> 176800 | L25: =TRUNC(H25*J25,2) -> 213200
A26: 16 | B26: 3.2 | C26: 5915320 | D26: SICRO | E26: TRANSPORTE COM CAMINHÃO BASCULANTE, RODOVIA EM REVESTIMENTO PRIMÁRIO | F26: SERV | G26: TXKM | H26: 3200 | I26: =VLOOKUP(A26,'CPU-SERV'!A:K,11,0) -> 0.74 | J26: {=TRUNC(_xlfn.IFS(F26="SERV",I26*(1+$L$5/100),F26="SERV DIF",I26*(1+$L$6/100),F26="FORN",I26*(1+$L$7/100)),2)} -> 0.9 | K26: =TRUNC(H26*I26,2) -> 2368 | L26: =TRUNC(H26*J26,2) -> 2880
A27: 17 | B27: 3.3 | C27: 5914434 | D27: SICRO | E27: TRANSPORTE COM CAMINHÃO CARROCERIA 9T, EM VIA URBANA PAVIMENTADA | F27: SERV | G27: TXKM | H27: 900 | I27: =VLOOKUP(A27,'CPU-SERV'!A:K,11,0) -> 0.84 | J27: {=TRUNC(_xlfn.IFS(F27="SERV",I27*(1+$L$5/100),F27="SERV DIF",I27*(1+$L$6/100),F27="FORN",I27*(1+$L$7/100)),2)} -> 1.02 | K27: =TRUNC(H27*I27,2) -> 756 | L27: =TRUNC(H27*J27,2) -> 918
A28: 18 | B28: 3.4 | C28: 5914612 | D28: SICRO | E28: TRANSPORTE DE MASSA ASFÁLTICA COM CAMINHÃO BASCULANTE COM CAÇAMBA TÉRMICA, EM VIA URBANA PAVIMENTADA | F28: SERV | G28: TXKM | H28: 127000 | I28: =VLOOKUP(A28,'CPU-SERV'!A:K,11,0) -> 0.9 | J28: {=TRUNC(_xlfn.IFS(F28="SERV",I28*(1+$L$5/100),F28="SERV DIF",I28*(1+$L$6/100),F28="FORN",I28*(1+$L$7/100)),2)} -> 1.09 | K28: =TRUNC(H28*I28,2) -> 114300 | L28: =TRUNC(H28*J28,2) -> 138430
A29: 20 | B29: 3.5 | C29: 5914622 | D29: SICRO | E29: TRANSPORTE COM CAMINHÃO TANQUE DE TRANSPORTE DE MATERIAL ASFÁLTICO DE 30000 L, EM VIA URBANA PAVIMENTADA | F29: SERV | G29: TXKM | H29: 100 | I29: =VLOOKUP(A29,'CPU-SERV'!A:K,11,0) -> 2.22 | J29: {=TRUNC(_xlfn.IFS(F29="SERV",I29*(1+$L$5/100),F29="SERV DIF",I29*(1+$L$6/100),F29="FORN",I29*(1+$L$7/100)),2)} -> 2.7 | K29: =TRUNC(H29*I29,2) -> 222 | L29: =TRUNC(H29*J29,2) -> 270
A30: E | B30: 4 | E30: DRENAGEM E OBRAS COMPLEMENTARES | K30: =SUM(K31:K38) -> 173597.9 | L30: =SUM(L31:L38) -> 211752.3
A31: 21 | B31: 4.1 | C31: 94273 | D31: SINAPI | E31: ASSENTAMENTO DE GUIA (MEIO-FIO) PRÉ-MOLDADO DE CONCRETO - 100X15X13X30 CM (COMPRIMENTO X BASE INFERIOR X BASE SUPERIOR X ALTURA) - USO VIÁRIO | F31: SERV | G31: M | H31: 2800 | I31: =VLOOKUP(A31,'CPU-SERV'!A:K,11,0) -> 35.08 | J31: {=TRUNC(_xlfn.IFS(F31="SERV",I31*(1+$L$5/100),F31="SERV DIF",I31*(1+$L$6/100),F31="FORN",I31*(1+$L$7/100)),2)} -> 42.79 | K31: =TRUNC(H31*I31,2) -> 98224 | L31: =TRUNC(H31*J31,2) -> 119812
A32: 23 | B32: 4.2 | C32: 94289a | D32: SINAPI | E32: EXECUÇÃO DE SARJETA EM CONCRETO USINADO, MOLDADO IN LOCO - 50CM DE BASE X 5CM DE ALTURA | F32: SERV | G32: M | H32: 1500 | I32: =VLOOKUP(A32,'CPU-SERV'!A:K,11,0) -> 23.95 | J32: {=TRUNC(_xlfn.IFS(F32="SERV",I32*(1+$L$5/100),F32="SERV DIF",I32*(1+$L$6/100),F32="FORN",I32*(1+$L$7/100)),2)} -> 29.21 | K32: =TRUNC(H32*I32,2) -> 35925 | L32: =TRUNC(H32*J32,2) -> 43815
A33: 24 | B33: 4.3 | C33: 2003103 | D33: SICRO | E33: ENTRADA PARA DESCIDA D'ÁGUA - EDA 01 - AREIA E BRITA COMERCIAIS | F33: SERV | G33: UN. | H33: 10 | I33: =VLOOKUP(A33,'CPU-SERV'!A:K,11,0) -> 199.87 | J33: {=TRUNC(_xlfn.IFS(F33="SERV",I33*(1+$L$5/100),F33="SERV DIF",I33*(1+$L$6/100),F33="FORN",I33*(1+$L$7/100)),2)} -> 243.84 | K33: =TRUNC(H33*I33,2) -> 1998.7 | L33: =TRUNC(H33*J33,2) -> 2438.4
A34: 25 | B34: 4.4 | C34: 2003389 | D34: SICRO | E34: DESCIDA D'ÁGUA DE ATERRO TIPO RÁPIDO - DAR 01 - AREIA E BRITA COMERCIAIS | F34: SERV | G34: M | H34: 40 | I34: =VLOOKUP(A34,'CPU-SERV'!A:K,11,0) -> 237.88 | J34: {=TRUNC(_xlfn.IFS(F34="SERV",I34*(1+$L$5/100),F34="SERV DIF",I34*(1+$L$6/100),F34="FORN",I34*(1+$L$7/100)),2)} -> 290.21 | K34: =TRUNC(H34*I34,2) -> 9515.2 | L34: =TRUNC(H34*J34,2) -> 11608.4
A35: 26 | B35: 4.5 | C35: 2003453 | D35: SICRO | E35: DISSIPADOR DE ENERGIA - DEB 03 - AREIA, BRITA E PEDRA DE MÃO COMERCIAIS | F35: SERV | G35: UN. | H35: 10 | I35: =VLOOKUP(A35,'CPU-SERV'!A:K,11,0) -> 988.75 | J35: {=TRUNC(_xlfn.IFS(F35="SERV",I35*(1+$L$5/100),F35="SERV DIF",I35*(1+$L$6/100),F35="FORN",I35*(1+$L$7/100)),2)} -> 1206.27 | K35: =TRUNC(H35*I35,2) -> 9887.5 | L35: =TRUNC(H35*J35,2) -> 12062.7
A36: 46 | B36: 4.6 | C36: 5213440 +5213863a | D36: SICRO | E36: PLACA DE REGULAMENTAÇÃO EM AÇO, D=60CM - PELÍCULA RETRORREFLETIVA - FORNECIMENTO E INSTALAÇÃO, INCLUSIVE SUPORTE | F36: SERV | G36: UN. | H36: 10 | I36: =VLOOKUP(A36,'CPU-SERV'!A:K,11,0) -> 526.51 | J36: {=TRUNC(_xlfn.IFS(F36="SERV",I36*(1+$L$5/100),F36="SERV DIF",I36*(1+$L$6/100),F36="FORN",I36*(1+$L$7/100)),2)} -> 642.34 | K36: =TRUNC(H36*I36,2) -> 5265.1 | L36: =TRUNC(H36*J36,2) -> 6423.4
A37: 49 | B37: 4.7 | C37: 5213401 | D37: SICRO | E37: PINTURA DE EIXO VIÁRIO SOBRE ASFALTO COM TINTA RETRORREFLETIVA A BASE DE RESINA ACRÍLICA COM MICROESFERAS DE VIDRO, APLICAÇÃO MECÂNICA COM DEMARCADORA AUTOPROPELIDA | F37: SERV | G37: M2 | H37: 400 | I37: =VLOOKUP(A37,'CPU-SERV'!A:K,11,0) -> 27.66 | J37: {=TRUNC(_xlfn.IFS(F37="SERV",I37*(1+$L$5/100),F37="SERV DIF",I37*(1+$L$6/100),F37="FORN",I37*(1+$L$7/100)),2)} -> 33.74 | K37: =TRUNC(H37*I37,2) -> 11064 | L37: =TRUNC(H37*J37,2) -> 13496
A38: 51 | B38: 4.8 | C38: 5213405 | D38: SICRO | E38: PINTURA DE FAIXA DE PEDESTRE OU ZEBRADA TINTA RETRORREFLETIVA A BASE DE RESINA ACRÍLICA COM MICROESFERAS DE VIDRO, APLICAÇÃO MANUAL | F38: SERV | G38: M2 | H38: 40 | I38: =VLOOKUP(A38,'CPU-SERV'!A:K,11,0) -> 42.96 | J38: {=TRUNC(_xlfn.IFS(F38="SERV",I38*(1+$L$5/100),F38="SERV DIF",I38*(1+$L$6/100),F38="FORN",I38*(1+$L$7/100)),2)} -> 52.41 | K38: =TRUNC(H38*I38,2) -> 1718.4 | L38: =TRUNC(H38*J38,2) -> 2096.4
A39: F | B39: 5 | E39: FORNECIMENTOS - MATERIAL ASFÁLTICO (BDI DIFERENCIADO) | K39: =SUM(K40:K45) -> 500471.79 | L39: =SUM(L40:L45) -> 575541.78
A40: F1 | B40: 5.1 | C40: CPU.5 | D40: CODEVASF | E40: AQUISIÇÃO DE EMULSÃO ASFÁLTICA PARA IMPRIMAÇÃO (EAI) - EXCLUSIVE TRANSPORTE | F40: FORN | G40: T | H40: 15.5 | I40: =VLOOKUP(A40,'CPU-FORNEC'!A:J,9,0) -> 3138.07 | J40: {=TRUNC(_xlfn.IFS(F40="SERV",I40*(1+$L$5/100),F40="SERV DIF",I40*(1+$L$6/100),F40="FORN",I40*(1+$L$7/100)),2)} -> 3608.78 | K40: =TRUNC(H40*I40,2) -> 48640.08 | L40: =TRUNC(H40*J40,2) -> 55936.09
A41: F2 | B41: 5.2 | C41: CPU.6 | D41: CODEVASF | E41: TRANSPORTE DE EMULSÃO ASFÁLTICA PARA IMPRIMAÇÃO (EAI) | F41: SERV DIF | G41: T | H41: 15.5 | I41: =VLOOKUP(A41,'CPU-FORNEC'!A:J,9,0) -> 550.87 | J41: {=TRUNC(_xlfn.IFS(F41="SERV",I41*(1+$L$5/100),F41="SERV DIF",I41*(1+$L$6/100),F41="FORN",I41*(1+$L$7/100)),2)} -> 633.5 | K41: =TRUNC(H41*I41,2) -> 8538.48 | L41: =TRUNC(H41*J41,2) -> 9819.25
...

Sheet CPU-SERV
A1: 1 | B1: 1ª/GRD | K1: =J40 -> 19340.07
B2: OBRA: | C2: PAVIMENTAÇÃO ASFÁLTICA EM CBUQ - AVENIDA SETE - JANUÁRIA - MG
B3: Custo Unitário de Referência | E3: Minas Gerais
E4: Abril/2026 | H4: Produção da equipe | I4: 0.5 | J4: =VLOOKUP(A1,ORÇAMENTO!$A$10:$L$46,7,1) -> GL
B5: CPU.1 | C5: MOBILIZAÇÃO E DESMOBILIZAÇÃO | I5: Valores em reais (R$)
B6: A - EQUIPAMENTOS | D6: Quantidade | E6: Utilização | G6: Custo Horário | J6: Custo
E7: Operativa | F7: Improdutiva | G7: Produtivo | H7: Improdutivo | J7: Horário Total
B8: E9687 | C8: Caminhão carroceria com capacidade de 5 t - 120 kW | D8: 8 | E8: 0.6 | F8: 0.4 | G8: 172.5784 | H8: 69.4025 | J8: =D8*(E8*G8+F8*H8) -> 1050.4643
B9: E9571 | C9: Caminhão tanque com capacidade de 10.000 l - 188 kW | D9: 2 | E9: 1 | F9: 0 | G9: 357.5774 | H9: 98.1673 | J9: =D9*(E9*G9+F9*H9) -> 715.1548
B10: E9509 | C10: Caminhão tanque distribuidor de asfalto com capacidade de 6.000 l - 7 kW/136 kW | D10: 2 | E10: 1 | F10: 0 | G10: 332.4341 | H10: 109.9286 | J10: =D10*(E10*G10+F10*H10) -> 664.8682
B11: E9514 | C11: Distribuidor de agregados sobre pneus autopropelido - 130 kW | D11: 2 | E11: 1 | F11: 0 | G11: 372.7995 | H11: 154.1507 | J11: =D11*(E11*G11+F11*H11) -> 745.599
B12: E9575 | C12: Caminhão basculante com caçamba estanque com capacidade de 14 m³ - 210 kW | D12: 4 | E12: 1 | F12: 0 | G12: 323.538 | H12: 98.9151 | J12: =D12*(E12*G12+F12*H12) -> 1294.152
H13: Custo horário total de equipamentos | J13: =SUM(J8:J12) -> 4470.2383
B14: B - MÃO DE OBRA | D14: Quantidade | E14: Unidade | G14: Custo Horário | H14: Custo Horário Total
B15: P9824 | C15: Servente | D15: 8 | E15: h | G15: 22.607 | J15: =D15*G15 -> 180.856
J16: =D16*G16 -> 0
D17: Custo horário total de mão de obra | J17: =SUM(J15:J16) -> 180.856
D18: Custo horário total de execução | J18: =J13+J17 -> 4651.0943
D19: Custo unitário de execução | J19: =J18/I4 -> 9302.1886
H20: Custo do FIC | J20: 0
H21: Custo do FIT | J21: 0
B22: C - MATERIAL | D22: Quantidade | E22: Unidade | G22: Preço Unitário | H22: Custo Unitário
B23: - | C23: - | E23: - | G23: 0 | J23: =D23*G23 -> 0
B24: - | C24: - | E24: - | G24: 0 | J24: =D24*G24 -> 0
D25: Custo unitário total de material | J25: =SUM(J23:J24) -> 0
B26: D - ATIVIDADES AUXILIARES | D26: Quantidade | E26: Unidade | G26: Custo Unitário | H26: Custo Unitário
B27: 5914640 | C27: Transporte com cavalo mecânico com semirreboque com capacidade de 32 t - rodovia pavimentada | D27: 17013.36 | E27: tkm | G27: 0.59 | J27: =D27*G27 -> 10037.882
B28: - | C28: - | D28: 0 | E28: - | G28: 0 | J28: =D28*G28 -> 0
D29: Custo total de atividades auxiliares | J29: =SUM(J27:J28) -> 10037.882
H30: Subtotal | J30: =J19+J25+J29+J20+J21 -> 19340.071
B31: E - TEMPO FIXO | D31: Código | E31: Quantidade | F31: Unidade | H31: Custo Unitário | I31: Custo Unitário
B32: - | C32: - | D32: - | F32: - | H32: 0 | J32: =ROUNDDOWN(E32*H32,4) -> 0
B33: - | C33: - | D33: - | F33: - | H33: 0 | J33: =ROUNDDOWN(E33*H33,4) -> 0
D34: Custo unitário total de tempo fixo | J34: =SUM(J32:J33) -> 0
B35: F - MOMENTO DE TRANSPORTE | D35: Quantidade | E35: Unidade | F35: DMT | J35: Custo Unitário
F36: LN | G36: RP | H36: P
B37: - | C37: - | E37: tkm
B38: - | C38: - | E38: tkm
D39: Custo unitário total de transporte
F40: Custo unitário direto total | J40: =TRUNC(J30+J34,2) -> 19340.07
...

Sheet CPU-FORNEC
A1: 1 | B1: CODEVASF | E1: COMPOSIÇÃO DE PREÇO UNITÁRIO | I1: =H24 -> 0 | J1: =H26 -> 0 | K1: BDI CALCULADO: | M1: =ORÇAMENTO!L6 -> 15
B2: OBRA: | C2: PAVIMENTAÇÃO ASFÁLTICA EM CBUQ - AVENIDA SETE - JANUÁRIA - MG | G2: DATA: | H2: =ORÇAMENTO!C6 -> AGOSTO / 2026 | K2: BDI DIFERENCIADO: | M2: ='BDI FORN'!D31/100 -> 0.15
B3: SERVIÇO: | C3: CPU.1 | E3: Referência: | F3: CODEVASF | G3: UNIDADE: | H3: =VLOOKUP(A1,ORÇAMENTO!A11:L31,5) -> MOBILIZAÇÃO E DESMOBILIZAÇÃO
B5: TIPO ITEM | C5: CODIGO ITEM | D5: DESCRIÇÃO ITEM | E5: UNIDADE ITEM | F5: COEFICIENTE | G5: PRECO UNITARIO | H5: CUSTO TOTAL | J5: distancia = | K5: 90 | L5: B.DESPACHO
B6: EQUIPAMENTOS | J6: Pá carregadeira | M6: 10.1 | N6: ton
C7: E9001 | D7: E9001 | E7: E9001 | G7: E9001
B10: MÃO DE OBRA
B14: MATERIAIS
H17: =ROUNDDOWN(F17*G17,2) -> 0 | J17: Motoniveladora | M17: 12.47 | N17: ton
B18: ATIVIDADES AUXILIARES | J18: Trator de pneus | M18: 2.8 | N18: ton
H19: =ROUNDDOWN(F19*G19,2) -> 0
H20: =ROUNDDOWN(F20*G20,2) -> 0
H21: =ROUNDDOWN(F21*G21,2) -> 0
H22: =ROUNDDOWN(F22*G22,2) -> 0 | J22: Rolo Compactador | M22: 15.33 | N22: ton
B23: PRODUÇÃO DA EQUIPE | E23: 1 | F23: CUSTO | H23: =SUM(H6:H22) -> 0 | J23: Grade de disco | M23: 1 | N23: ton
B24: TOTAL | H24: =H23/E23 -> 0 | I24: OK | J24: RETROESCAVADEIRA | M24: 6.67 | N24: ton
B25: BDI % | H25: =1+$M$1 -> 16
B26: TOTAL DO SERVIÇO - R$ | H26: =ROUND(H24*H25,2) -> 0
A28: F1 | B28: CODEVASF | E28: COMPOSIÇÃO DE PREÇO UNITÁRIO | I28: =H35 -> 3138.07 | J28: =H37 -> 3608.78
B29: OBRA: | C29: PAVIMENTAÇÃO ASFÁLTICA EM CBUQ - AVENIDA SETE - JANUÁRIA - MG | G29: DATA: | H29: =$H$2 -> AGOSTO / 2026
B30: SERVIÇO: | C30: AQUISIÇÃO DE EMULSÃO ASFÁLTICA PARA IMPRIMAÇÃO (EAI) - EXCLUSIVE TRANSPORTE | E30: Referência: | F30: CPU.5 | G30: UNIDADE: | H30: =VLOOKUP(A28,ORÇAMENTO!$A$11:$L$53,7) -> T
B32: TIPO ITEM | C32: CODIGO ITEM | D32: DESCRIÇÃO ITEM | E32: UNIDADE ITEM | F32: COEFICIENTE | G32: PRECO UNITARIO | H32: CUSTO TOTAL
B33: INSUMO | C33: ANP | D33: EMULSÃO ASFÁLTICA PARA SERVIÇO DE IMPRIMAÇÃO (MEMÓRIA EM ANEXO) | E33: T | F33: 1 | G33: 3138.0754 | H33: =ROUNDDOWN(F33*G33,2) -> 3138.07
B34: PRODUÇÃO DA EQUIPE | E34: 1 | F34: CUSTO | H34: =SUM(H33:H33) -> 3138.07
B35: TOTAL | H35: =H34/E34 -> 3138.07
B36: BDI % | H36: =1+$M$2 -> 1.15
B37: TOTAL DO SERVIÇO - R$ | H37: =ROUND(H35*H36,2) -> 3608.78 | I37: OK
A39: F2 | B39: CODEVASF | E39: COMPOSIÇÃO DE PREÇO UNITÁRIO | I39: =H46 -> 550.87 | J39: =H48 -> 633.5
B40: OBRA: | C40: PAVIMENTAÇÃO ASFÁLTICA EM CBUQ - AVENIDA SETE - JANUÁRIA - MG | G40: DATA: | H40: =$H$2 -> AGOSTO / 2026
B41: SERVIÇO: | C41: TRANSPORTE DE EMULSÃO ASFÁLTICA PARA IMPRIMAÇÃO (EAI) | E41: Referência: | F41: CPU.6 | G41: UNIDADE: | H41: =VLOOKUP(A39,ORÇAMENTO!$A$11:$L$53,7) -> T
B43: TIPO ITEM | C43: CODIGO ITEM | D43: DESCRIÇÃO ITEM | E43: UNIDADE ITEM | F43: COEFICIENTE | G43: PRECO UNITARIO | H43: CUSTO TOTAL
B44: INSUMO | C44: - | D44: TRANSPORTE DE EMULSÃO ASFÁLTICA PARA IMPRIMAÇÃO (EAI), INCLUINDO CUSTO TOTAL DO TRANSPORTE (COMBUSTÍVEL, PEDÁGIOS, ETC.) E ICMS - MEMÓRIA ANEXA | E44: T | F44: 1 | G44: 550.87387 | H44: =ROUNDDOWN(F44*G44,2) -> 550.87
B45: PRODUÇÃO DA EQUIPE | E45: 1 | F45: CUSTO | H45: =SUM(H44:H44) -> 550.87
B46: TOTAL | H46: =H45/E45 -> 550.87
B47: BDI % | H47: =1+$M$2 -> 1.15
B48: TOTAL DO SERVIÇO - R$ | H48: =ROUND(H46*H47,2) -> 633.5 | I48: OK
A50: F3 | B50: CODEVASF | E50: COMPOSIÇÃO DE PREÇO UNITÁRIO | I50: =H57 -> 3714.78 | J50: =H59 -> 4272
B51: OBRA: | C51: PAVIMENTAÇÃO ASFÁLTICA EM CBUQ - AVENIDA SETE - JANUÁRIA - MG | G51: DATA: | H51: =$H$2 -> AGOSTO / 2026
B52: SERVIÇO: | C52: AQUISIÇÃO DE EMULSAO ASFALTICA CATIONICA RR-1C - EXCLUSIVE TRANSPORTE | E52: Referência: | F52: CPU.7 | G52: UNIDADE: | H52: =VLOOKUP(A50,ORÇAMENTO!$A$11:$L$53,7) -> T
B54: TIPO ITEM | C54: CODIGO ITEM | D54: DESCRIÇÃO ITEM | E54: UNIDADE ITEM | F54: COEFICIENTE | G54: PRECO UNITARIO | H54: CUSTO TOTAL
...

Sheet AUX-VEIC.
B2: CÁLCULO DO CUSTO POR MÊS DE VEÍCULOS
B3: Veículo: Polo TSI, Onix Turbo, Argo 1.3, HB-20 Turbo | D3: Data: | E3: 46238
B4: DADOS ELEMENTARES DO VEÍCULO
B5: Dados Básicos | C5: Preço (R$) | D5: Quantidade | E5: Vida Útil
B6: Quilometragem média mensal | D6: 3000
B7: Valor de Aquisição (VA) | C7: 103900
B8: Taxa de Juros (i)% | D8: 14.75
B9: IPVA e Seguro Obrigatório (4%) | C9: 4156
B10: Lavagem | C10: 50 | D10: 2
B11: Pneus | C11: 479.9 | D11: 4 | E11: 50000
B12: Combustível | C12: 6.05 | D12: 14
B13: Óleo Lubrificante + Filtros (revisão) | C13: 846.744 | D13: 1 | E13: 10000
B14: Seguro Total Anual | C14: 3378.94
B15: Jogo de Amortecedores | C15: 1287 | E15: 50000
B16: Coeficiente de Manutenção | D16: 4.8e-06
B17: Motorista | C17: 3038.274 | D17: 1
B18: CÁLCULO DO CUSTO POR MÊS
B19: DEPRECIAÇÃO | C19: D = (VA-0,60xVA) / 12 x 5 | E19: 692.66667
B20: JUROS | C20: J = (VA-0,60xVA) x i / 12 | E20: 510.84
B21: LICENCIAMENTO | C21: L = (IPVA=SEG.OBRIG.)/12 | E21: 346.33
B22: SEGURO TOTAL | C22: ST = SEGURO ANUAL/12 | E22: 281.58
B23: COMBUSTÍVEL | C23: OD = (Comb./Consu)x Km.mês | E23: 1296.43
B24: ÓLEO LUBRIFICANTE | C24: OL = ((Ol. X Quant)/Vida Útil)xKm.mês) | E24: 254.02
B25: LAVAGEM | C25: LL = Preço Lavagem x Quantidade | E25: 100
B26: PNEUS | C26: P = ((P. PneusxQuant)/Vida Útil)xkm.mês) | E26: 115.18
B27: AMORTECEDORES | C27: AM = (P. Amort/Vida Útil)xkm.mês | E27: 77.22
B28: MANUTENÇÃO | C28: M = (VA-VPxK)xkm.mês | E28: 598.46
B29: MOTORISTA | C29: MOT = SALÁRIO+LEIS SOCIAIS | E29: 5276.87
B30: CUSTO POR MÊS | C30: SEM MOTORISTA | E30: 4272.7267
C31: COM MOTORISTA | E31: 9549.5967

Sheet BDI SERV
B1: DETALHAMENTO DO BDI - SERVIÇOS
B4: Item | C4: Descrição dos Serviços | D4: % - PV | E4: % - CD
B6: 1 | C6: ADMINISTRAÇÃO CENTRAL | E6: 4.01
B7: 1.1 | C7: ESCRITÓRIO CENTRAL | E7: 4.01
B8: 1.2 | C8: VIAGENS
B9: 1.3 | C9: OUTROS
B11: 2 | C11: IMPOSTOS E TAXAS | D11: 6.65 | E11: 0
B12: 2.1 | C12: ISS - Proposta | D12: 3
B13: 2.2 | C13: PIS | D13: 0.65
B14: 2.3 | C14: Cofins | D14: 3
B15: 2.4 | C15: Contribuição Previdenciaria (CPRB)
B17: 3 | C17: TAXA DE RISCO | E17: 0.96
B18: 3.1 | C18: SEGURO | E18: 0.2
B19: 3.2 | C19: RISCO | E19: 0.56
B20: 3.3 | C20: GARANTIA | E20: 0.2
B22: 4 | C22: DESPESAS FINANCEIRAS | E22: 1.11
B24: 5 | C24: LUCRO | E24: 7.3
B26: BDI APRESENTADO: | E26: 22
C28: Legislação Municipal: | D28: Lei Complementar nº 435/2018
C29: Município: | D29: Divisa Alegre
C30: Alíquota ISSQN: | D30: 0.03 | E30: Município
C31: Base de Cálculo: | D31: 1
C32: Valor Serviço: | D32: 1129663
C33: Dedução - Material (estimado): | D33: 225932.6 | E33: 0.2
C34: ISSQN BDI: | D34: 0.03 | E34: (*)
A36: Acórdão nº 2.622/2013 - TCU Plenário
A37: BDI = ARRED((((((1+(AC+TR)/100)*(1+DF/100)*(1+L/100))/(1-IMP/100))-1)*100);2)
B39: (*) É obrigação da licitante a verificação da Legislação Tributária vigente no município, bem como o cálculo dos valores totais de serviços e materiais estimados, para apresentação de sua proposta.
C41: Forma de Cálculo do BDI: | D41: BDI - Acórdão nº 2.622/2013 - TCU

Sheet BDI FORN
B1: DETALHAMENTO DO BDI - FORNECIMENTO (MATERIAL ASFÁLTICO)
B4: Item | C4: Descrição dos Serviços | D4: % | E4: %
D5: PV | E5: CD
B7: 1 | C7: ADMINISTRAÇÃO CENTRAL | E7: 3.45
B8: 1.1 | C8: ESCRITÓRIO CENTRAL
B9: 1.2 | C9: VIAGENS
B10: 1.3 | C10: OUTROS
B12: 2 | C12: IMPOSTOS E TAXAS | D12: 3.65 | E12: 4.56
B13: 2.1 | C13: ISS (*) | E13: 0
B14: 2.2 | C14: PIS | D14: 0.65 | E14: 0.81
B15: 2.3 | C15: Cofins | D15: 3 | E15: 3.75
B16: 2.4 | C16: CONTRIBUIÇÃO PREVIDENCIÁRIA SOBRE A RENDA BRUTA | D16: 0 | E16: 0
B18: 3 | C18: TAXA DE RISCO | E18: 1.08
B19: 3.1 | C19: SEGURO | E19: 0.24
B20: 3.2 | C20: RISCO | E20: 0.6
B21: 3.3 | C21: GARANTIA | E21: 0.24
B23: 4 | C23: DESPESAS FINANCEIRAS | E23: 0.85
B25: 5 | C25: LUCRO | E25: 5.11
C27: BDI - CALCULADO | E27: 15
A29: BDI = ((1+((AC+S+R+G)/100))x(1+DF/100)x(1+L/100)/(1-I/100)-1)*100
B31: BDI (CALCULADO): | D31: 15 | E31: %
A37: BDI EM CONFORMIDADE COM OS ACÓRDÃOS Nº 2369/2011 e ACÓRDÃO Nº 2.622/2013 - TCU - PLENÁRIO

Sheet CRONOGRAMA
B1: CRONOGRAMA FÍSICO-FINANCEIRO
B2: OBRA: | C2: PAVIMENTAÇÃO ASFÁLTICA EM CBUQ - AVENIDA SETE - JANUÁRIA - MG | F2: VALOR: | G2: 1950000
F3: PRAZO: | G3: 180 DIAS
B5: ITEM | C5: ETAPAS/DESCRIÇAO | D5: FISICO/ FINANCEIRO | E5: TOTAL ETAPAS | F5: MÊS 1 | G5: MÊS 2 | H5: MÊS 3 | I5: MÊS 4 | J5: MÊS 5 | K5: MÊS 6 | L5: TOTAL
A6: A | B6: 1 | C6: SERVIÇOS PRELIMINARES | D6: FISICO | E6: 0.1061 | F6: 0.25 | G6: 0.15 | H6: 0.15 | I6: 0.15 | J6: 0.15 | K6: 0.15 | L6: 1
D7: FINANCEIRO | E7: 206920.93 | F7: 51730.23 | G7: 31038.14 | H7: 31038.14 | I7: 31038.14 | J7: 31038.14 | K7: 31038.14 | L7: 206920.93
A8: B | B8: 2 | C8: TERRAPLANAGEM E PAVIMENTAÇÃO | D8: FISICO | E8: 0.3077 | F8: 0.2 | G8: 0.2 | H8: 0.2 | I8: 0.2 | J8: 0.1 | K8: 0.1 | L8: 1
D9: FINANCEIRO | E9: 600087 | F9: 120017.4 | G9: 120017.4 | H9: 120017.4 | I9: 120017.4 | J9: 60008.7 | K9: 60008.7 | L9: 600087
A10: C | B10: 3 | C10: TRANSPORTE DE MATERIAIS | D10: FISICO | E10: 0.1824 | F10: 0.25 | G10: 0.5 | H10: 0.25 | L10: 1
D11: FINANCEIRO | E11: 355698 | F11: 88924.5 | G11: 177849 | H11: 88924.5 | I11: 0 | J11: 0 | K11: 0 | L11: 355697.96
A12: E | B12: 4 | C12: DRENAGEM E OBRAS COMPLEMENTARES | D12: FISICO | E12: 0.1086 | F12: 0.1 | G12: 0.1 | H12: 0.2 | I12: 0.3 | J12: 0.2 | K12: 0.1 | L12: 1
D13: FINANCEIRO | E13: 211752.3 | F13: 21175.23 | G13: 21175.23 | H13: 42350.46 | I13: 63525.69 | J13: 42350.46 | K13: 21175.23 | L13: 211752.28
A14: F | B14: 5 | C14: FORNECIMENTOS - MATERIAL ASFÁLTICO (BDI DIFERENCIADO) | D14: FISICO | E14: 0.2951 | G14: 0.2 | H14: 0.2 | I14: 0.3 | J14: 0.2 | K14: 0.1 | L14: 1
D15: FINANCEIRO | E15: 575541.78 | F15: 0 | G15: 115108.36 | H15: 115108.36 | I15: 172662.53 | J15: 115108.36 | K15: 57554.18 | L15: 575541.77
B16: TOTAL | D16: FISICO | E16: 1 | F16: 0.14453711 | G16: 0.23855801 | H16: 0.2038148 | I16: 0.19858654 | J16: 0.1274388 | K16: 0.087064743 | L16: 1
D17: FINANCEIRO | E17: 1950000 | F17: 281847.36 | G17: 465188.13 | H17: 397438.86 | I17: 387243.76 | J17: 248505.66 | K17: 169776.25 | L17: 1950000
B19: OBSERVAÇÕES:
