Workbook
Name __?Banco_de_da: '[1]BDI (EDITAL 2)'!#REF!
Name __?Banco_de_da: '[1]BDI (EDITAL 2)'!#REF!
Name __?Banco_de_da: '[1]BDI (EDITAL 2)'!#REF!
Name __\S: [2]COMPOS1!#REF!
Name __\x: [3]PLMUSEU!#REF!
Name __\z: [3]PLMUSEU!#REF!
Name ________\C: #REF!
Name ________\C: #REF!
Name ________\C: #REF!
Name ________\C: #REF!
Name ________\D: #REF!
Name ________\D: #REF!
Name ________\D: #REF!
Name ________\D: #REF!
Name ________\G: #REF!
Name ________\G: #REF!
Name ________\G: #REF!
Name ________\G: #REF!
Name ________\M: #REF!
Name ________\M: #REF!
Name ________\M: #REF!
Name ________\M: #REF!
Name ________\P: #REF!
Name ________\P: #REF!
Name ________\P: #REF!
Name ________\P: #REF!
Name ________\R: #REF!
Name ________\R: #REF!
Name ________\R: #REF!
Name ________\R: #REF!
Name ________\Y: #REF!
Name ________\Y: #REF!
Name ________\Y: #REF!
Name ________\Y: #REF!
Name _________\I: #REF!
Name _________\I: #REF!
Name _________\I: #REF!
Name _________\I: #REF!
Name ________________sub1: #REF!
Name ________________sub1: #REF!
Name ________________sub1: #REF!
Name ________________sub1: #REF!
Name ________________sub3: #REF!
Name ________________sub3: #REF!
Name ________________sub3: #REF!
Name ________________sub3: #REF!
Name ______________ELE3: #REF!
Name ______________ELE3: #REF!
Name ______________ELE3: #REF!
Name ______________ELE3: #REF!
Name ______________sub1: #REF!
Name ______________sub1: #REF!
Name ______________sub1: #REF!
Name ______________sub1: #REF!
Name ______________sub2: #REF!
Name ______________sub2: #REF!
Name ______________sub2: #REF!
Name ______________sub2: #REF!
Name ______________sub3: #REF!
Name ______________sub3: #REF!

Sheet Resumo do Orçamento
D1: Obra | E1: Bancos | F1: B.D.I. | I1: Encargos Sociais
D2: CONCLUSÃO DA OBRA DE CONSTRUÇÃO DA UNIDADE DESCENTRALIZADA DA CODEVASF NO ESTADO DO AMAPÁ - 11ª SUPERINTENDÊNCIA REGIONAL, NO MUNICÍPIO DE MACAPÁ/AP. | E2: SINAPI - 03/2026 - Amapá SICRO3 - 01/2026 - Amapá SBC 05/2026 EMOP 03/2026 SIURB 01/2026 | F2: 23,08% | I2: Não Desonerado: embutido nos preços unitário dos insumos de mão de obra, de acordo com as bases.
A3: Planilha Orçamentária Resumida
A4: Item | D4: Descrição | I4: Total | J4: Peso (%)
A5: 0 | D5: ELABORAÇÃO/COMPATIBILIZAÇÃO DE PROJETOS | G5: 1 | I5: =VLOOKUP(D5,'Orçamento Sintético'!$D$5:$J$417,6,FALSE) -> 6780.65 | J5: =I5/$I$26 -> 0.00095295579
A6: 1 | D6: INSTALAÇÕES INICIAIS DA OBRA | G6: 1 | I6: =VLOOKUP(D6,'Orçamento Sintético'!$D$5:$J$417,6,FALSE) -> 2542.21 | J6: =I6/$I$26 -> 0.00035728341
A7: 2 | D7: PREPARO DO TERRENO - MOVIMENTO DE TERRA E LIMPEZA | G7: 1 | I7: =VLOOKUP(D7,'Orçamento Sintético'!$D$5:$J$417,6,FALSE) -> 84619.38 | J7: =I7/$I$26 -> 0.011892448
A8: 3 | D8: INFRAESTRUTURA | G8: 1 | I8: =VLOOKUP(D8,'Orçamento Sintético'!$D$5:$J$417,6,FALSE) -> 494716.37 | J8: =I8/$I$26 -> 0.069527675
A9: 4 | D9: SUPERESTRUTURA | G9: 1 | I9: =VLOOKUP(D9,'Orçamento Sintético'!$D$5:$J$417,6,FALSE) -> 2240065.8 | J9: =I9/$I$26 -> 0.31481992
A10: 5 | D10: ALVENARIAS E DIVISÕES E ACESSÓRIOS | G10: 1 | I10: =VLOOKUP(D10,'Orçamento Sintético'!$D$5:$J$417,6,FALSE) -> 555245.65 | J10: =I10/$I$26 -> 0.078034489
A11: 6 | D11: IMPERMEABILIZAÇÕES | G11: 1 | I11: =VLOOKUP(D11,'Orçamento Sintético'!$D$5:$J$417,6,FALSE) -> 289143.44 | J11: =I11/$I$26 -> 0.040636357
A12: 7 | D12: PEITORIS E CHAPINS | G12: 1 | I12: =VLOOKUP(D12,'Orçamento Sintético'!$D$5:$J$417,6,FALSE) -> 30850.4 | J12: =I12/$I$26 -> 0.0043357299
A13: 8 | D13: REVESTIMENTOS - PAREDES | G13: 1 | I13: =VLOOKUP(D13,'Orçamento Sintético'!$D$5:$J$417,6,FALSE) -> 59469.93 | J13: =I13/$I$26 -> 0.0083579323
A14: 9 | D14: REVESTIMENTOS - PISOS | G14: 1 | I14: =VLOOKUP(D14,'Orçamento Sintético'!$D$5:$J$417,6,FALSE) -> 610152.66 | J14: =I14/$I$26 -> 0.085751146
A15: 10 | D15: INSTALAÇÕES HIDROSSANITÁRIAS | G15: 1 | I15: =VLOOKUP(D15,'Orçamento Sintético'!$D$5:$J$417,6,FALSE) -> 212813.86 | J15: =I15/$I$26 -> 0.029908961
A16: 11 | D16: INSTALAÇÕES ELÉTRICAS | G16: 1 | I16: =VLOOKUP(D16,'Orçamento Sintético'!$D$5:$J$417,6,FALSE) -> 331108.28 | J16: =I16/$I$26 -> 0.046534116
... A23: 18 | D23: ADMINISTRAÇÃO LOCAL | G23: 1 | I23: =VLOOKUP(D23,'Orçamento Sintético'!$D$5:$J$417,6,FALSE) -> 495811.49 | J23: =I23/$I$26 -> 0.069681583
G26: Total Geral | I26: ='Orçamento Sintético'!H420 -> 7115387.8

Sheet Orçamento Sintético
D1: Obra | E1: Bancos | G1: B.D.I. | I1: Encargos Sociais
D2: CONCLUSÃO DA OBRA DE CONSTRUÇÃO DA UNIDADE DESCENTRALIZADA DA CODEVASF NO ESTADO DO AMAPÁ - 11ª SUPERINTENDÊNCIA REGIONAL, NO MUNICÍPIO DE MACAPÁ/AP. | E2: SINAPI - 03/2026 - Amapá SICRO3 - 01/2026 - Amapá SBC 05/2026 EMOP 03/2026 SIURB 01/2026 | G2: 23,08% | I2: Não Desonerado: embutido nos preços unitário dos insumos de mão de obra, de acordo com as bases.
A3: Orçamento Sintético
A4: Item | B4: Código | C4: Banco | D4: Descrição | E4: Und | F4: Quant. | G4: Valor Unit | H4: Valor Unit com BDI | I4: Total | J4: Peso (%)
A5: 0. | D5: ELABORAÇÃO/COMPATIBILIZAÇÃO DE PROJETOS | F5: 1 | I5: =SUM(I6:I8) -> 6780.65 | J5: =I5/$H$420 -> 0.00095295579
A6: 0.1 | B6: 90778 | C6: SINAPI | D6: ENGENHEIRO CIVIL DE OBRA PLENO COM ENCARGOS COMPLEMENTARES | E6: H | F6: 15 | G6: =VLOOKUP(B6,'Orçamento Analítico'!$B$6:$I$2743,7,FALSE) -> 146.61 | H6: =G6*(1+$G$2) -> 180.44759 | I6: =TRUNC(H6*F6,2) -> 2706.71 | J6: =I6/$H$420 -> 0.00038040231
A7: 0.2 | B7: 90769 | C7: SINAPI | D7: ARQUITETO DE OBRA PLENO COM ENCARGOS COMPLEMENTARES | E7: H | F7: 20 | G7: =VLOOKUP(B7,'Orçamento Analítico'!$B$6:$I$2743,7,FALSE) -> 144.36 | H7: =G7*(1+$G$2) -> 177.67829 | I7: =TRUNC(H7*F7,2) -> 3553.56 | J7: =I7/$H$420 -> 0.00049941902
A8: 0.3 | B8: 90775 | C8: SINAPI | D8: DESENHISTA PROJETISTA COM ENCARGOS COMPLEMENTARES | E8: H | F8: 20 | G8: =VLOOKUP(B8,'Orçamento Analítico'!$B$6:$I$2743,7,FALSE) -> 21.14 | H8: =G8*(1+$G$2) -> 26.019112 | I8: =TRUNC(H8*F8,2) -> 520.38 | J8: =I8/$H$420 -> 7.3134453e-05
A9: 1 | D9: INSTALAÇÕES INICIAIS DA OBRA | F9: 1 | I9: =SUM(I10) -> 2542.21 | J9: =I9/$H$420 -> 0.00035728341
A10: 1.1 | B10: COMP. SEDE 11 - 01 | C10: Próprio | D10: FORNECIMENTO E COLOCAÇÃO DE PLACA DE OBRA (4,80 X 2,4 0 M) - EM CHAPA GALVANIZADA *N. 22*, ADESIVADA E FIXADA COM SUPORTE EM EUCALIPTO AUTOCLAVADO. | E10: UN | F10: 1 | G10: =VLOOKUP(B10,'Orçamento Analítico'!$B$6:$I$2743,7,FALSE) -> 2065.5 | H10: =G10*(1+$G$2) -> 2542.2174 | I10: =TRUNC(H10*F10,2) -> 2542.21 | J10: =I10/$H$420 -> 0.00035728341
A11: 2 | D11: PREPARO DO TERRENO - MOVIMENTO DE TERRA E LIMPEZA | F11: 1 | I11: =SUM(I12:I15) -> 84619.38 | J11: =I11/$H$420 -> 0.011892448
A12: 2.1 | B12: 100575-M | C12: SINAPI | D12: REGULARIZAÇÃO DE SUPERFÍCIES COM MOTONIVELADORA. AF_09/2024 | E12: m² | F12: 1285 | G12: =VLOOKUP(B12,'Orçamento Analítico'!$B$6:$I$2743,7,FALSE) -> 1.87 | H12: =G12*(1+$G$2) -> 2.301596 | I12: =TRUNC(H12*F12,2) -> 2957.55 | J12: =I12/$H$420 -> 0.00041565549
A13: 2.2 | B13: 96386 | C13: SINAPI | D13: EXECUÇÃO E COMPACTAÇÃO DE CORPO DE ATERRO (95% DE ENERGIA DO PROCTOR NORMAL) COM SOLO PREDOMINANTEMENTE ARENOSO ESPESSURA 15CM - EXCLUSIVE MATERIAL, ESCAVAÇÃO, CARGA E TRANSPORTE. AF_09/2024 | E13: m³ | F13: 1582.64 | G13: =VLOOKUP(B13,'Orçamento Analítico'!$B$6:$I$2743,7,FALSE) -> 6.52 | H13: =G13*(1+$G$2) -> 8.024816 | I13: =TRUNC(H13*F13,2) -> 12700.39 | J13: =I13/$H$420 -> 0.0017849189
A14: 2.3 | B14: 100979 | C14: SINAPI | D14: CARGA, MANOBRA E DESCARGA DE SOLOS E MATERIAIS GRANULARES EM CAMINHÃO BASCULANTE 14 M³ - CARGA COM ESCAVADEIRA HIDRÁULICA (CAÇAMBA DE 1,20 M³ / 155 HP) E DESCARGA LIVRE (UNIDADE: M3). AF_07/2020 | E14: m³ | F14: 2198.11 | G14: =VLOOKUP(B14,'Orçamento Analítico'!$B$6:$I$2743,7,FALSE) -> 6.77 | H14: =G14*(1+$G$2) -> 8.332516 | I14: =TRUNC(H14*F14,2) -> 18315.78 | J14: =I14/$H$420 -> 0.0025741085
A15: 2.4 | B15: 95876 | C15: SINAPI | D15: TRANSPORTE COM CAMINHÃO BASCULANTE DE 14 M³, EM VIA URBANA PAVIMENTADA, DMT ATÉ 30 KM (UNIDADE: M3XKM). AF_07/2020 | E15: M3XKM | F15: 17584.86 | G15: =VLOOKUP(B15,'Orçamento Analítico'!$B$6:$I$2743,7,FALSE) -> 2.34 | H15: =G15*(1+$G$2) -> 2.880072 | I15: =TRUNC(H15*F15,2) -> 50645.66 | J15: =I15/$H$420 -> 0.0071177652
A16: 3 | D16: INFRAESTRUTURA | F16: 1 | I16: =SUM(I17:I34) -> 494716.37 | J16: =I16/$H$420 -> 0.069527675
A17: 3.1 | B17: 96523 | C17: SINAPI | D17: ESCAVAÇÃO MANUAL PARA BLOCO DE COROAMENTO OU SAPATA (INCLUINDO ESCAVAÇÃO PARA COLOCAÇÃO DE FÔRMAS). AF_01/2024 | E17: m³ | F17: 22.5 | G17: =VLOOKUP(B17,'Orçamento Analítico'!$B$6:$I$2743,7,FALSE) -> 93.28 | H17: =G17*(1+$G$2) -> 114.80902 | I17: =TRUNC(H17*F17,2) -> 2583.2 | J17: =I17/$H$420 -> 0.00036304416
A18: 3.2 | B18: 96527 | C18: SINAPI | D18: ESCAVAÇÃO MANUAL PARA VIGA BALDRAME OU SAPATA CORRIDA (INCLUINDO ESCAVAÇÃO PARA COLOCAÇÃO DE FÔRMAS). AF_01/2024 | E18: m³ | F18: 5.13 | G18: =VLOOKUP(B18,'Orçamento Analítico'!$B$6:$I$2743,7,FALSE) -> 102.62 | H18: =G18*(1+$G$2) -> 126.3047 | I18: =TRUNC(H18*F18,2) -> 647.94 | J18: =I18/$H$420 -> 9.1061797e-05
A19: 3.3 | B19: 96619 | C19: SINAPI | D19: LASTRO DE CONCRETO MAGRO, APLICADO EM BLOCOS DE COROAMENTO OU SAPATAS, ESPESSURA DE 5 CM. AF_01/2024 | E19: m² | F19: 9 | G19: =VLOOKUP(B19,'Orçamento Analítico'!$B$6:$I$2743,7,FALSE) -> 54.62 | H19: =G19*(1+$G$2) -> 67.226296 | I19: =TRUNC(H19*F19,2) -> 605.03 | J19: =I19/$H$420 -> 8.5031205e-05
A20: 3.4 | B20: 96541 | C20: SINAPI | D20: FABRICAÇÃO, MONTAGEM E DESMONTAGEM DE FÔRMA PARA SAPATA, EM CHAPA DE MADEIRA COMPENSADA RESINADA, E=17 MM, 4 UTILIZAÇÕES. AF_01/2024 | E20: m² | F20: 14.4 | G20: =VLOOKUP(B20,'Orçamento Analítico'!$B$6:$I$2743,7,FALSE) -> 185.49 | H20: =G20*(1+$G$2) -> 228.30109 | I20: =TRUNC(H20*F20,2) -> 3287.53 | J20: =I20/$H$420 -> 0.00046203103
A21: 3.5 | B21: 96542 | C21: SINAPI | D21: FABRICAÇÃO, MONTAGEM E DESMONTAGEM DE FÔRMA PARA VIGA BALDRAME, EM CHAPA DE MADEIRA COMPENSADA RESINADA, E=17 MM, 4 UTILIZAÇÕES. AF_01/2024 | E21: m² | F21: 545.97 | G21: =VLOOKUP(B21,'Orçamento Analítico'!$B$6:$I$2743,7,FALSE) -> 100.78 | H21: =G21*(1+$G$2) -> 124.04002 | I21: =TRUNC(H21*F21,2) -> 67722.13 | J21: =I21/$H$420 -> 0.0095177005
A22: 3.6 | B22: 92419 | C22: SINAPI | D22: MONTAGEM E DESMONTAGEM DE FÔRMA DE PILARES RETANGULARES E ESTRUTURAS SIMILARES, PÉ-DIREITO SIMPLES, EM CHAPA DE MADEIRA COMPENSADA RESINADA, 4 UTILIZAÇÕES. AF_09/2020 | E22: m² | F22: 24.21 | G22: =VLOOKUP(B22,'Orçamento Analítico'!$B$6:$I$2743,7,FALSE) -> 96.99 | H22: =G22*(1+$G$2) -> 119.37529 | I22: =TRUNC(H22*F22,2) -> 2890.07 | J22: =I22/$H$420 -> 0.00040617182
A23: 3.7 | B23: 104916 | C23: SINAPI | D23: ARMAÇÃO DE SAPATA ISOLADA, VIGA BALDRAME E SAPATA CORRIDA UTILIZANDO AÇO CA-60 DE 5 MM - MONTAGEM. AF_01/2024 | E23: KG | F23: 100 | G23: =VLOOKUP(B23,'Orçamento Analítico'!$B$6:$I$2743,7,FALSE) -> 17.65 | H23: =G23*(1+$G$2) -> 21.72362 | I23: =TRUNC(H23*F23,2) -> 2172.36 | J23: =I23/$H$420 -> 0.00030530451
A24: 3.8 | B24: 104918 | C24: SINAPI | D24: ARMAÇÃO DE SAPATA ISOLADA, VIGA BALDRAME E SAPATA CORRIDA UTILIZANDO AÇO CA-50 DE 8 MM - MONTAGEM. AF_01/2024 | E24: KG | F24: 120 | G24: =VLOOKUP(B24,'Orçamento Analítico'!$B$6:$I$2743,7,FALSE) -> 15.42 | H24: =G24*(1+$G$2) -> 18.978936 | I24: =TRUNC(H24*F24,2) -> 2277.47 | J24: =I24/$H$420 -> 0.00032007672
A25: 3.9 | B25: 104919 | C25: SINAPI | D25: ARMAÇÃO DE SAPATA ISOLADA, VIGA BALDRAME E SAPATA CORRIDA UTILIZANDO AÇO CA-50 DE 10 MM - MONTAGEM. AF_01/2024 | E25: KG | F25: 190 | G25: =VLOOKUP(B25,'Orçamento Analítico'!$B$6:$I$2743,7,FALSE) -> 13.78 | H25: =G25*(1+$G$2) -> 16.960424 | I25: =TRUNC(H25*F25,2) -> 3222.48 | J25: =I25/$H$420 -> 0.00045288888
A26: 3.10 | B26: 104920 | C26: SINAPI | D26: ARMAÇÃO DE BLOCO, SAPATA ISOLADA, VIGA BALDRAME E SAPATA CORRIDA UTILIZANDO AÇO CA-50 DE 12,5 MM - MONTAGEM. AF_01/2024 | E26: KG | F26: 50 | G26: =VLOOKUP(B26,'Orçamento Analítico'!$B$6:$I$2743,7,FALSE) -> 11.72 | H26: =G26*(1+$G$2) -> 14.424976 | I26: =TRUNC(H26*F26,2) -> 721.24 | J26: =I26/$H$420 -> 0.00010136341
A27: 3.11 | B27: 96558 | C27: SINAPI | D27: CONCRETAGEM DE SAPATA, FCK 30 MPA, COM USO DE BOMBA - LANÇAMENTO, ADENSAMENTO E ACABAMENTO. AF_01/2024 | E27: m³ | F27: 4.68 | G27: =VLOOKUP(B27,'Orçamento Analítico'!$B$6:$I$2743,7,FALSE) -> 1221.51 | H27: =G27*(1+$G$2) -> 1503.4345 | I27: =TRUNC(H27*F27,2) -> 7036.07 | J27: =I27/$H$420 -> 0.00098885263
A28: 3.12 | B28: 96557 | C28: SINAPI | D28: CONCRETAGEM DE BLOCO DE COROAMENTO OU VIGA BALDRAME, FCK 30 MPA, COM USO DE BOMBA - LANÇAMENTO, ADENSAMENTO E ACABAMENTO. AF_01/2024 | E28: m³ | F28: 52.86 | G28: =VLOOKUP(B28,'Orçamento Analítico'!$B$6:$I$2743,7,FALSE) -> 1178.06 | H28: =G28*(1+$G$2) -> 1449.9562 | I28: =TRUNC(H28*F28,2) -> 76644.68 | J28: =I28/$H$420 -> 0.01077168
A29: 3.13 | B29: 98557 | C29: SINAPI | D29: IMPERMEABILIZAÇÃO DE SUPERFÍCIE COM EMULSÃO ASFÁLTICA, 2 DEMÃOS. AF_09/2023 | E29: m² | F29: 545.97 | G29: =VLOOKUP(B29,'Orçamento Analítico'!$B$6:$I$2743,7,FALSE) -> 50.1 | H29: =G29*(1+$G$2) -> 61.66308 | I29: =TRUNC(H29*F29,2) -> 33666.19 | J29: =I29/$H$420 -> 0.0047314624
A30: 3.14 | B30: COMP. SEDE 02 | C30: Próprio | D30: ATERRO MANUAL DE VALAS COM SOLO ARGILO-ARENOSO E COMPACTAÇÃO MECANIZADA. | E30: M² | F30: 1130 | G30: =VLOOKUP(B30,'Orçamento Analítico'!$B$6:$I$2743,7,FALSE) -> 53.21 | H30: =G30*(1+$G$2) -> 65.490868 | I30: =TRUNC(H30*F30,2) -> 74004.68 | J30: =I30/$H$420 -> 0.010400653
A31: 3.15 | B31: COMP. SEDE 11 - 03 | C31: Próprio | D31: ALVENARIA DE BLOCO DE CONCRETO CHEIO COM ARMAÇÃO, EM CONCRETO COM FCK 15MPA , ESP. 14CM, PARA REVESTIMENTO, INCLUSIVE ARGAMASSA PARA ASSENTAMENTO | E31: M² | F31: 120.5 | G31: =VLOOKUP(B31,'Orçamento Analítico'!$B$6:$I$2743,7,FALSE) -> 321.81 | H31: =G31*(1+$G$2) -> 396.08375 | I31: =TRUNC(H31*F31,2) -> 47728.09 | J31: =I31/$H$420 -> 0.0067077285
A32: 3.16 | B32: 97087 | C32: SINAPI | D32: CAMADA SEPARADORA PARA EXECUÇÃO DE RADIER, PISO DE CONCRETO OU LAJE SOBRE SOLO, EM LONA PLÁSTICA. AF_09/2021 | E32: m² | F32: 1000 | G32: =VLOOKUP(B32,'Orçamento Analítico'!$B$6:$I$2743,7,FALSE) -> 2.47 | H32: =G32*(1+$G$2) -> 3.040076 | I32: =TRUNC(H32*F32,2) -> 3040.07 | J32: =I32/$H$420 -> 0.00042725289
A33: 3.17 | B33: 92768 | C33: SINAPI | D33: ARMAÇÃO DE LAJE DE ESTRUTURA CONVENCIONAL DE CONCRETO ARMADO UTILIZANDO AÇO CA-60 DE 5,0 MM - MONTAGEM. AF_06/2022 | E33: KG | F33: 1751.98 | G33: =VLOOKUP(B33,'Orçamento Analítico'!$B$6:$I$2743,7,FALSE) -> 14.49 | H33: =G33*(1+$G$2) -> 17.834292 | I33: =TRUNC(H33*F33,2) -> 31245.32 | J33: =I33/$H$420 -> 0.0043912322
A34: 3.18 | B34: COMP. SEDE 11 - 31 | C34: SINAPI | D34: CONCRETAGEM DE RADIER, PISO DE CONCRETO OU LAJE SOBRE SOLO, FCK 25 MPA - LANÇAMENTO, ADENSAMENTO E ACABAMENTO. AF_09/2021 | E34: m³ | F34: 111.16 | G34: =VLOOKUP(B34,'Orçamento Analítico'!$B$6:$I$2743,7,FALSE) -> 988.35 | H34: =G34*(1+$G$2) -> 1216.4612 | I34: =TRUNC(H34*F34,2) -> 135221.82 | J34: =I34/$H$420 -> 0.019004139
A35: 4 | D35: SUPERESTRUTURA | F35: 1 | I35: =SUM(I36:I53) -> 2240065.8 | J35: =I35/$H$420 -> 0.31481992
A36: 4.1 | B36: COMP. SEDE 11 - 04 | C36: Próprio | D36: VIGA METÁLICA EM PERFIL W 610 x 113, LAMINADO OU SOLDADO, EM AÇO ESTRUTURAL, COM CONEXÕES SOLDADAS, INCLUSOS MÃO DE OBRA, TRANSPORTE E IÇAMENTO UTILIZANDO GUINDASTE - FORNECIMENTO E INSTALAÇÃO. AF_01/2020_P | E36: KG | F36: 18976 | G36: =VLOOKUP(B36,'Orçamento Analítico'!$B$6:$I$2743,7,FALSE) -> 14.05 | H36: =G36*(1+$G$2) -> 17.29274 | I36: =TRUNC(H36*F36,2) -> 328147.03 | J36: =I36/$H$420 -> 0.04611794
A37: 4.2 | B37: COMP. SEDE 11 - 05 | C37: Próprio | D37: VIGA METÁLICA EM PERFIL W 530 x 101, LAMINADO OU SOLDADO, EM AÇO ESTRUTURAL, COM CONEXÕES SOLDADAS, INCLUSOS MÃO DE OBRA, TRANSPORTE E IÇAMENTO UTILIZANDO GUINDASTE - FORNECIMENTO E INSTALAÇÃO. AF_01/2020_P | E37: KG | F37: 8019 | G37: =VLOOKUP(B37,'Orçamento Analítico'!$B$6:$I$2743,7,FALSE) -> 14.05 | H37: =G37*(1+$G$2) -> 17.29274 | I37: =TRUNC(H37*F37,2) -> 138670.48 | J37: =I37/$H$420 -> 0.019488815
A38: 4.3 | B38: COMP. SEDE 11 - 06 | C38: Próprio | D38: VIGA METÁLICA EM PERFIL W 530 x 74, LAMINADO OU SOLDADO, EM AÇO ESTRUTURAL, COM CONEXÕES SOLDADAS, INCLUSOS MÃO DE OBRA, TRANSPORTE E IÇAMENTO UTILIZANDO GUINDASTE - FORNECIMENTO E INSTALAÇÃO. AF_01/2020_P | E38: KG | F38: 5892 | G38: =VLOOKUP(B38,'Orçamento Analítico'!$B$6:$I$2743,7,FALSE) -> 14.05 | H38: =G38*(1+$G$2) -> 17.29274 | I38: =TRUNC(H38*F38,2) -> 101888.82 | J38: =I38/$H$420 -> 0.014319503
A39: 4.4 | B39: COMP. SEDE 11 - 07 | C39: Próprio | D39: VIGA METÁLICA EM PERFIL W 530 x 72, LAMINADO OU SOLDADO, EM AÇO ESTRUTURAL, COM CONEXÕES SOLDADAS, INCLUSOS MÃO DE OBRA, TRANSPORTE E IÇAMENTO UTILIZANDO GUINDASTE - FORNECIMENTO E INSTALAÇÃO. AF_01/2020_P | E39: KG | F39: 1994.9 | G39: =VLOOKUP(B39,'Orçamento Analítico'!$B$6:$I$2743,7,FALSE) -> 14.05 | H39: =G39*(1+$G$2) -> 17.29274 | I39: =TRUNC(H39*F39,2) -> 34497.28 | J39: =I39/$H$420 -> 0.0048482642
A40: 4.5 | B40: COMP. SEDE 11 - 08 | C40: Próprio | D40: VIGA METÁLICA EM PERFIL W 460 x 60, LAMINADO OU SOLDADO, EM AÇO ESTRUTURAL, COM CONEXÕES SOLDADAS, INCLUSOS MÃO DE OBRA, TRANSPORTE E IÇAMENTO UTILIZANDO GUINDASTE - FORNECIMENTO E INSTALAÇÃO. AF_01/2020_P | E40: KG | F40: 522.6 | G40: =VLOOKUP(B40,'Orçamento Analítico'!$B$6:$I$2743,7,FALSE) -> 14.05 | H40: =G40*(1+$G$2) -> 17.29274 | I40: =TRUNC(H40*F40,2) -> 9037.18 | J40: =I40/$H$420 -> 0.0012700896
...

Sheet Orçamento Analítico
D1: Obra | E1: Bancos | F1: B.D.I. | H1: Encargos Sociais
D2: CONCLUSÃO DA OBRA DE CONSTRUÇÃO DA UNIDADE DESCENTRALIZADA DA CODEVASF NO ESTADO DO AMAPÁ - 11ª SUPERINTENDÊNCIA REGIONAL, NO MUNICÍPIO DE MACAPÁ/AP. | E2: SINAPI - 03/2026 - Amapá SICRO3 - 01/2026 - Amapá SBC 05/2026 EMOP 03/2026 SIURB 01/2026 | F2: 23,08% | H2: Não Desonerado: embutido nos preços unitário dos insumos de mão de obra, de acordo com as bases.
A3: Planilha Orçamentária Analítica
A4: 0 | D4: ELABORAÇÃO/COMPATIBILIZAÇÃO DE PROJETOS
A5: 0.1 | B5: Código | C5: Banco | D5: Descrição | E5: Tipo | F5: Und | G5: Quant. | H5: Valor Unit | I5: Total
A6: Composição | B6: 90778 | C6: SINAPI | D6: ENGENHEIRO CIVIL DE OBRA PLENO COM ENCARGOS COMPLEMENTARES | E6: Livro SINAPI: Cálculos e Parâmetros | F6: H | G6: 1 | H6: =I6 -> 146.61 | I6: =SUM(I7:I13) -> 146.61
A7: Composição Auxiliar | B7: 95403 | C7: SINAPI | D7: CURSO DE CAPACITAÇÃO PARA ENGENHEIRO CIVIL DE OBRA PLENO (ENCARGOS COMPLEMENTARES) - HORISTA | E7: Livro SINAPI: Cálculos e Parâmetros | F7: H | G7: 1 | H7: =IF(A7="Composição Auxiliar",VLOOKUP(B7,'SINAPI COMPOSIÇÃO'!$A$2:$E$10256,4,FALSE),IF(A7="Insumo",IF(VLOOKUP(B7,'SINAPI INSUMOS'!$A$2:$F$4852,5,FALSE)=OR("",0),VLOOKUP(B7,'SINAPI INSUMOS'!$A$2:$F$4852,6,FALSE),VLOOKUP(B7,'SINAPI INSUMOS'!$A$2:$F$4852,5,FALSE)),"VERIFICAR")) -> 2.08 | I7: =TRUNC(G7*H7,2) -> 2.08
A8: Insumo | B8: 2707 | C8: SINAPI | D8: ENGENHEIRO CIVIL DE OBRA PLENO (HORISTA) | E8: Mão de Obra | F8: H | G8: 1 | H8: =IF(A8="Composição Auxiliar",VLOOKUP(B8,'SINAPI COMPOSIÇÃO'!$A$2:$E$10256,4,FALSE),IF(A8="Insumo",IF(VLOOKUP(B8,'SINAPI INSUMOS'!$A$2:$F$4852,5,FALSE)=OR("",0),VLOOKUP(B8,'SINAPI INSUMOS'!$A$2:$F$4852,6,FALSE),VLOOKUP(B8,'SINAPI INSUMOS'!$A$2:$F$4852,5,FALSE)),"VERIFICAR")) -> 141.45 | I8: =TRUNC(G8*H8,2) -> 141.45
A9: Insumo | B9: 43486 | C9: SINAPI | D9: EPI - FAMILIA ENGENHEIRO CIVIL - HORISTA (ENCARGOS COMPLEMENTARES - COLETADO CAIXA) | E9: Encargos Complementares | F9: H | G9: 1 | H9: =IF(A9="Composição Auxiliar",VLOOKUP(B9,'SINAPI COMPOSIÇÃO'!$A$2:$E$10256,4,FALSE),IF(A9="Insumo",IF(VLOOKUP(B9,'SINAPI INSUMOS'!$A$2:$F$4852,5,FALSE)=OR("",0),VLOOKUP(B9,'SINAPI INSUMOS'!$A$2:$F$4852,6,FALSE),VLOOKUP(B9,'SINAPI INSUMOS'!$A$2:$F$4852,5,FALSE)),"VERIFICAR")) -> 1.09 | I9: =TRUNC(G9*H9,2) -> 1.09
A10: Insumo | B10: 43462 | C10: SINAPI | D10: FERRAMENTAS - FAMILIA ENGENHEIRO CIVIL - HORISTA (ENCARGOS COMPLEMENTARES - COLETADO CAIXA) | E10: Encargos Complementares | F10: H | G10: 1 | H10: =IF(A10="Composição Auxiliar",VLOOKUP(B10,'SINAPI COMPOSIÇÃO'!$A$2:$E$10256,4,FALSE),IF(A10="Insumo",IF(VLOOKUP(B10,'SINAPI INSUMOS'!$A$2:$F$4852,5,FALSE)=OR("",0),VLOOKUP(B10,'SINAPI INSUMOS'!$A$2:$F$4852,6,FALSE),VLOOKUP(B10,'SINAPI INSUMOS'!$A$2:$F$4852,5,FALSE)),"VERIFICAR")) -> 0.02 | I10: =TRUNC(G10*H10,2) -> 0.02
A11: Insumo | B11: 37370 | C11: SINAPI | D11: ALIMENTACAO - HORISTA (COLETADO CAIXA - ENCARGOS COMPLEMENTARES) | E11: Encargos Complementares | F11: H | G11: 1 | H11: =IF(A11="Composição Auxiliar",VLOOKUP(B11,'SINAPI COMPOSIÇÃO'!$A$2:$E$10256,4,FALSE),IF(A11="Insumo",IF(VLOOKUP(B11,'SINAPI INSUMOS'!$A$2:$F$4852,5,FALSE)=OR("",0),VLOOKUP(B11,'SINAPI INSUMOS'!$A$2:$F$4852,6,FALSE),VLOOKUP(B11,'SINAPI INSUMOS'!$A$2:$F$4852,5,FALSE)),"VERIFICAR")) -> 0.66 | I11: =TRUNC(G11*H11,2) -> 0.66
A12: Insumo | B12: 37372 | C12: SINAPI | D12: EXAMES - HORISTA (COLETADO CAIXA - ENCARGOS COMPLEMENTARES) | E12: Encargos Complementares | F12: H | G12: 1 | H12: =IF(A12="Composição Auxiliar",VLOOKUP(B12,'SINAPI COMPOSIÇÃO'!$A$2:$E$10256,4,FALSE),IF(A12="Insumo",IF(VLOOKUP(B12,'SINAPI INSUMOS'!$A$2:$F$4852,5,FALSE)=OR("",0),VLOOKUP(B12,'SINAPI INSUMOS'!$A$2:$F$4852,6,FALSE),VLOOKUP(B12,'SINAPI INSUMOS'!$A$2:$F$4852,5,FALSE)),"VERIFICAR")) -> 1.3 | I12: =TRUNC(G12*H12,2) -> 1.3
A13: Insumo | B13: 37373 | C13: SINAPI | D13: SEGURO - HORISTA (COLETADO CAIXA - ENCARGOS COMPLEMENTARES) | E13: Encargos Complementares | F13: H | G13: 1 | H13: =IF(A13="Composição Auxiliar",VLOOKUP(B13,'SINAPI COMPOSIÇÃO'!$A$2:$E$10256,4,FALSE),IF(A13="Insumo",IF(VLOOKUP(B13,'SINAPI INSUMOS'!$A$2:$F$4852,5,FALSE)=OR("",0),VLOOKUP(B13,'SINAPI INSUMOS'!$A$2:$F$4852,6,FALSE),VLOOKUP(B13,'SINAPI INSUMOS'!$A$2:$F$4852,5,FALSE)),"VERIFICAR")) -> 0.01 | I13: =TRUNC(G13*H13,2) -> 0.01
A14: 0.2 | B14: Código | C14: Banco | D14: Descrição | E14: Tipo | F14: Und | G14: Quant. | H14: Valor Unit | I14: Total
A15: Composição | B15: 90769 | C15: SINAPI | D15: ARQUITETO DE OBRA PLENO COM ENCARGOS COMPLEMENTARES | E15: Livro SINAPI: Cálculos e Parâmetros | F15: H | G15: 1 | H15: =I15 -> 144.36 | I15: =SUM(I16:I22) -> 144.36
A16: Composição Auxiliar | B16: 95395 | C16: SINAPI | D16: CURSO DE CAPACITAÇÃO PARA ARQUITETO DE OBRA PLENO (ENCARGOS COMPLEMENTARES) - HORISTA | E16: Livro SINAPI: Cálculos e Parâmetros | F16: H | G16: 1 | H16: =IF(A16="Composição Auxiliar",VLOOKUP(B16,'SINAPI COMPOSIÇÃO'!$A$2:$E$10256,4,FALSE),IF(A16="Insumo",IF(VLOOKUP(B16,'SINAPI INSUMOS'!$A$2:$F$4852,5,FALSE)=OR("",0),VLOOKUP(B16,'SINAPI INSUMOS'!$A$2:$F$4852,6,FALSE),VLOOKUP(B16,'SINAPI INSUMOS'!$A$2:$F$4852,5,FALSE)),"VERIFICAR")) -> 1.16 | I16: =TRUNC(G16*H16,2) -> 1.16
A17: Insumo | B17: 37372 | C17: SINAPI | D17: EXAMES - HORISTA (COLETADO CAIXA - ENCARGOS COMPLEMENTARES) | E17: Encargos Complementares | F17: H | G17: 1 | H17: =IF(A17="Composição Auxiliar",VLOOKUP(B17,'SINAPI COMPOSIÇÃO'!$A$2:$E$10256,4,FALSE),IF(A17="Insumo",IF(VLOOKUP(B17,'SINAPI INSUMOS'!$A$2:$F$4852,5,FALSE)=OR("",0),VLOOKUP(B17,'SINAPI INSUMOS'!$A$2:$F$4852,6,FALSE),VLOOKUP(B17,'SINAPI INSUMOS'!$A$2:$F$4852,5,FALSE)),"VERIFICAR")) -> 1.3 | I17: =TRUNC(G17*H17,2) -> 1.3
A18: Insumo | B18: 37373 | C18: SINAPI | D18: SEGURO - HORISTA (COLETADO CAIXA - ENCARGOS COMPLEMENTARES) | E18: Encargos Complementares | F18: H | G18: 1 | H18: =IF(A18="Composição Auxiliar",VLOOKUP(B18,'SINAPI COMPOSIÇÃO'!$A$2:$E$10256,4,FALSE),IF(A18="Insumo",IF(VLOOKUP(B18,'SINAPI INSUMOS'!$A$2:$F$4852,5,FALSE)=OR("",0),VLOOKUP(B18,'SINAPI INSUMOS'!$A$2:$F$4852,6,FALSE),VLOOKUP(B18,'SINAPI INSUMOS'!$A$2:$F$4852,5,FALSE)),"VERIFICAR")) -> 0.01 | I18: =TRUNC(G18*H18,2) -> 0.01
A19: Insumo | B19: 37370 | C19: SINAPI | D19: ALIMENTACAO - HORISTA (COLETADO CAIXA - ENCARGOS COMPLEMENTARES) | E19: Encargos Complementares | F19: H | G19: 1 | H19: =IF(A19="Composição Auxiliar",VLOOKUP(B19,'SINAPI COMPOSIÇÃO'!$A$2:$E$10256,4,FALSE),IF(A19="Insumo",IF(VLOOKUP(B19,'SINAPI INSUMOS'!$A$2:$F$4852,5,FALSE)=OR("",0),VLOOKUP(B19,'SINAPI INSUMOS'!$A$2:$F$4852,6,FALSE),VLOOKUP(B19,'SINAPI INSUMOS'!$A$2:$F$4852,5,FALSE)),"VERIFICAR")) -> 0.66 | I19: =TRUNC(G19*H19,2) -> 0.66
A20: Insumo | B20: 43486 | C20: SINAPI | D20: EPI - FAMILIA ENGENHEIRO CIVIL - HORISTA (ENCARGOS COMPLEMENTARES - COLETADO CAIXA) | E20: Encargos Complementares | F20: H | G20: 1 | H20: =IF(A20="Composição Auxiliar",VLOOKUP(B20,'SINAPI COMPOSIÇÃO'!$A$2:$E$10256,4,FALSE),IF(A20="Insumo",IF(VLOOKUP(B20,'SINAPI INSUMOS'!$A$2:$F$4852,5,FALSE)=OR("",0),VLOOKUP(B20,'SINAPI INSUMOS'!$A$2:$F$4852,6,FALSE),VLOOKUP(B20,'SINAPI INSUMOS'!$A$2:$F$4852,5,FALSE)),"VERIFICAR")) -> 1.09 | I20: =TRUNC(G20*H20,2) -> 1.09
A21: Insumo | B21: 33952 | C21: SINAPI | D21: ARQUITETO PLENO (HORISTA) | E21: Mão de Obra | F21: H | G21: 1 | H21: =IF(A21="Composição Auxiliar",VLOOKUP(B21,'SINAPI COMPOSIÇÃO'!$A$2:$E$10256,4,FALSE),IF(A21="Insumo",IF(VLOOKUP(B21,'SINAPI INSUMOS'!$A$2:$F$4852,5,FALSE)=OR("",0),VLOOKUP(B21,'SINAPI INSUMOS'!$A$2:$F$4852,6,FALSE),VLOOKUP(B21,'SINAPI INSUMOS'!$A$2:$F$4852,5,FALSE)),"VERIFICAR")) -> 140.12 | I21: =TRUNC(G21*H21,2) -> 140.12
A22: Insumo | B22: 43462 | C22: SINAPI | D22: FERRAMENTAS - FAMILIA ENGENHEIRO CIVIL - HORISTA (ENCARGOS COMPLEMENTARES - COLETADO CAIXA) | E22: Encargos Complementares | F22: H | G22: 1 | H22: =IF(A22="Composição Auxiliar",VLOOKUP(B22,'SINAPI COMPOSIÇÃO'!$A$2:$E$10256,4,FALSE),IF(A22="Insumo",IF(VLOOKUP(B22,'SINAPI INSUMOS'!$A$2:$F$4852,5,FALSE)=OR("",0),VLOOKUP(B22,'SINAPI INSUMOS'!$A$2:$F$4852,6,FALSE),VLOOKUP(B22,'SINAPI INSUMOS'!$A$2:$F$4852,5,FALSE)),"VERIFICAR")) -> 0.02 | I22: =TRUNC(G22*H22,2) -> 0.02
A23: 0.3 | B23: Código | C23: Banco | D23: Descrição | E23: Tipo | F23: Und | G23: Quant. | H23: Valor Unit | I23: Total
A24: Composição | B24: 90775 | C24: SINAPI | D24: DESENHISTA PROJETISTA COM ENCARGOS COMPLEMENTARES | E24: Livro SINAPI: Cálculos e Parâmetros | F24: H | G24: 1 | H24: =I24 -> 21.14 | I24: =SUM(I25:I32) -> 21.14
A25: Composição Auxiliar | B25: 95400 | C25: SINAPI | D25: CURSO DE CAPACITAÇÃO PARA DESENHISTA PROJETISTA (ENCARGOS COMPLEMENTARES) - HORISTA | E25: Livro SINAPI: Cálculos e Parâmetros | F25: H | G25: 1 | H25: =IF(A25="Composição Auxiliar",VLOOKUP(B25,'SINAPI COMPOSIÇÃO'!$A$2:$E$10256,4,FALSE),IF(A25="Insumo",IF(VLOOKUP(B25,'SINAPI INSUMOS'!$A$2:$F$4852,5,FALSE)=OR("",0),VLOOKUP(B25,'SINAPI INSUMOS'!$A$2:$F$4852,6,FALSE),VLOOKUP(B25,'SINAPI INSUMOS'!$A$2:$F$4852,5,FALSE)),"VERIFICAR")) -> 0.09 | I25: =TRUNC(G25*H25,2) -> 0.09
A26: Insumo | B26: 43469 | C26: SINAPI | D26: FERRAMENTAS - FAMILIA TOPOGRAFO - HORISTA (ENCARGOS COMPLEMENTARES - COLETADO CAIXA) | E26: Encargos Complementares | F26: H | G26: 1 | H26: =IF(A26="Composição Auxiliar",VLOOKUP(B26,'SINAPI COMPOSIÇÃO'!$A$2:$E$10256,4,FALSE),IF(A26="Insumo",IF(VLOOKUP(B26,'SINAPI INSUMOS'!$A$2:$F$4852,5,FALSE)=OR("",0),VLOOKUP(B26,'SINAPI INSUMOS'!$A$2:$F$4852,6,FALSE),VLOOKUP(B26,'SINAPI INSUMOS'!$A$2:$F$4852,5,FALSE)),"VERIFICAR")) -> 0.07 | I26: =TRUNC(G26*H26,2) -> 0.07
A27: Insumo | B27: 43493 | C27: SINAPI | D27: EPI - FAMILIA TOPOGRAFO - HORISTA (ENCARGOS COMPLEMENTARES - COLETADO CAIXA) | E27: Encargos Complementares | F27: H | G27: 1 | H27: =IF(A27="Composição Auxiliar",VLOOKUP(B27,'SINAPI COMPOSIÇÃO'!$A$2:$E$10256,4,FALSE),IF(A27="Insumo",IF(VLOOKUP(B27,'SINAPI INSUMOS'!$A$2:$F$4852,5,FALSE)=OR("",0),VLOOKUP(B27,'SINAPI INSUMOS'!$A$2:$F$4852,6,FALSE),VLOOKUP(B27,'SINAPI INSUMOS'!$A$2:$F$4852,5,FALSE)),"VERIFICAR")) -> 0.88 | I27: =TRUNC(G27*H27,2) -> 0.88
A28: Insumo | B28: 37373 | C28: SINAPI | D28: SEGURO - HORISTA (COLETADO CAIXA - ENCARGOS COMPLEMENTARES) | E28: Encargos Complementares | F28: H | G28: 1 | H28: =IF(A28="Composição Auxiliar",VLOOKUP(B28,'SINAPI COMPOSIÇÃO'!$A$2:$E$10256,4,FALSE),IF(A28="Insumo",IF(VLOOKUP(B28,'SINAPI INSUMOS'!$A$2:$F$4852,5,FALSE)=OR("",0),VLOOKUP(B28,'SINAPI INSUMOS'!$A$2:$F$4852,6,FALSE),VLOOKUP(B28,'SINAPI INSUMOS'!$A$2:$F$4852,5,FALSE)),"VERIFICAR")) -> 0.01 | I28: =TRUNC(G28*H28,2) -> 0.01
A29: Insumo | B29: 37370 | C29: SINAPI | D29: ALIMENTACAO - HORISTA (COLETADO CAIXA - ENCARGOS COMPLEMENTARES) | E29: Encargos Complementares | F29: H | G29: 1 | H29: =IF(A29="Composição Auxiliar",VLOOKUP(B29,'SINAPI COMPOSIÇÃO'!$A$2:$E$10256,4,FALSE),IF(A29="Insumo",IF(VLOOKUP(B29,'SINAPI INSUMOS'!$A$2:$F$4852,5,FALSE)=OR("",0),VLOOKUP(B29,'SINAPI INSUMOS'!$A$2:$F$4852,6,FALSE),VLOOKUP(B29,'SINAPI INSUMOS'!$A$2:$F$4852,5,FALSE)),"VERIFICAR")) -> 0.66 | I29: =TRUNC(G29*H29,2) -> 0.66
A30: Insumo | B30: 37372 | C30: SINAPI | D30: EXAMES - HORISTA (COLETADO CAIXA - ENCARGOS COMPLEMENTARES) | E30: Encargos Complementares | F30: H | G30: 1 | H30: =IF(A30="Composição Auxiliar",VLOOKUP(B30,'SINAPI COMPOSIÇÃO'!$A$2:$E$10256,4,FALSE),IF(A30="Insumo",IF(VLOOKUP(B30,'SINAPI INSUMOS'!$A$2:$F$4852,5,FALSE)=OR("",0),VLOOKUP(B30,'SINAPI INSUMOS'!$A$2:$F$4852,6,FALSE),VLOOKUP(B30,'SINAPI INSUMOS'!$A$2:$F$4852,5,FALSE)),"VERIFICAR")) -> 1.3 | I30: =TRUNC(G30*H30,2) -> 1.3
A31: Insumo | B31: 2358 | C31: SINAPI | D31: DESENHISTA PROJETISTA (HORISTA) | E31: Mão de Obra | F31: H | G31: 1 | H31: =IF(A31="Composição Auxiliar",VLOOKUP(B31,'SINAPI COMPOSIÇÃO'!$A$2:$E$10256,4,FALSE),IF(A31="Insumo",IF(VLOOKUP(B31,'SINAPI INSUMOS'!$A$2:$F$4852,5,FALSE)=OR("",0),VLOOKUP(B31,'SINAPI INSUMOS'!$A$2:$F$4852,6,FALSE),VLOOKUP(B31,'SINAPI INSUMOS'!$A$2:$F$4852,5,FALSE)),"VERIFICAR")) -> 17.75 | I31: =TRUNC(G31*H31,2) -> 17.75
A32: Insumo | B32: 37371 | C32: SINAPI | D32: TRANSPORTE - HORISTA (COLETADO CAIXA - ENCARGOS COMPLEMENTARES) | E32: Encargos Complementares | F32: H | G32: 1 | H32: =IF(A32="Composição Auxiliar",VLOOKUP(B32,'SINAPI COMPOSIÇÃO'!$A$2:$E$10256,4,FALSE),IF(A32="Insumo",IF(VLOOKUP(B32,'SINAPI INSUMOS'!$A$2:$F$4852,5,FALSE)=OR("",0),VLOOKUP(B32,'SINAPI INSUMOS'!$A$2:$F$4852,6,FALSE),VLOOKUP(B32,'SINAPI INSUMOS'!$A$2:$F$4852,5,FALSE)),"VERIFICAR")) -> 0.38 | I32: =TRUNC(G32*H32,2) -> 0.38
A33: 1 | D33: INSTALAÇÕES INICIAIS DA OBRA
A34: 1.1 | B34: Código | C34: Banco | D34: Descrição | E34: Tipo | F34: Und | G34: Quant. | H34: Valor Unit | I34: Total
A35: Composição | B35: COMP. SEDE 11 - 01 | C35: Próprio | D35: FORNECIMENTO E COLOCAÇÃO DE PLACA DE OBRA (4,80 X 2,4 0 M) - EM CHAPA GALVANIZADA *N. 22*, ADESIVADA E FIXADA COM SUPORTE EM EUCALIPTO AUTOCLAVADO. | E35: CANT - CANTEIRO DE OBRAS | F35: UN | G35: 1 | H35: =I35 -> 2065.5 | I35: =SUM(I36:I39) -> 2065.5
A36: Composição Auxiliar | B36: 88262 | C36: SINAPI | D36: CARPINTEIRO DE FORMAS COM ENCARGOS COMPLEMENTARES | E36: SEDI - SERVIÇOS DIVERSOS | F36: H | G36: 4.5 | H36: =IF(A36="Composição Auxiliar",VLOOKUP(B36,'SINAPI COMPOSIÇÃO'!$A$2:$E$10256,4,FALSE),IF(A36="Insumo",IF(VLOOKUP(B36,'SINAPI INSUMOS'!$A$2:$F$4852,5,FALSE)=OR("",0),VLOOKUP(B36,'SINAPI INSUMOS'!$A$2:$F$4852,6,FALSE),VLOOKUP(B36,'SINAPI INSUMOS'!$A$2:$F$4852,5,FALSE)),"VERIFICAR")) -> 26.98 | I36: =TRUNC(G36*H36,2) -> 121.41
A37: Composição Auxiliar | B37: 88316 | C37: SINAPI | D37: SERVENTE COM ENCARGOS COMPLEMENTARES | E37: SEDI - SERVIÇOS DIVERSOS | F37: H | G37: 6.75 | H37: =IF(A37="Composição Auxiliar",VLOOKUP(B37,'SINAPI COMPOSIÇÃO'!$A$2:$E$10256,4,FALSE),IF(A37="Insumo",IF(VLOOKUP(B37,'SINAPI INSUMOS'!$A$2:$F$4852,5,FALSE)=OR("",0),VLOOKUP(B37,'SINAPI INSUMOS'!$A$2:$F$4852,6,FALSE),VLOOKUP(B37,'SINAPI INSUMOS'!$A$2:$F$4852,5,FALSE)),"VERIFICAR")) -> 21.32 | I37: =TRUNC(G37*H37,2) -> 143.91
A38: Insumo | B38: 4813 | C38: SINAPI | D38: PLACA DE OBRA (PARA CONSTRUCAO CIVIL) EM CHAPA GALVANIZADA *N. 22*, ADESIVADA, DE *2,4 X 1,2* M (SEM POSTES PARA FIXACAO) | E38: Material | F38: m² | G38: 2 | H38: =IF(A38="Composição Auxiliar",VLOOKUP(B38,'SINAPI COMPOSIÇÃO'!$A$2:$E$10256,4,FALSE),IF(A38="Insumo",IF(VLOOKUP(B38,'SINAPI INSUMOS'!$A$2:$F$4852,5,FALSE)=OR("",0),VLOOKUP(B38,'SINAPI INSUMOS'!$A$2:$F$4852,6,FALSE),VLOOKUP(B38,'SINAPI INSUMOS'!$A$2:$F$4852,5,FALSE)),"VERIFICAR")) -> 432 | I38: =TRUNC(G38*H38,2) -> 864
A39: Insumo | B39: 4115 | C39: SINAPI | D39: MADEIRA ROLICA TRATADA, D = 12 A 15 CM, H = 3,00 M, EM EUCALIPTO OU EQUIVALENTE DA REGIAO | E39: Material | F39: M | G39: 31.5 | H39: =IF(A39="Composição Auxiliar",VLOOKUP(B39,'SINAPI COMPOSIÇÃO'!$A$2:$E$10256,4,FALSE),IF(A39="Insumo",IF(VLOOKUP(B39,'SINAPI INSUMOS'!$A$2:$F$4852,5,FALSE)=OR("",0),VLOOKUP(B39,'SINAPI INSUMOS'!$A$2:$F$4852,6,FALSE),VLOOKUP(B39,'SINAPI INSUMOS'!$A$2:$F$4852,5,FALSE)),"VERIFICAR")) -> 29.72 | I39: =TRUNC(G39*H39,2) -> 936.18
A40: 2 | D40: PREPARO DO TERRENO - MOVIMENTO DE TERRA E LIMPEZA
...

Sheet MEMORIA DE CÁLCULO NOVA
A1: MEMÓRIA DE CÁLCULO
A3: Obra: Conclusão da obra de construção da Unidade Descentralizada da Codevasf no estado do Amapá - 11ª Superintendência Regional, no município de Macapá/AP.
A4: Data: Fev/25
A5: ITENS DA PLANILHA ORÇAMENTÁRIA
A7: 1.1 | B7: FORNECIMENTO E COLOCAÇÃO DE PLACA DE OBRA (4,80 X 2,4 0 M) - EM CHAPA GALVANIZADA *N. 22*, ADESIVADA E FIXADA COM SUPORTE EM EUCALIPTO AUTOCLAVADO. | P7: ok
A9: LOCAL | E9: QUANT. | F9: COMP. (M) | H9: ALT. (M) | J9: ÁREA (M²) | L9: TRANSP | M9: OBS
A10: Alinhamento da divisa do terreno | E10: 1
L12: Total levantado | O12: =E10 -> 1 | Q12: 0
A14: 2.1 | B14: REGULARIZAÇÃO DE SUPERFÍCIES COM MOTONIVELADORA. AF_11/2019 | P14: ok
A16: LOCAL | E16: QUANT. | F16: COMP. (M) | H16: LARG. (M) | J16: ÁREA (M²) | L16: TRANSP | M16: OBS
A17: Terreno | E17: 1 | F17: 100 | H17: 12.85 | J17: =F17*H17 -> 1285
L19: Total levantado | O19: =J17 -> 1285
A21: 2.2 | B21: EXECUÇÃO E COMPACTAÇÃO DE ATERRO COM SOLO PREDOMINANTEMENTE ARENOSO - EXCLUSIVE SOLO, ESCAVAÇÃO, CARGA E TRANSPORTE. AF_11/2019 | P21: OK
A23: LOCAL | E23: QUANT. | F23: ÁREA. (M) | H23: ESP. (M) | J23: VOL. (M³) | L23: TRANSP | M23: OBS
A24: ATERRO | E24: 1 | F24: =J17 -> 1285 | H24: 0.4 | J24: =F24*H24 -> 514
A25: ATERRO ATÉ A ALTURA DA FACE SUPERIOR DA VIGA BALDRAME | E25: 1 | F25: 51.75 | H25: 20.65 | J25: =F25*H25 -> 1068.6375 | M25: A área de aterro foi estimada por aproximação geométrica da seção em declive, modelada como triângulo retângulo, multiplicada pela largura da edificação.
L27: Total levantado | O27: =SUM(J24:K25) -> 1582.6375
A29: 2.3 | B29: CARGA, MANOBRA E DESCARGA DE SOLOS E MATERIAIS GRANULARES EM CAMINHÃO BASCULANTE 14 M³ - CARGA COM ESCAVADEIRA HIDRÁULICA (CAÇAMBA DE 1,20 M³ / 155 HP) E DESCARGA LIVRE (UNIDADE: M3). AF_07/2020 | P29: OK
A31: LOCAL | E31: QUANT. | F31: VOL. MATERIAL COMPACTADO (M³) | H31: TAXA DE CONTRAÇÃO | I31: TAXA DE EMPOLAMENTO | J31: VOL. (M³) | L31: TRANSP | M31: OBS
A32: Material para confecção do corpo do aterro | E32: 1 | F32: =O27 -> 1582.6375 | H32: 0.9 | I32: 1.25 | J32: =(F32/H32)*I32 -> 2198.1076
L34: Total levantado | O34: =J32 -> 2198.1076
A36: 2.4 | B36: TRANSPORTE COM CAMINHÃO BASCULANTE DE 14 M³, EM VIA URBANA PAVIMENTADA, DMT ATÉ 30 KM (UNIDADE: M3XKM). AF_07/2020 | P36: OK
A38: LOCAL | E38: QUANT. | F38: VOL. MATERIAL (M³) | J38: DIST. | L38: TRANSP | M38: OBS
A39: Terra para aterro | E39: 1 | F39: =O34 -> 2198.1076 | J39: 8 | L39: =F39*J39 -> 17584.861
L41: Total levantado | O41: =L39 -> 17584.861
A43: 3.1 | B43: ESCAVAÇÃO MANUAL PARA BLOCO DE COROAMENTO OU SAPATA (INCLUINDO ESCAVAÇÃO PARA COLOCAÇÃO DE FÔRMAS). AF_06/2017 | P43: OK
A45: LOCAL | E45: QUANT. | F45: COMP. (M) | H45: LARG. (M) | J45: ALT (M) | L45: VOL. (M³) | M45: OBS
A46: Sapatas tipo 01 - arrimo | E46: 9 | F46: 1 | H46: 1 | J46: 2.5 | L46: =ROUND(E46*F46*H46*J46,2) -> 22.5 | M46: Comprimento e largura com afastamentos para colocação de fôrmas.
L48: Total levantado | O48: =L46 -> 22.5
A50: 3.2 | B50: ESCAVAÇÃO MANUAL DE VALA PARA VIGA BALDRAME (INCLUINDO ESCAVAÇÃO PARA COLOCAÇÃO DE FÔRMAS). AF_06/2017 | P50: ok
A52: LOCAL | E52: QUANT. | F52: COMP. (M) | H52: LARG. (M) | J52: ALT (M) | L52: VOL. (M³) | M52: OBS
A53: Baldrame/Muro de arrimo | E53: 1 | F53: =8.74+20+8.74+5.68+5.68 -> 48.84 | H53: 0.3 | J53: 0.35 | L53: =F53*H53*J53 -> 5.1282
L55: Total levantado | O55: =L53 -> 5.1282
A57: 3.3 | B57: LASTRO DE CONCRETO MAGRO, APLICADO EM BLOCOS DE COROAMENTO OU SAPATAS, ESPESSURA DE 5 CM. AF_08/2017 | P57: ok
A59: LOCAL | E59: QUANT. | F59: COMP. (M) | H59: LARG. (M) | J59: ÁREA (M²) | L59: VOL. (M³) | M59: OBS
A60: Lastro para sapatas | E60: 9 | F60: 1 | H60: 1 | J60: =E60*F60*H60 -> 9
L62: Total levantado | O62: =J60 -> 9
A64: 3.4 | B64: FABRICAÇÃO, MONTAGEM E DESMONTAGEM DE FÔRMA PARA SAPATA, EM CHAPA DE MADEIRA COMPENSADA RESINADA, E=17 MM, 4 UTILIZAÇÕES. AF_06/2017 | P64: ok
A66: LOCAL | E66: QUANT. | F66: PER. (M) | H66: ALT. (M) | J66: ÁREA (M²) | L66: VOL. (M³) | M66: OBS
A67: Fundação | E67: 9 | F67: 4 | H67: 0.4 | J67: =E67*F67*H67 -> 14.4
...

Sheet Curva ABC de Serviços
C1: Obra | D1: Bancos | E1: B.D.I. | H1: Encargos Sociais
C2: CONCLUSÃO DA OBRA DE CONSTRUÇÃO DA UNIDADE DESCENTRALIZADA DA CODEVASF NO ESTADO DO AMAPÁ - 11ª SUPERINTENDÊNCIA REGIONAL, NO MUNICÍPIO DE MACAPÁ/AP. | D2: SINAPI - 01/2025 - Amapá SICRO3 - 10/2024 - Amapá | E2: 23,08% | H2: Não Desonerado: embutido nos preços unitário dos insumos de mão de obra, de acordo com as bases.
A3: Curva ABC de Serviços
A4: Código | B4: Banco | C4: Descrição | D4: Tipo | E4: Und | F4: Quant. | G4: Valor Unit | H4: Total | I4: Peso (%) | J4: Peso Acumulado (%)
A5: COMP. SEDE 20 | B5: Próprio | C5: LAJE STEEL DECK PARA PISO COM CAPA DE CONCRETO FCK 25 MPA, ESPESSURA DA LAJE 15CM, ESPESSURA DA CHAPA 0,95 MM, INCLUSIVE IÇAMENTO COM GUINDASTE. AF_01/2020 | D5: SEDI - SERVIÇOS DIVERSOS | E5: M² | F5: 2.036,1 | G5: 285,05 | H5: 580.390,30 | I5: 10,37 | J5: 10,37
A6: 92398 | B6: SINAPI | C6: EXECUÇÃO DE PAVIMENTO EM PISO INTERTRAVADO, COM BLOCO RETANGULAR COR NATURAL DE 20 X 10 CM, ESPESSURA 8 CM. AF_10/2022 | D6: PAVI - PAVIMENTAÇÃO | E6: m² | F6: 4.000,0 | G6: 105,44 | H6: 421.760,00 | I6: 7,54 | J6: 17,91
A7: COMPOSIÇÃO - 30 SEDE | B7: Próprio | C7: ADMINISTRAÇÃO LOCAL DE OBRA DE EDIFICAÇÃO | D7: SERT - SERVIÇOS TÉCNICOS | E7: UN | F7: 1,0 | G7: 372.334,43 | H7: 372.334,43 | I7: 6,65 | J7: 24,56
A8: COMP. SEDE 11 - 04 | B8: Próprio | C8: VIGA METÁLICA EM PERFIL W 610 x 113, LAMINADO OU SOLDADO, EM AÇO ESTRUTURAL, COM CONEXÕES SOLDADAS, INCLUSOS MÃO DE OBRA, TRANSPORTE E IÇAMENTO UTILIZANDO GUINDASTE - FORNECIMENTO E INSTALAÇÃO. AF_01/2020_P | D8: SEDI - SERVIÇOS DIVERSOS | E8: KG | F8: 18.976,0 | G8: 14,30 | H8: 271.356,80 | I8: 4,85 | J8: 29,41
A9: COMP. SEDE 21 | B9: Próprio | C9: PAREDE COM PLACAS DE GESSO ACARTONADO (DRYWALL), PARA USO EXTERNO (PLACA CIMENTÍCIA E RU), COM DUAS FACES SIMPLES E ESTRUTURA METÁLICA COM GUIAS SIMPLES, INCLUINDO ISOLAMENTO TÉRMICO/ACÚSTICO COM LÃ DE VIDRO | D9: PARE - PAREDES/PAINEIS | E9: M² | F9: 1.303,11 | G9: 185,58 | H9: 241.831,15 | I9: 4,32 | J9: 33,73
A10: 87263 | B10: SINAPI | C10: REVESTIMENTO CERÂMICO PARA PISO COM PLACAS TIPO PORCELANATO DE DIMENSÕES 60X60 CM APLICADA EM AMBIENTES DE ÁREA MAIOR QUE 10 M². AF_02/2023_PE | D10: PISO - PISOS | E10: m² | F10: 1.739,96 | G10: 137,00 | H10: 238.374,52 | I10: 4,26 | J10: 37,99
A11: COMP. SEDE 09 | B11: Próprio | C11: VIGA METÁLICA EM PERFIL W 410 x 53, LAMINADO OU SOLDADO, EM AÇO ESTRUTURAL, COM CONEXÕES SOLDADAS, INCLUSOS MÃO DE OBRA, TRANSPORTE E IÇAMENTO UTILIZANDO GUINDASTE - FORNECIMENTO E INSTALAÇÃO. AF_01/2020_P | D11: FUES - FUNDAÇÕES E ESTRUTURAS | E11: KG | F11: 15.735,9 | G11: 14,39 | H11: 226.439,60 | I11: 4,05 | J11: 42,04
A12: 98546 | B12: SINAPI | C12: IMPERMEABILIZAÇÃO DE SUPERFÍCIE COM MANTA ASFÁLTICA, UMA CAMADA, INCLUSIVE APLICAÇÃO DE PRIMER ASFÁLTICO, E=4MM. AF_09/2023 | D12: IMPE - IMPERMEABILIZAÇÕES E PROTEÇÕES DIVERSAS | E12: m² | F12: 1.046,0 | G12: 179,84 | H12: 188.112,64 | I12: 3,36 | J12: 45,40
A13: 96114 | B13: SINAPI | C13: FORRO EM DRYWALL, PARA AMBIENTES COMERCIAIS, INCLUSIVE ESTRUTURA BIRECIONAL DE FIXAÇÃO. AF_08/2023_PS | D13: REVE - REVESTIMENTO E TRATAMENTO DE SUPERFÍCIES | E13: m² | F13: 1.962,73 | G13: 80,60 | H13: 158.196,03 | I13: 2,83 | J13: 48,23
A14: COMP. SEDE 11 | B14: Próprio | C14: VIGA METÁLICA EM PERFIL W 360 x 39, LAMINADO OU SOLDADO, EM AÇO ESTRUTURAL, COM CONEXÕES SOLDADAS, INCLUSOS MÃO DE OBRA, TRANSPORTE E IÇAMENTO UTILIZANDO GUINDASTE - FORNECIMENTO E INSTALAÇÃO. AF_01/2020_P | D14: FUES - FUNDAÇÕES E ESTRUTURAS | E14: KG | F14: 10.058,8 | G14: 14,39 | H14: 144.746,13 | I14: 2,59 | J14: 50,82
A15: COMP. SEDE 11 - 05 | B15: Próprio | C15: VIGA METÁLICA EM PERFIL W 530 x 101, LAMINADO OU SOLDADO, EM AÇO ESTRUTURAL, COM CONEXÕES SOLDADAS, INCLUSOS MÃO DE OBRA, TRANSPORTE E IÇAMENTO UTILIZANDO GUINDASTE - FORNECIMENTO E INSTALAÇÃO. AF_01/2020_P | D15: SEDI - SERVIÇOS DIVERSOS | E15: KG | F15: 8.019,0 | G15: 14,30 | H15: 114.671,70 | I15: 2,05 | J15: 52,87
... A270: 89378 | B270: SINAPI | C270: LUVA, PVC, SOLDÁVEL, DN 25MM, INSTALADO EM RAMAL OU SUB-RAMAL DE ÁGUA - FORNECIMENTO E INSTALAÇÃO. AF_06/2022 | D270: INHI - INSTALAÇÕES HIDROS SANITÁRIAS | E270: UN | F270: 1,0 | G270: 6,53 | H270: 6,53 | I270: 0,00 | J270: 100,00
F272: Total sem BDI | H272: 5595691.7
F273: Total do BDI | H273: 1287791
F274: Total Geral | H274: 6883482.7
A276: _______________________________________________________________ LUIS FERNANDO ANTUNES LIMA ANALISTA EM DESENVOLVIMENTO REGIONAL - 11ª GRD/UIP

Sheet Curva ABC de Insumos
D1: Obra | E1: Bancos | F1: B.D.I. | I1: Encargos Sociais
D2: CONCLUSÃO DA OBRA DE CONSTRUÇÃO DA UNIDADE DESCENTRALIZADA DA CODEVASF NO ESTADO DO AMAPÁ - 11ª SUPERINTENDÊNCIA REGIONAL, NO MUNICÍPIO DE MACAPÁ/AP. | E2: SINAPI - 01/2025 - Amapá SICRO3 - 10/2024 - Amapá | F2: 23,08% | I2: Não Desonerado: embutido nos preços unitário dos insumos de mão de obra, de acordo com as bases.
A3: Curva ABC de Insumos
A4: Código | B4: Banco | C4: Grupo | D4: Descrição | E4: Tipo | F4: Und | G4: Quantidade | I4: Valor Unitário | K4: Total | N4: Peso | O4: Valor Acumulado | P4: Peso Acumulado
G5: Operativa | H5: Improdutiva | I5: Operativa | J5: Improdutiva | K5: Operativa | L5: Improdutiva | M5: Geral
A6: 00036170 | B6: SINAPI | D6: BLOQUETE/PISO INTERTRAVADO DE CONCRETO - MODELO ONDA/16 FACES/RETANGULAR/TIJOLINHO/PAVER/HOLANDES/PARALELEPIPEDO, *20 X 10* CM, E = 8 CM, RESISTENCIA DE 35 MPA, COR NATURAL | E6: Material | F6: m² | G6: 4.011,6224201 | I6: 82,00 | K6: 328.953,04 | M6: 328953.04 | N6: 5,88% | O6: 328953.04 | P6: 5,88%
A7: 00001527 | B7: SINAPI | D7: CONCRETO USINADO BOMBEAVEL, CLASSE DE RESISTENCIA C25, BRITA 0 E 1, SLUMP = 100 +/- 20 MM, COM BOMBEAMENTO (DISPONIBILIZACAO DE BOMBA), SEM O LANCAMENTO (NBR 8953) | E7: Material | F7: m³ | G7: 263,9905456 | I7: 902,23 | K7: 238.180,19 | M7: 238180.19 | N7: 4,26% | O7: 567133.23 | P7: 10,14%
A8: 00040811 | B8: SINAPI | D8: ENGENHEIRO CIVIL DE OBRA JUNIOR (MENSALISTA) | E8: Mão de Obra | F8: MES | G8: 10,0991725 | I8: 21.806,07 | K8: 220.223,26 | M8: 220223.26 | N8: 3,94% | O8: 787356.49 | P8: 14,07%
A9: 00043124 | B9: SINAPI | D9: CHAPA EM ACO GALVANIZADO PARA STEEL DECK, COM NERVURAS TRAPEZOIDAIS, LARGURA UTIL DE 915 MM E ESPESSURA DE 0,95 MM | E9: Material | F9: m² | G9: 2.041,8127346 | I9: 102,39 | K9: 209.061,21 | M9: 209061.21 | N9: 3,74% | O9: 996417.7 | P9: 17,81%
A10: PREÇO DE MERCADO | B10: Próprio | D10: PERFIL "I" DE ACO LAMINADO W 610 x 113 - REF A572 GR. 50 | E10: Material | F10: KG | G10: 18.953,4277072 | I10: 9,90 | K10: 187.638,93 | M10: 187638.93 | N10: 3,35% | O10: 1184056.6 | P10: 21,16%
A11: 00044474 | B11: SINAPI | D11: GUINDASTE HIDRAULICO AUTOPROPELIDO, COM LANCA TELESCOPICA 40 M, CAPACIDADE MAXIMA 60 T, POTENCIA 260 KW, TRACAO 6 X 6 | E11: Equipamento para Aquisição Permanente | F11: UN | G11: 0,0642322 | I11: 2.485.831,60 | K11: 159.670,36 | M11: 159670.36 | N11: 2,85% | O11: 1343727 | P11: 24,01%
A12: 00045190 | B12: SINAPI | D12: PISO EM PORCELANATO, RETIFICADO, LISO, MONOCOLOR, ACETINADO OU POLIDO, FORMATO MAIOR QUE 2500 ATE 6400 CM2 | E12: Material | F12: m² | G12: 1.857,8047161 | I12: 85,00 | K12: 157.913,40 | M12: 157913.4 | N12: 2,82% | O12: 1501640.4 | P12: 26,84%
A13: PREÇO DE MERCADO 09 | B13: Próprio | D13: PERFIL "I" DE ACO LAMINADO W 410 x 53 - REF A572 GR. 50 | E13: Material | F13: KG | G13: 15.717,1818644 | I13: 9,99 | K13: 157.014,65 | M13: 157014.65 | N13: 2,81% | O13: 1658655 | P13: 29,64%
A14: 00004015 | B14: SINAPI | D14: MANTA ASFALTICA ELASTOMERICA EM POLIESTER 4 MM, TIPO III, CLASSE B, ACABAMENTO PP (NBR 9952) | E14: Material | F14: M² | G14: 1.182,5590495 | I14: 121,52 | K14: 143.704,58 | M14: 143704.58 | N14: 2,57% | O14: 1802359.6 | P14: 32,21%
A15: 00001379 | B15: SINAPI | D15: CIMENTO PORTLAND COMPOSTO CP II-32 | E15: Material | F15: KG | G15: 123.440,9521507 | I15: 1,12 | K15: 138.253,87 | M15: 138253.87 | N15: 2,47% | O15: 1940613.5 | P15: 34,68%
A16: 00006111 | B16: SINAPI | D16: SERVENTE DE OBRAS (HORISTA) | E16: Mão de Obra | F16: H | G16: 8.811,5083881 | I16: 15,07 | K16: 132.789,43 | M16: 132789.43 | N16: 2,37% | O16: 2073402.9 | P16: 37,05%
A17: 00001525 | B17: SINAPI | D17: CONCRETO USINADO BOMBEAVEL, CLASSE DE RESISTENCIA C30, BRITA 0 E 1, SLUMP = 100 +/- 20 MM, COM BOMBEAMENTO (DISPONIBILIZACAO DE BOMBA), SEM O LANCAMENTO (NBR 8953) | E17: Material | F17: m³ | G17: 123,5792252 | I17: 929,99 | K17: 114.927,44 | M17: 114927.44 | N17: 2,05% | O17: 2188330.4 | P17: 39,11%
... A489: 00040864 | B489: SINAPI | D489: SEGURO - MENSALISTA (COLETADO CAIXA - ENCARGOS COMPLEMENTARES) | E489: Material | F489: MES | G489: 32,4613407 | I489: 0,01 | K489: 0,32 | M489: 0.32461341 | N489: 0,00% | O489: 5595691.7 | P489: 100,00%
M491: Totais por Tipo
L492: Equipamento | P492: R$ 5.272,50
L493: Equipamento para Aquisição Permanente | P493: R$ 194.103,80
L494: Mão de Obra | P494: R$ 1.083.710,49
L495: Material | P495: R$ 4.271.484,89
L496: Serviços | P496: R$ 36.488,49
L497: Taxas | P497: R$ 0,00
L498: Administração | P498: R$ 0,00
L499: Aluguel | P499: R$ 0,00
L500: Verba | P500: R$ 0,00
L501: Transporte | P501: R$ 0,00
L502: Franquia | P502: R$ 4.631,55
L503: Outros | P503: R$ 0,00
L505: Total sem BDI | N505: 5595691.7
L506: Total do BDI | N506: 1287791
L507: Total Geral | N507: 6883482.7
A509: _______________________________________________________________ LUIS FERNANDO ANTUNES LIMA ANALISTA EM DESENVOLVIMENTO REGIONAL - 11ª GRD/UIP

Sheet Planilha de BDI S. DESON
C1: MINISTÉRIO DO DESENVOLVIMENTO REGIONAL
C2: COMPANHIA DE DESENVOLVIMENTO DOS VALES DO SÃO FRANCISCO E PARNAÍBA
A3: DEMONSTRATIVO DE CÁLCULO DOS BENEFÍCIOS E DESPESAS INDIRETAS - BDI
A5: PROPONENTE: COMPANHIA DE DESENVOLVIMENTO DOS VALES DO SÃO FRANCISCO E PARNAÍBA
A6: EMPREENDIMENTO: CONCLUSÃO DA OBRA DE CONSTRUÇÃO DA SEDE DA 11ª SUPERINTENDÊNCIA REGIONAL DA CODEVASF NO MUNICÍPIO DE MACAPÁ/AP
A7: LOCAL: RODOVIA JOSMAR CHAVES PINTO, KM 05, S/N, UNIVERSIDADE, MACAPA/AP.
A8: Data: Fev/2025
A9: MEMÓRIA DE CÁLCULO
A11: Composição do BDI | D11: Intervalos de Referência | E11: Composição adotada | G11: BDI Proposto: | I11: =((((1+E12+E15+E16))*(1+E14)*(1+E13))/(1-(E17+E18+E19+E20))-1) -> 0.23082952
A12: Administração Central (AC) | D12: De 3,00 % até 5,5% | E12: 0.04
A13: Lucro (L) | D13: De 6,16 % até 8,96% | E13: 0.076
A14: Despesas Financeiras (DF) | D14: De 0,59 % até 1,39% | E14: 0.0123
A15: Seguros (S) + Garantias (G) | D15: De 0,80 % até 1,00% | E15: 0.0085 | G15: Observação: Composição do BDI, intervalos admissíveis e Fórmula de Cálculo nos termos do Acórdão 2622/2013 do TCU.
A16: Riscos (R) | D16: De 0,97 % até 1,27% | E16: 0.012
A17: Tributos (I) | B17: PIS | D17: 0.0065 | E17: 0.0065
B18: COFINS | D18: 0.03 | E18: 0.03
B19: CPRB | D19: 0.045
B20: ISS | D20: De 2,0 % até 5,0% | E20: 0.025 | G20: Coloca-se 50% do valor do ISS do munícipio. Verificar primeiro a legislação municipal.
C21: _____________________________________________________ | E21: Obs.: Folha de pagamento sem desoneração.
C22: ='[11]PLANILHA SEM DESONERAÇÃO'!C370 -> LUIS FERNANDO ANTUNES LIMA
B23: ='[11]PLANILHA SEM DESONERAÇÃO'!C371 -> ANALISTA DE DESENVOLVIMENTO REGIONAL
B24: ='[11]PLANILHA SEM DESONERAÇÃO'!C372 -> ENGENHEIRO CIVIL - CREA 186819/D

Sheet COT ORÇAMENTO AÇO LAMINADO
B2: Processo | C2: 59500.003753/2025-45
B3: Responsável | C3: AG/GCT/UCT
B4: Área de Origem | C4: AG/GCT/UCT
B5: Data da pesquisa | C5: 46092
B7: ITEM: | I7: UNIDADE DE MEDIDA: | J7: KG | K7: QUANTIDADE: | L7: 320 | O7: Tabela auxiliar de metodologias para exclusão de preços
B8: LICITAÇÕES ANTERIORES | O8: Licitações Anteriores
B9: Órgão | C9: Edital/Ano - Nº do Lote / Item | D9: Quantidade | E9: Valor Unitário | F9: Data | G9: índice de atualização (nome) | H9: I0 | I9: If | J9: Variação acumulada do índice (%) | K9: Preço unitário atualizado | L9: Utilizar? (Sim/Não) | O9: Outliers | P9: Por critério do(a) analista
J10: =IF(ISBLANK(E10),"",IF(ISNUMBER(H10),(I10-H10)/H10,0)) | K10: =IF(ISBLANK(E10),"",E10*(1+J10)) | L10: =IF(ISNUMBER(K10),IF($L$32<>$P$9,O10,P10),"") | O10: =IF(ISNUMBER(K10),IF(OR(K10<_xlfn.QUARTILE.INC($K$10:$K$29,1)-1.5*(_xlfn.QUARTILE.INC($K$10:K29,3)-_xlfn.QUARTILE.INC($K$10:$K$29,1)),K10>_xlfn.QUARTILE.INC($K$10:$K$29,3)+1.5*(_xlfn.QUARTILE.INC($K$10:$K$29,3)-_xlfn.QUARTILE.INC($K$10:$K$29,1))),"Não","Sim"),"")
J11: =IF(ISBLANK(E11),"",IF(ISNUMBER(H11),(I11-H11)/H11,0)) | K11: =IF(ISBLANK(E11),"",E11*(1+J11)) | L11: =IF(ISNUMBER(K11),IF($L$32<>$P$9,O11,P11),"") | O11: =IF(ISNUMBER(K11),IF(OR(K11<_xlfn.QUARTILE.INC($K$10:$K$29,1)-1.5*(_xlfn.QUARTILE.INC($K$10:K29,3)-_xlfn.QUARTILE.INC($K$10:$K$29,1)),K11>_xlfn.QUARTILE.INC($K$10:$K$29,3)+1.5*(_xlfn.QUARTILE.INC($K$10:$K$29,3)-_xlfn.QUARTILE.INC($K$10:$K$29,1))),"Não","Sim"),"")
J12: =IF(ISBLANK(E12),"",IF(ISNUMBER(H12),(I12-H12)/H12,0)) | K12: =IF(ISBLANK(E12),"",E12*(1+J12)) | L12: =IF(ISNUMBER(K12),IF($L$32<>$P$9,O12,P12),"") | O12: =IF(ISNUMBER(K12),IF(OR(K12<_xlfn.QUARTILE.INC($K$10:$K$29,1)-1.5*(_xlfn.QUARTILE.INC($K$10:K30,3)-_xlfn.QUARTILE.INC($K$10:$K$29,1)),K12>_xlfn.QUARTILE.INC($K$10:$K$29,3)+1.5*(_xlfn.QUARTILE.INC($K$10:$K$29,3)-_xlfn.QUARTILE.INC($K$10:$K$29,1))),"Não","Sim"),"")
J13: =IF(ISBLANK(E13),"",IF(ISNUMBER(H13),(I13-H13)/H13,0)) | K13: =IF(ISBLANK(E13),"",E13*(1+J13)) | L13: =IF(ISNUMBER(K13),IF($L$32<>$P$9,O13,P13),"") | O13: =IF(ISNUMBER(K13),IF(OR(K13<_xlfn.QUARTILE.INC($K$10:$K$29,1)-1.5*(_xlfn.QUARTILE.INC($K$10:K31,3)-_xlfn.QUARTILE.INC($K$10:$K$29,1)),K13>_xlfn.QUARTILE.INC($K$10:$K$29,3)+1.5*(_xlfn.QUARTILE.INC($K$10:$K$29,3)-_xlfn.QUARTILE.INC($K$10:$K$29,1))),"Não","Sim"),"")
J14: =IF(ISBLANK(E14),"",IF(ISNUMBER(H14),(I14-H14)/H14,0)) | K14: =IF(ISBLANK(E14),"",E14*(1+J14)) | L14: =IF(ISNUMBER(K14),IF($L$32<>$P$9,O14,P14),"") | O14: =IF(ISNUMBER(K14),IF(OR(K14<_xlfn.QUARTILE.INC($K$10:$K$29,1)-1.5*(_xlfn.QUARTILE.INC($K$10:K32,3)-_xlfn.QUARTILE.INC($K$10:$K$29,1)),K14>_xlfn.QUARTILE.INC($K$10:$K$29,3)+1.5*(_xlfn.QUARTILE.INC($K$10:$K$29,3)-_xlfn.QUARTILE.INC($K$10:$K$29,1))),"Não","Sim"),"")
J15: =IF(ISBLANK(E15),"",IF(ISNUMBER(H15),(I15-H15)/H15,0)) | K15: =IF(ISBLANK(E15),"",E15*(1+J15)) | L15: =IF(ISNUMBER(K15),IF($L$32<>$P$9,O15,P15),"") | O15: =IF(ISNUMBER(K15),IF(OR(K15<_xlfn.QUARTILE.INC($K$10:$K$29,1)-1.5*(_xlfn.QUARTILE.INC($K$10:K35,3)-_xlfn.QUARTILE.INC($K$10:$K$29,1)),K15>_xlfn.QUARTILE.INC($K$10:$K$29,3)+1.5*(_xlfn.QUARTILE.INC($K$10:$K$29,3)-_xlfn.QUARTILE.INC($K$10:$K$29,1))),"Não","Sim"),"")
J16: =IF(ISBLANK(E16),"",IF(ISNUMBER(H16),(I16-H16)/H16,0)) | K16: =IF(ISBLANK(E16),"",E16*(1+J16)) | L16: =IF(ISNUMBER(K16),IF($L$32<>$P$9,O16,P16),"") | O16: =IF(ISNUMBER(K16),IF(OR(K16<_xlfn.QUARTILE.INC($K$10:$K$29,1)-1.5*(_xlfn.QUARTILE.INC($I$10:I37,3)-_xlfn.QUARTILE.INC($K$10:$K$29,1)),K16>_xlfn.QUARTILE.INC($K$10:$K$29,3)+1.5*(_xlfn.QUARTILE.INC($K$10:$K$29,3)-_xlfn.QUARTILE.INC($K$10:$K$29,1))),"Não","Sim"),"")
B17: COTAÇÕES DE MERCADO | O17: Cotações
B18: Empresa | J18: Data | K18: Preço Unitário | L18: Utilizar? (Sim/Não) | O18: Outliers | P18: Por critério do(a) analista
B19: ARCELLORMITTAL - VIGAS METÁLICAS | J19: 46093 | K19: 10.02 | L19: =IF(ISNUMBER(K19),IF($L$32=$O$18,O19,IF($L$32=$P$18,P19,"")),"") -> Sim | O19: =IF(ISNUMBER(K19),IF(OR(K19<_xlfn.QUARTILE.INC($K$10:$K$29,1)-1.5*(_xlfn.QUARTILE.INC($K$10:$K$29,3)-_xlfn.QUARTILE.INC($K$10:$K$29,1)),K19>_xlfn.QUARTILE.INC($K$10:$K$29,3)+1.5*(_xlfn.QUARTILE.INC($K$10:$K$29,3)-_xlfn.QUARTILE.INC($K$10:$K$29,1))),"Não","Sim"),"") -> Sim
B20: GERDAU - VIGAS METÁLICAS | J20: 46092 | K20: 9.24 | L20: =IF(ISNUMBER(K20),IF($L$32=$O$18,O20,IF($L$32=$P$18,P20,"")),"") -> Sim | O20: =IF(ISNUMBER(K20),IF(OR(K20<_xlfn.QUARTILE.INC($K$10:$K$29,1)-1.5*(_xlfn.QUARTILE.INC($K$10:$K$29,3)-_xlfn.QUARTILE.INC($K$10:$K$29,1)),K20>_xlfn.QUARTILE.INC($K$10:$K$29,3)+1.5*(_xlfn.QUARTILE.INC($K$10:$K$29,3)-_xlfn.QUARTILE.INC($K$10:$K$29,1))),"Não","Sim"),"") -> Sim
L21: =IF(ISNUMBER(K21),IF($L$32=$O$18,O21,IF($L$32=$P$18,P21,"")),"") | O21: =IF(ISNUMBER(K21),IF(OR(K21<_xlfn.QUARTILE.INC($K$10:$K$29,1)-1.5*(_xlfn.QUARTILE.INC($K$10:$K$29,3)-_xlfn.QUARTILE.INC($K$10:$K$29,1)),K21>_xlfn.QUARTILE.INC($K$10:$K$29,3)+1.5*(_xlfn.QUARTILE.INC($K$10:$K$29,3)-_xlfn.QUARTILE.INC($K$10:$K$29,1))),"Não","Sim"),"")
L22: =IF(ISNUMBER(K22),IF($L$32=$O$18,O22,IF($L$32=$P$18,P22,"")),"") | O22: =IF(ISNUMBER(K22),IF(OR(K22<_xlfn.QUARTILE.INC($K$10:$K$29,1)-1.5*(_xlfn.QUARTILE.INC($K$10:$K$29,3)-_xlfn.QUARTILE.INC($K$10:$K$29,1)),K22>_xlfn.QUARTILE.INC($K$10:$K$29,3)+1.5*(_xlfn.QUARTILE.INC($K$10:$K$29,3)-_xlfn.QUARTILE.INC($K$10:$K$29,1))),"Não","Sim"),"")
L23: =IF(ISNUMBER(K23),IF($L$32=$O$18,O23,IF($L$32=$P$18,P23,"")),"") | O23: =IF(ISNUMBER(K23),IF(OR(K23<_xlfn.QUARTILE.INC($K$10:$K$29,1)-1.5*(_xlfn.QUARTILE.INC($K$10:$K$29,3)-_xlfn.QUARTILE.INC($K$10:$K$29,1)),K23>_xlfn.QUARTILE.INC($K$10:$K$29,3)+1.5*(_xlfn.QUARTILE.INC($K$10:$K$29,3)-_xlfn.QUARTILE.INC($K$10:$K$29,1))),"Não","Sim"),"")
L24: =IF(ISNUMBER(K24),IF($L$32=$O$18,O24,IF($L$32=$P$18,P24,"")),"") | O24: =IF(ISNUMBER(K24),IF(OR(K24<_xlfn.QUARTILE.INC($K$10:$K$29,1)-1.5*(_xlfn.QUARTILE.INC($K$10:$K$29,3)-_xlfn.QUARTILE.INC($K$10:$K$29,1)),K24>_xlfn.QUARTILE.INC($K$10:$K$29,3)+1.5*(_xlfn.QUARTILE.INC($K$10:$K$29,3)-_xlfn.QUARTILE.INC($K$10:$K$29,1))),"Não","Sim"),"")
L25: =IF(ISNUMBER(K25),IF($L$32=$O$18,O25,IF($L$32=$P$18,P25,"")),"") | O25: =IF(ISNUMBER(K25),IF(OR(K25<_xlfn.QUARTILE.INC($K$10:$K$29,1)-1.5*(_xlfn.QUARTILE.INC($K$10:$K$29,3)-_xlfn.QUARTILE.INC($K$10:$K$29,1)),K25>_xlfn.QUARTILE.INC($K$10:$K$29,3)+1.5*(_xlfn.QUARTILE.INC($K$10:$K$29,3)-_xlfn.QUARTILE.INC($K$10:$K$29,1))),"Não","Sim"),"")
L26: =IF(ISNUMBER(K26),IF($L$32=$O$18,O26,IF($L$32=$P$18,P26,"")),"") | O26: =IF(ISNUMBER(K26),IF(OR(K26<_xlfn.QUARTILE.INC($K$10:$K$29,1)-1.5*(_xlfn.QUARTILE.INC($K$10:$K$29,3)-_xlfn.QUARTILE.INC($K$10:$K$29,1)),K26>_xlfn.QUARTILE.INC($K$10:$K$29,3)+1.5*(_xlfn.QUARTILE.INC($K$10:$K$29,3)-_xlfn.QUARTILE.INC($K$10:$K$29,1))),"Não","Sim"),"")
L27: =IF(ISNUMBER(K27),IF($L$32=$O$18,O27,IF($L$32=$P$18,P27,"")),"") | O27: =IF(ISNUMBER(K27),IF(OR(K27<_xlfn.QUARTILE.INC($K$10:$K$29,1)-1.5*(_xlfn.QUARTILE.INC($K$10:$K$29,3)-_xlfn.QUARTILE.INC($K$10:$K$29,1)),K27>_xlfn.QUARTILE.INC($K$10:$K$29,3)+1.5*(_xlfn.QUARTILE.INC($K$10:$K$29,3)-_xlfn.QUARTILE.INC($K$10:$K$29,1))),"Não","Sim"),"")
L28: =IF(ISNUMBER(K28),IF($L$32=$O$18,O28,IF($L$32=$P$18,P28,"")),"") | O28: =IF(ISNUMBER(K28),IF(OR(K28<_xlfn.QUARTILE.INC($K$10:$K$29,1)-1.5*(_xlfn.QUARTILE.INC($K$10:$K$29,3)-_xlfn.QUARTILE.INC($K$10:$K$29,1)),K28>_xlfn.QUARTILE.INC($K$10:$K$29,3)+1.5*(_xlfn.QUARTILE.INC($K$10:$K$29,3)-_xlfn.QUARTILE.INC($K$10:$K$29,1))),"Não","Sim"),"")
L29: =IF(ISNUMBER(K29),IF($L$32=$O$18,O29,IF($L$32=$P$18,P29,"")),"") | O29: =IF(ISNUMBER(K29),IF(OR(K29<_xlfn.QUARTILE.INC($K$10:$K$29,1)-1.5*(_xlfn.QUARTILE.INC($K$10:$K$29,3)-_xlfn.QUARTILE.INC($K$10:$K$29,1)),K29>_xlfn.QUARTILE.INC($K$10:$K$29,3)+1.5*(_xlfn.QUARTILE.INC($K$10:$K$29,3)-_xlfn.QUARTILE.INC($K$10:$K$29,1))),"Não","Sim"),"")
B30: Observações: | K30: Média: | L30: {=IF($L$32="","Selecione metodologia para exclusão de preços",AVERAGE(IF($L$10:$L$29="Sim",$K$10:$K$29)))} -> 9.63 | N30: Média (Cotações) | O30: {=IF(COUNTIF(O19:O29,"Sim")<3,"N/D (são necessários pelo menos 3 preços)",AVERAGE(IF(O19:O29="Sim",$K19:$K29)))} -> N/D (são necessários pelo menos 3 preços) | P30: {=IF(COUNTIF(P19:P29,"Sim")<3,"N/D (são necessários pelo menos 3 preços)",AVERAGE(IF(P19:P29="Sim",$K19:$K29)))} -> N/D (são necessários pelo menos 3 preços)
K31: Mediana: | L31: {=IF($L$32="","Selecione metodologia para exclusão de preços",MEDIAN(IF($L$10:$L$29="Sim",$K$10:$K$29)))} -> 9.63 | N31: Mediana (Cotações) | O31: {=IF(COUNTIF(O19:O29,"Sim")<3,"N/D (são necessários pelo menos 3 preços)",MEDIAN(IF(O19:O29="Sim",$K19:$K29)))} -> N/D (são necessários pelo menos 3 preços) | P31: {=IF(COUNTIF(P19:P29,"Sim")<3,"N/D (são necessários pelo menos 3 preços)",MEDIAN(IF(P19:P29="Sim",$K19:$K29)))} -> N/D (são necessários pelo menos 3 preços)
B32: Metodologia de exclusão de preços adotada: | L32: =IF(O35="",INDEX(O18:P18,MATCH(MIN(#REF!),#REF!,0)),O35) -> Outliers | N32: CV (Cotações) | O32: {=IF(COUNTIF(O19:O29,"Sim")<3,"N/D (são necessários pelo menos 3 preços)",_xlfn.STDEV.S(IF(O19:O29="Sim",$K19:$K29))/AVERAGE(IF(O19:O29="Sim",$K19:$K29)))} -> N/D (são necessários pelo menos 3 preços) | P32: {=IF(COUNTIF(P19:P29,"Sim")<3,"N/D (são necessários pelo menos 3 preços)",_xlfn.STDEV.S(IF(P19:P29="Sim",$K19:$K29))/AVERAGE(IF(P19:P29="Sim",$K19:$K29)))} -> N/D (são necessários pelo menos 3 preços)
N33: Média | O33: {=IF(SUM(COUNTIF($O$10:$O$16,"Sim")) + SUM(COUNTIF(O19:O29,"Sim")) < 3, "N/D (são necessários pelo menos 3 preços)", IFERROR(AVERAGE(_xlfn._xlws.FILTER($K$10:$K$16,$O$10:$O$16="Sim"), _xlfn._xlws.FILTER($K$19:$K$29,O19:O29="Sim")),O30))} -> N/D (são necessários pelo menos 3 preços) | P33: {=IF(SUM(COUNTIF($P$10:$P$16,"Sim")) + SUM(COUNTIF(P19:P29,"Sim")) < 3, "N/D (são necessários pelo menos 3 preços)", IFERROR(AVERAGE(_xlfn._xlws.FILTER($K$10:$K$16,$P$10:$P$16="Sim"), _xlfn._xlws.FILTER($K$19:$K$29,P19:P29="Sim")),P30))} -> N/D (são necessários pelo menos 3 preços)
N34: Mediana | O34: {=IF(SUM(COUNTIF($O$10:$O$16,"Sim")) + SUM(COUNTIF(O19:O29,"Sim")) < 3, "N/D (são necessários pelo menos 3 preços)", IFERROR(MEDIAN(_xlfn._xlws.FILTER($K$10:$K$16,$O$10:$O$16="Sim"), _xlfn._xlws.FILTER($K$19:$K$29,O19:O29="Sim")),O31))} -> N/D (são necessários pelo menos 3 preços) | P34: {=IF(SUM(COUNTIF($P10:$P$16,"Sim")) + SUM(COUNTIF(P19:P29,"Sim")) < 3, "N/D (são necessários pelo menos 3 preços)", IFERROR(MEDIAN(_xlfn._xlws.FILTER($K$10:$K$16,$P$10:$P$16="Sim"), _xlfn._xlws.FILTER($K$19:$K$29,P19:P29="Sim")),P31))} -> N/D (são necessários pelo menos 3 preços)
B35: COSOLIDAÇÃO DOS PREÇOS | N35: Metodologia a adotar: | O35: {=IF(INDEX(O18:P18,P35)=0,"",INDEX(O18:P18,P35))} -> Outliers | P35: 1
B37: PREÇO UNITÁRIO ESTIMADO ADOTADO: | L37: =IF($B$39="Mediana:",L31,L30) -> 9.63
A39: =O18 -> Outliers | B39: Média:
A40: =P18 -> Por critério do(a) analista

Sheet COT ORÇAMENTO AÇO LAMINADO (2)
B2: Processo | C2: 59500.003753/2025-45
B3: Responsável | C3: AG/GCT/UCT
B4: Área de Origem | C4: AG/GCT/UCT
B5: Data da pesquisa | C5: 46092
B7: ITEM: | I7: UNIDADE DE MEDIDA: | J7: KG | K7: QUANTIDADE: | L7: 320 | O7: Tabela auxiliar de metodologias para exclusão de preços
B8: LICITAÇÕES ANTERIORES | O8: Licitações Anteriores
B9: Órgão | C9: Edital/Ano - Nº do Lote / Item | D9: Quantidade | E9: Valor Unitário | F9: Data | G9: índice de atualização (nome) | H9: I0 | I9: If | J9: Variação acumulada do índice (%) | K9: Preço unitário atualizado | L9: Utilizar? (Sim/Não) | O9: Outliers | P9: Por critério do(a) analista
J10: =IF(ISBLANK(E10),"",IF(ISNUMBER(H10),(I10-H10)/H10,0)) | K10: =IF(ISBLANK(E10),"",E10*(1+J10)) | L10: =IF(ISNUMBER(K10),IF($L$32<>$P$9,O10,P10),"") | O10: =IF(ISNUMBER(K10),IF(OR(K10<_xlfn.QUARTILE.INC($K$10:$K$29,1)-1.5*(_xlfn.QUARTILE.INC($K$10:K29,3)-_xlfn.QUARTILE.INC($K$10:$K$29,1)),K10>_xlfn.QUARTILE.INC($K$10:$K$29,3)+1.5*(_xlfn.QUARTILE.INC($K$10:$K$29,3)-_xlfn.QUARTILE.INC($K$10:$K$29,1))),"Não","Sim"),"")
J11: =IF(ISBLANK(E11),"",IF(ISNUMBER(H11),(I11-H11)/H11,0)) | K11: =IF(ISBLANK(E11),"",E11*(1+J11)) | L11: =IF(ISNUMBER(K11),IF($L$32<>$P$9,O11,P11),"") | O11: =IF(ISNUMBER(K11),IF(OR(K11<_xlfn.QUARTILE.INC($K$10:$K$29,1)-1.5*(_xlfn.QUARTILE.INC($K$10:K29,3)-_xlfn.QUARTILE.INC($K$10:$K$29,1)),K11>_xlfn.QUARTILE.INC($K$10:$K$29,3)+1.5*(_xlfn.QUARTILE.INC($K$10:$K$29,3)-_xlfn.QUARTILE.INC($K$10:$K$29,1))),"Não","Sim"),"")
